Workbook

Sheet April 18
C1: Schools April 18
A4: SCALE / | B4: BASIC | C4: TOTAL | D4: MONTHLY | E4: WEEKLY | F4: HOURLY | G4: HOURLY
A5: SPINAL | B5: SALARY | C5: SALARY | D5: SALARY | E5: SALARY | F5: RATE | G5: RATE
A6: POINT | C6: RBWM | D6: RBWM | E6: RBWM | F6: RBWM | G6: (inc. hol)
A7: SCALE 2 | B7: £ | C7: £ | D7: £ | E7: £ | F7: £ | G7: £
A8: 6 | B8: 16394 | C8: =ROUND((B8*1.075),0) -> 17624 | D8: =C8/12 -> 1468.6667 | E8: =SUM(C8/52.143) -> 337.99359 | F8: =SUM($C8/52.143)/37 -> 9.134962 | G8: =SUM($C8/52.143)/37*1.1381 -> 10.3965
A9: 7 | B9: 16495 | C9: =ROUND((B9*1.075),0) -> 17732 | D9: =C9/12 -> 1477.6667 | E9: =SUM(C9/52.143) -> 340.06482 | F9: =SUM($C9/52.143)/37 -> 9.1909411 | G9: =SUM($C9/52.143)/37*1.1381 -> 10.46021
A10: 8 | B10: 16626 | C10: =ROUND((B10*1.075),0) -> 17873 | D10: =C10/12 -> 1489.4167 | E10: =SUM(C10/52.143) -> 342.76892 | F10: =SUM($C10/52.143)/37 -> 9.264025 | G10: =SUM($C10/52.143)/37*1.1381 -> 10.543387
A11: 9 | B11: 16755 | C11: =ROUND((B11*1.075),0) -> 18012 | D11: =C11/12 -> 1501 | E11: =SUM(C11/52.143) -> 345.43467 | F11: =SUM($C11/52.143)/37 -> 9.3360722 | G11: =SUM($C11/52.143)/37*1.1381 -> 10.625384
A12: 10 | B12: 16863 | C12: =ROUND((B12*1.075),0) -> 18128 | D12: =C12/12 -> 1510.6667 | E12: =SUM(C12/52.143) -> 347.65932 | F12: =SUM($C12/52.143)/37 -> 9.3961979 | G12: =SUM($C12/52.143)/37*1.1381 -> 10.693813
A13: 11 | B13: 17007 | C13: =ROUND((B13*1.075),0) -> 18283 | D13: =C13/12 -> 1523.5833 | E13: =SUM(C13/52.143) -> 350.63192 | F13: =SUM($C13/52.143)/37 -> 9.4765383 | G13: =SUM($C13/52.143)/37*1.1381 -> 10.785248
A14: 11 | B14: =B13 -> 17007 | C14: =ROUND((B14*1.075),0) -> 18283 | D14: =C14/12 -> 1523.5833 | E14: =SUM(C14/52.143) -> 350.63192 | F14: =SUM($C14/52.143)/37 -> 9.4765383 | G14: =SUM($C14/52.143)/37*1.1381 -> 10.785248
A15: 12 | B15: 17173 | C15: =ROUND((B15*1.075),0) -> 18461 | D15: =C15/12 -> 1538.4167 | E15: =SUM(C15/52.143) -> 354.04561 | F15: =SUM($C15/52.143)/37 -> 9.5688001 | G15: =SUM($C15/52.143)/37*1.1381 -> 10.890251
A16: 13 | B16: 17391 | C16: =ROUND((B16*1.075),0) -> 18695 | D16: =C16/12 -> 1557.9167 | E16: =SUM(C16/52.143) -> 358.53326 | F16: =SUM($C16/52.143)/37 -> 9.6900882 | G16: =SUM($C16/52.143)/37*1.1381 -> 11.028289
A17: SCALE 3
A18: 14 | B18: 17681 | C18: =ROUND((B18*1.075),0) -> 19007 | D18: =C18/12 -> 1583.9167 | E18: =SUM(C18/52.143) -> 364.51681 | F18: =SUM($C18/52.143)/37 -> 9.8518057 | G18: =SUM($C18/52.143)/37*1.1381 -> 11.21234
A19: 15 | B19: 17972 | C19: =ROUND((B19*1.075),0) -> 19320 | D19: =C19/12 -> 1610 | E19: =SUM(C19/52.143) -> 370.51953 | F19: =SUM($C19/52.143)/37 -> 10.014041 | G19: =SUM($C19/52.143)/37*1.1381 -> 11.396981
A20: 16 | B20: 18319 | C20: =ROUND((B20*1.075),0) -> 19693 | D20: =C20/12 -> 1641.0833 | E20: =SUM(C20/52.143) -> 377.67294 | F20: =SUM($C20/52.143)/37 -> 10.207377 | G20: =SUM($C20/52.143)/37*1.1381 -> 11.617015
A21: 17 | B21: 18672 | C21: =ROUND((B21*1.075),0) -> 20072 | D21: =C21/12 -> 1672.6667 | E21: =SUM(C21/52.143) -> 384.94141 | F21: =SUM($C21/52.143)/37 -> 10.403822 | G21: =SUM($C21/52.143)/37*1.1381 -> 11.84059
A22: SCALE 4
A23: 18 | B23: 18870 | C23: =ROUND((B23*1.075),0) -> 20285 | D23: =C23/12 -> 1690.4167 | E23: =SUM(C23/52.143) -> 389.02633 | F23: =SUM($C23/52.143)/37 -> 10.514225 | G23: =SUM($C23/52.143)/37*1.1381 -> 11.96624
A24: 19 | B24: 19446 | C24: =ROUND((B24*1.075),0) -> 20904 | D24: =C24/12 -> 1742 | E24: =SUM(C24/52.143) -> 400.89753 | F24: =SUM($C24/52.143)/37 -> 10.835068 | G24: =SUM($C24/52.143)/37*1.1381 -> 12.331391
A25: 20 | B25: 19819 | C25: =ROUND((B25*1.075),0) -> 21305 | D25: =C25/12 -> 1775.4167 | E25: =SUM(C25/52.143) -> 408.58792 | F25: =SUM($C25/52.143)/37 -> 11.042917 | G25: =SUM($C25/52.143)/37*1.1381 -> 12.567944
A26: 21 | B26: 20541 | C26: =ROUND((B26*1.075),0) -> 22082 | D26: =C26/12 -> 1840.1667 | E26: =SUM(C26/52.143) -> 423.48925 | F26: =SUM($C26/52.143)/37 -> 11.445655 | G26: =SUM($C26/52.143)/37*1.1381 -> 13.0263
A27: SCALE 5
A28: 22 | B28: 21074 | C28: =ROUND((B28*1.075),0) -> 22655 | D28: =C28/12 -> 1887.9167 | E28: =SUM(C28/52.143) -> 434.47826 | F28: =SUM($C28/52.143)/37 -> 11.742656 | G28: =SUM($C28/52.143)/37*1.1381 -> 13.364316
A29: 23 | B29: 21693 | C29: =ROUND((B29*1.075),0) -> 23320 | D29: =C29/12 -> 1943.3333 | E29: =SUM(C29/52.143) -> 447.23165 | F29: =SUM($C29/52.143)/37 -> 12.087342 | G29: =SUM($C29/52.143)/37*1.1381 -> 13.756604
A30: 24 | B30: 22401 | C30: =ROUND((B30*1.075),0) -> 24081 | D30: =C30/12 -> 2006.75 | E30: =SUM(C30/52.143) -> 461.82613 | F30: =SUM($C30/52.143)/37 -> 12.481787 | G30: =SUM($C30/52.143)/37*1.1381 -> 14.205522
A31: 25 | B31: 23111 | C31: =ROUND((B31*1.075),0) -> 24844 | D31: =C31/12 -> 2070.3333 | E31: =SUM(C31/52.143) -> 476.45897 | F31: =SUM($C31/52.143)/37 -> 12.877269 | G31: =SUM($C31/52.143)/37*1.1381 -> 14.65562
A32: SCALE 6
A33: 26 | B33: 23866 | C33: =ROUND((B33*1.075),0) -> 25656 | D33: =C33/12 -> 2138 | E33: =SUM(C33/52.143) -> 492.03153 | F33: =SUM($C33/52.143)/37 -> 13.298149 | G33: =SUM($C33/52.143)/37*1.1381 -> 15.134624
A34: 27 | B34: 24657 | C34: =ROUND((B34*1.075),0) -> 26506 | D34: =C34/12 -> 2208.8333 | E34: =SUM(C34/52.143) -> 508.33285 | F34: =SUM($C34/52.143)/37 -> 13.738726 | G34: =SUM($C34/52.143)/37*1.1381 -> 15.636044
A35: 28 | B35: 25463 | C35: =ROUND((B35*1.075),0) -> 27373 | D35: =C35/12 -> 2281.0833 | E35: =SUM(C35/52.143) -> 524.96021 | F35: =SUM($C35/52.143)/37 -> 14.188114 | G35: =SUM($C35/52.143)/37*1.1381 -> 16.147492
B37: Scp 19 | C37: OFA | D37: Total Annual | F37: Hourly | G37: Inc Hols
A38: Midday Supervisors | B38: =B24 -> 19446 | C38: 597 | D38: =B38+C38 -> 20043 | F38: =SUM(B38+C38)/37/52.143 -> 10.38879 | G38: =D38/52.143/37*1.1381 -> 11.823482
A40: CAR ALLOWANCES
A42: All casuals are paid same rate, irrespective of car cubic capacity.
A44: USER | B44: Miles per annum | D44: All cc's
D45: pence per mile
A47: Casual | B47: Up to | C47: 10000 | D47: 45
...

Sheet April 19
D1: Schools April 19 | L1: Schools April 19
A2: Old pay spine 2018 | B2: New pay spine 2019
A4: SCALE / | B4: SCALE / | C4: BASIC | D4: TOTAL | E4: MONTHLY | F4: WEEKLY | G4: HOURLY | H4: HOURLY | J4: NEW PAY SPINE 2019 | K4: Basic salary | L4: Total RBWM salary | M4: MONTHLY | N4: WEEKLY | O4: HOURLY | P4: HOURLY
A5: SPINAL | B5: NEW SPINAL | C5: SALARY | D5: SALARY | E5: SALARY | F5: SALARY | G5: RATE | H5: RATE | M5: SALARY | N5: SALARY | O5: RATE | P5: RATE
A6: POINT | B6: POINT | D6: RBWM | E6: RBWM | F6: RBWM | G6: RBWM | H6: (inc. hol) | M6: RBWM | N6: RBWM | O6: RBWM | P6: (inc. hol)
A7: SCALE 2 | B7: SCALE 2, a | C7: £ | D7: £ | E7: £ | F7: £ | G7: £ | H7: £ | J7: 1 | K7: =C8 -> 17364 | L7: =D8 -> 18666 | M7: =L7/12 -> 1555.5 | N7: =SUM(L7/52.143) -> 357.9771 | O7: =SUM($L7/52.143)/37 -> 9.6750568 | P7: =SUM($L7/52.143)/37*1.1381 -> 11.011182
A8: 6 | B8: 1 | C8: 17364 | D8: =ROUND((C8*1.075),0) -> 18666 | E8: =D8/12 -> 1555.5 | F8: =SUM(D8/52.143) -> 357.9771 | G8: =SUM($D8/52.143)/37 -> 9.6750568 | H8: =SUM($D8/52.143)/37*1.1381 -> 11.011182 | I8: =C8*102.75% -> 17841.51 | J8: 2 | K8: =C12 -> 17711 | L8: =D12 -> 19039 | M8: =L8/12 -> 1586.5833 | N8: =SUM(L8/52.143) -> 365.13051 | O8: =SUM($L8/52.143)/37 -> 9.8683921 | P8: =SUM($L8/52.143)/37*1.1381 -> 11.231217
A9: 7 | B9: 1 | I9: =C9*102.75% -> 0 | J9: 3 | K9: =C14 -> 18065 | L9: =D14 -> 19420 | M9: =L9/12 -> 1618.3333 | N9: =SUM(L9/52.143) -> 372.43734 | O9: =SUM($L9/52.143)/37 -> 10.065874 | P9: =SUM($L9/52.143)/37*1.1381 -> 11.455971
A10: 8 | B10: 2 | C10: =C12 -> 17711 | D10: =D12 -> 19039 | E10: =E12 -> 1586.5833 | F10: =F12 -> 365.13051 | G10: =G12 -> 9.8683921 | H10: =H12 -> 11.231217 | I10: =C10*102.75% -> 18198.053 | J10: 4 | K10: =C18 -> 18426 | L10: =D18 -> 19808 | M10: =L10/12 -> 1650.6667 | N10: =SUM(L10/52.143) -> 379.87841 | O10: =SUM($L10/52.143)/37 -> 10.266984 | P10: =SUM($L10/52.143)/37*1.1381 -> 11.684855
B11: SCALE 2, b | I11: =C11*102.75% -> 0 | J11: 5 | K11: =C20 -> 18795 | L11: =D20 -> 20205 | M11: =L11/12 -> 1683.75 | N11: =SUM(L11/52.143) -> 387.49209 | O11: =SUM($L11/52.143)/37 -> 10.472759 | P11: =SUM($L11/52.143)/37*1.1381 -> 11.919047
A12: 9 | B12: 2 | C12: 17711 | D12: =ROUND((C12*1.075),0) -> 19039 | E12: =D12/12 -> 1586.5833 | F12: =SUM(D12/52.143) -> 365.13051 | G12: =SUM($D12/52.143)/37 -> 9.8683921 | H12: =SUM($D12/52.143)/37*1.1381 -> 11.231217 | I12: =C12*102.75% -> 18198.053 | J12: 6 | K12: =C23 -> 19171 | L12: =D23 -> 20609 | M12: =L12/12 -> 1717.4167 | N12: =SUM(L12/52.143) -> 395.24001 | O12: =SUM($L12/52.143)/37 -> 10.682163 | P12: =SUM($L12/52.143)/37*1.1381 -> 12.157369
A13: 10 | B13: 3 | I13: =C13*102.75% -> 0 | J13: 7 | K13: =C25 -> 19554 | L13: =D25 -> 21021 | M13: =L13/12 -> 1751.75 | N13: =SUM(L13/52.143) -> 403.14136 | O13: =SUM($L13/52.143)/37 -> 10.895712 | P13: =SUM($L13/52.143)/37*1.1381 -> 12.40041
A14: 11 | B14: 3 | C14: 18065 | D14: =ROUND((C14*1.075),0) -> 19420 | E14: =D14/12 -> 1618.3333 | F14: =SUM(D14/52.143) -> 372.43734 | G14: =SUM($D14/52.143)/37 -> 10.065874 | H14: =SUM($D14/52.143)/37*1.1381 -> 11.455971 | I14: =C14*102.75% -> 18561.788 | J14: 8 | K14: =C26 -> 19945 | L14: =D26 -> 21441 | M14: =L14/12 -> 1786.75 | N14: =SUM(L14/52.143) -> 411.19613 | O14: =SUM($L14/52.143)/37 -> 11.113409 | P14: =SUM($L14/52.143)/37*1.1381 -> 12.648171
B15: SCALE 2, c | I15: =C15*102.75% -> 0 | J15: 9 | K15: =C27 -> 20344 | L15: =D27 -> 21870 | M15: =L15/12 -> 1822.5 | N15: =SUM(L15/52.143) -> 419.42351 | O15: =SUM($L15/52.143)/37 -> 11.33577 | P15: =SUM($L15/52.143)/37*1.1381 -> 12.90124
A16: 11 | B16: 3 | C16: =C14 -> 18065 | D16: =D14 -> 19420 | E16: =E14 -> 1618.3333 | F16: =F14 -> 372.43734 | G16: =G14 -> 10.065874 | H16: =H14 -> 11.455971 | I16: =C16*102.75% -> 18561.788 | J16: 10 | K16: =C28 -> 20751 | L16: =D28 -> 22307 | M16: =L16/12 -> 1858.9167 | N16: =SUM(L16/52.143) -> 427.80431 | O16: =SUM($L16/52.143)/37 -> 11.562279 | P16: =SUM($L16/52.143)/37*1.1381 -> 13.159029
A17: 12 | B17: 4 | I17: =C17*102.75% -> 0 | J17: 11 | K17: =C29 -> 21166 | L17: =D29 -> 22753 | M17: =L17/12 -> 1896.0833 | N17: =SUM(L17/52.143) -> 436.35771 | O17: =SUM($L17/52.143)/37 -> 11.793452 | P17: =SUM($L17/52.143)/37*1.1381 -> 13.422127
A18: 13 | B18: 4 | C18: 18426 | D18: =ROUND((C18*1.075),0) -> 19808 | E18: =D18/12 -> 1650.6667 | F18: =SUM(D18/52.143) -> 379.87841 | G18: =SUM($D18/52.143)/37 -> 10.266984 | H18: =SUM($D18/52.143)/37*1.1381 -> 11.684855 | I18: =C18*102.75% -> 18932.715 | J18: 12 | K18: =C31 -> 21589 | L18: =D31 -> 23208 | M18: =L18/12 -> 1934 | N18: =SUM(L18/52.143) -> 445.08371 | O18: =SUM($L18/52.143)/37 -> 12.02929 | P18: =SUM($L18/52.143)/37*1.1381 -> 13.690534
A19: SCALE 3 | B19: SCALE 3 | I19: =C19*102.75% -> 0 | J19: 13 | K19: =C32 -> 22021 | L19: =D32 -> 23673 | M19: =L19/12 -> 1972.75 | N19: =SUM(L19/52.143) -> 454.0015 | O19: =SUM($L19/52.143)/37 -> 12.270311 | P19: =SUM($L19/52.143)/37*1.1381 -> 13.964841
A20: 14 | B20: 5 | C20: 18795 | D20: =ROUND((C20*1.075),0) -> 20205 | E20: =D20/12 -> 1683.75 | F20: =SUM(D20/52.143) -> 387.49209 | G20: =SUM($D20/52.143)/37 -> 10.472759 | H20: =SUM($D20/52.143)/37*1.1381 -> 11.919047 | I20: =C20*102.75% -> 19311.863 | J20: 14 | K20: =C33 -> 22462 | L20: =D33 -> 24147 | M20: =L20/12 -> 2012.25 | N20: =SUM(L20/52.143) -> 463.09188 | O20: =SUM($L20/52.143)/37 -> 12.515997 | P20: =SUM($L20/52.143)/37*1.1381 -> 14.244456
A21: 15 | B21: 5 | I21: =C21*102.75% -> 0 | J21: 15 | K21: =C34 -> 22911 | L21: =D34 -> 24629 | M21: =L21/12 -> 2052.4167 | N21: =SUM(L21/52.143) -> 472.33569 | O21: =SUM($L21/52.143)/37 -> 12.76583 | P21: =SUM($L21/52.143)/37*1.1381 -> 14.528791
A22: 16 | B22: 6 | I22: =C22*102.75% -> 0 | J22: 16 | K22: =C35 -> 23369 | L22: =D35 -> 25122 | M22: =L22/12 -> 2093.5 | N22: =SUM(L22/52.143) -> 481.79046 | O22: =SUM($L22/52.143)/37 -> 13.021364 | P22: =SUM($L22/52.143)/37*1.1381 -> 14.819614
A23: 17 | B23: 6 | C23: 19171 | D23: =ROUND((C23*1.075),0) -> 20609 | E23: =D23/12 -> 1717.4167 | F23: =SUM(D23/52.143) -> 395.24001 | G23: =SUM($D23/52.143)/37 -> 10.682163 | H23: =SUM($D23/52.143)/37*1.1381 -> 12.157369 | I23: =C23*102.75% -> 19698.203 | J23: 17 | K23: =C36 -> 23836 | L23: =D36 -> 25624 | M23: =L23/12 -> 2135.3333 | N23: =SUM(L23/52.143) -> 491.41783 | O23: =SUM($L23/52.143)/37 -> 13.281563 | P23: =SUM($L23/52.143)/37*1.1381 -> 15.115747
A24: SCALE 4 | B24: SCALE 4 | I24: =C24*102.75% -> #VALUE! | J24: 18 | K24: =C38 -> 24313 | L24: =D38 -> 26136 | M24: =L24/12 -> 2178 | N24: =SUM(L24/52.143) -> 501.23698 | O24: =SUM($L24/52.143)/37 -> 13.546945 | P24: =SUM($L24/52.143)/37*1.1381 -> 15.417779
A25: 18 | B25: 7 | C25: 19554 | D25: =ROUND((C25*1.075),0) -> 21021 | E25: =D25/12 -> 1751.75 | F25: =SUM(D25/52.143) -> 403.14136 | G25: =SUM($D25/52.143)/37 -> 10.895712 | H25: =SUM($D25/52.143)/37*1.1381 -> 12.40041 | I25: =C25*102.75% -> 20091.735 | J25: 19 | K25: =C39 -> 24799 | L25: =D39 -> 26659 | M25: =L25/12 -> 2221.5833 | N25: =SUM(L25/52.143) -> 511.26709 | O25: =SUM($L25/52.143)/37 -> 13.81803 | P25: =SUM($L25/52.143)/37*1.1381 -> 15.726299
A26: 19 | B26: 8 | C26: 19945 | D26: =ROUND((C26*1.075),0) -> 21441 | E26: =D26/12 -> 1786.75 | F26: =SUM(D26/52.143) -> 411.19613 | G26: =SUM($D26/52.143)/37 -> 11.113409 | H26: =SUM($D26/52.143)/37*1.1381 -> 12.648171 | I26: =C26*102.75% -> 20493.488 | J26: 20 | K26: =C40 -> 25295 | L26: =D40 -> 27192 | M26: =L26/12 -> 2266 | N26: =SUM(L26/52.143) -> 521.48898 | O26: =SUM($L26/52.143)/37 -> 14.094297 | P26: =SUM($L26/52.143)/37*1.1381 -> 16.040719
A27: 20 | B27: 9 | C27: 20344 | D27: =ROUND((C27*1.075),0) -> 21870 | E27: =D27/12 -> 1822.5 | F27: =SUM(D27/52.143) -> 419.42351 | G27: =SUM($D27/52.143)/37 -> 11.33577 | H27: =SUM($D27/52.143)/37*1.1381 -> 12.90124 | I27: =C27*102.75% -> 20903.46 | J27: 21 | K27: =C41 -> 25801 | L27: =D41 -> 27736 | M27: =L27/12 -> 2311.3333 | N27: =SUM(L27/52.143) -> 531.92183 | O27: =SUM($L27/52.143)/37 -> 14.376266 | P27: =SUM($L27/52.143)/37*1.1381 -> 16.361628
B28: 10 | C28: 20751 | D28: =ROUND((C28*1.075),0) -> 22307 | E28: =D28/12 -> 1858.9167 | F28: =SUM(D28/52.143) -> 427.80431 | G28: =SUM($D28/52.143)/37 -> 11.562279 | H28: =SUM($D28/52.143)/37*1.1381 -> 13.159029 | I28: =C28*102.75% -> 21321.653 | J28: 22 | K28: =C42 -> 26317 | L28: =D42 -> 28291 | M28: =L28/12 -> 2357.5833 | N28: =SUM(L28/52.143) -> 542.56564 | O28: =SUM($L28/52.143)/37 -> 14.663936 | P28: =SUM($L28/52.143)/37*1.1381 -> 16.689026
A29: 21 | B29: 11 | C29: 21166 | D29: =ROUND((C29*1.075),0) -> 22753 | E29: =D29/12 -> 1896.0833 | F29: =SUM(D29/52.143) -> 436.35771 | G29: =SUM($D29/52.143)/37 -> 11.793452 | H29: =SUM($D29/52.143)/37*1.1381 -> 13.422127 | I29: =C29*102.75% -> 21748.065
A30: SCALE 5 | B30: SCALE 5 | I30: =C30*102.75% -> 0
A31: 22 | B31: 12 | C31: 21589 | D31: =ROUND((C31*1.075),0) -> 23208 | E31: =D31/12 -> 1934 | F31: =SUM(D31/52.143) -> 445.08371 | G31: =SUM($D31/52.143)/37 -> 12.02929 | H31: =SUM($D31/52.143)/37*1.1381 -> 13.690534 | I31: =C31*102.75% -> 22182.698
B32: 13 | C32: 22021 | D32: =ROUND((C32*1.075),0) -> 23673 | E32: =D32/12 -> 1972.75 | F32: =SUM(D32/52.143) -> 454.0015 | G32: =SUM($D32/52.143)/37 -> 12.270311 | H32: =SUM($D32/52.143)/37*1.1381 -> 13.964841 | I32: =C32*102.75% -> 22626.578
A33: 23 | B33: 14 | C33: 22462 | D33: =ROUND((C33*1.075),0) -> 24147 | E33: =D33/12 -> 2012.25 | F33: =SUM(D33/52.143) -> 463.09188 | G33: =SUM($D33/52.143)/37 -> 12.515997 | H33: =SUM($D33/52.143)/37*1.1381 -> 14.244456 | I33: =C33*102.75% -> 23079.705
A34: 24 | B34: 15 | C34: 22911 | D34: =ROUND((C34*1.075),0) -> 24629 | E34: =D34/12 -> 2052.4167 | F34: =SUM(D34/52.143) -> 472.33569 | G34: =SUM($D34/52.143)/37 -> 12.76583 | H34: =SUM($D34/52.143)/37*1.1381 -> 14.528791 | I34: =C34*102.75% -> 23541.053
B35: 16 | C35: 23369 | D35: =ROUND((C35*1.075),0) -> 25122 | E35: =D35/12 -> 2093.5 | F35: =SUM(D35/52.143) -> 481.79046 | G35: =SUM($D35/52.143)/37 -> 13.021364 | H35: =SUM($D35/52.143)/37*1.1381 -> 14.819614 | I35: =C35*102.75% -> 24011.648
A36: 25 | B36: 17 | C36: 23836 | D36: =ROUND((C36*1.075),0) -> 25624 | E36: =D36/12 -> 2135.3333 | F36: =SUM(D36/52.143) -> 491.41783 | G36: =SUM($D36/52.143)/37 -> 13.281563 | H36: =SUM($D36/52.143)/37*1.1381 -> 15.115747 | I36: =C36*102.75% -> 24491.49
A37: SCALE 6 | B37: SCALE 6 | I37: =C37*102.75% -> 0
B38: 18 | C38: 24313 | D38: =ROUND((C38*1.075),0) -> 26136 | E38: =D38/12 -> 2178 | F38: =SUM(D38/52.143) -> 501.23698 | G38: =SUM($D38/52.143)/37 -> 13.546945 | H38: =SUM($D38/52.143)/37*1.1381 -> 15.417779 | I38: =C38*102.75% -> 24981.608
A39: 26 | B39: 19 | C39: 24799 | D39: =ROUND((C39*1.075),0) -> 26659 | E39: =D39/12 -> 2221.5833 | F39: =SUM(D39/52.143) -> 511.26709 | G39: =SUM($D39/52.143)/37 -> 13.81803 | H39: =SUM($D39/52.143)/37*1.1381 -> 15.726299 | I39: =C39*102.75% -> 25480.973
A40: 27 | B40: 20 | C40: 25295 | D40: =ROUND((C40*1.075),0) -> 27192 | E40: =D40/12 -> 2266 | F40: =SUM(D40/52.143) -> 521.48898 | G40: =SUM($D40/52.143)/37 -> 14.094297 | H40: =SUM($D40/52.143)/37*1.1381 -> 16.040719 | I40: =C40*102.75% -> 25990.613
B41: 21 | C41: 25801 | D41: =ROUND((C41*1.075),0) -> 27736 | E41: =D41/12 -> 2311.3333 | F41: =SUM(D41/52.143) -> 531.92183 | G41: =SUM($D41/52.143)/37 -> 14.376266 | H41: =SUM($D41/52.143)/37*1.1381 -> 16.361628 | I41: =C41*102.75% -> 26510.528
...

Sheet April 20
D1: Schools April 20 | G1: 2.75% increase
B4: SCALE / | C4: BASIC | D4: TOTAL | E4: MONTHLY | F4: WEEKLY | G4: HOURLY | H4: HOURLY
B5: NEW SPINAL | C5: SALARY | D5: SALARY | E5: SALARY | F5: SALARY | G5: RATE | H5: RATE
B6: POINT | D6: RBWM | E6: RBWM | F6: RBWM | G6: RBWM | H6: (inc. hol)
B7: SCALE 2, a | C7: £ | D7: £ | E7: £ | F7: £ | G7: £ | H7: £
B8: 1 | C8: 17842 | D8: =ROUND((C8*1.075),0) -> 19180 | E8: =D8/12 -> 1598.3333 | F8: =SUM(D8/52.143) -> 367.83461 | G8: =SUM($D8/52.143)/37 -> 9.9414759 | H8: =SUM($D8/52.143)/37*1.1381 -> 11.314394
B9: 2 | C9: 18198 | D9: =D11 -> 19563 | E9: =E11 -> 1630.25 | F9: =F11 -> 375.17979 | G9: =G11 -> 10.139994 | H9: =H11 -> 11.540328
B10: SCALE 2, b
B11: 2 | C11: 18198 | D11: =ROUND((C11*1.075),0) -> 19563 | E11: =D11/12 -> 1630.25 | F11: =SUM(D11/52.143) -> 375.17979 | G11: =SUM($D11/52.143)/37 -> 10.139994 | H11: =SUM($D11/52.143)/37*1.1381 -> 11.540328
B12: 3 | C12: 18562 | D12: =ROUND((C12*1.075),0) -> 19954 | E12: =D12/12 -> 1662.8333 | F12: =SUM(D12/52.143) -> 382.6784 | G12: =SUM($D12/52.143)/37 -> 10.34266 | H12: =SUM($D12/52.143)/37*1.1381 -> 11.770981
B13: SCALE 2, c
B14: 3 | C14: =C12 -> 18562 | D14: =D12 -> 19954 | E14: =E12 -> 1662.8333 | F14: =F12 -> 382.6784 | G14: =G12 -> 10.34266 | H14: =H12 -> 11.770981
B15: 4 | C15: 18933 | D15: =ROUND((C15*1.075),0) -> 20353 | E15: =D15/12 -> 1696.0833 | F15: =SUM(D15/52.143) -> 390.33044 | G15: =SUM($D15/52.143)/37 -> 10.549471 | H15: =SUM($D15/52.143)/37*1.1381 -> 12.006353
B16: SCALE 3
B17: 5 | C17: 19312 | D17: =ROUND((C17*1.075),0) -> 20760 | E17: =D17/12 -> 1730 | F17: =SUM(D17/52.143) -> 398.1359 | G17: =SUM($D17/52.143)/37 -> 10.76043 | H17: =SUM($D17/52.143)/37*1.1381 -> 12.246445
B18: 6 | C18: 19698 | D18: =ROUND((C18*1.075),0) -> 21175 | E18: =D18/12 -> 1764.5833 | F18: =SUM(D18/52.143) -> 406.09478 | G18: =SUM($D18/52.143)/37 -> 10.975535 | H18: =SUM($D18/52.143)/37*1.1381 -> 12.491256
B19: SCALE 4
B20: 7 | C20: 20092 | D20: =ROUND((C20*1.075),0) -> 21599 | E20: =D20/12 -> 1799.9167 | F20: =SUM(D20/52.143) -> 414.22626 | G20: =SUM($D20/52.143)/37 -> 11.195304 | H20: =SUM($D20/52.143)/37*1.1381 -> 12.741376
B21: 8 | C21: 20493 | D21: =ROUND((C21*1.075),0) -> 22030 | E21: =D21/12 -> 1835.8333 | F21: =SUM(D21/52.143) -> 422.49199 | G21: =SUM($D21/52.143)/37 -> 11.418703 | H21: =SUM($D21/52.143)/37*1.1381 -> 12.995625
B22: 9 | C22: 20903 | D22: =ROUND((C22*1.075),0) -> 22471 | E22: =D22/12 -> 1872.5833 | F22: =SUM(D22/52.143) -> 430.9495 | G22: =SUM($D22/52.143)/37 -> 11.647284 | H22: =SUM($D22/52.143)/37*1.1381 -> 13.255774
B23: 10 | C23: 21322 | D23: =ROUND((C23*1.075),0) -> 22921 | E23: =D23/12 -> 1910.0833 | F23: =SUM(D23/52.143) -> 439.57962 | G23: =SUM($D23/52.143)/37 -> 11.88053 | H23: =SUM($D23/52.143)/37*1.1381 -> 13.521231
B24: 11 | C24: 21748 | D24: =ROUND((C24*1.075),0) -> 23379 | E24: =D24/12 -> 1948.25 | F24: =SUM(D24/52.143) -> 448.36316 | G24: =SUM($D24/52.143)/37 -> 12.117923 | H24: =SUM($D24/52.143)/37*1.1381 -> 13.791408
B25: SCALE 5
B26: 12 | C26: 22183 | D26: =ROUND((C26*1.075),0) -> 23847 | E26: =D26/12 -> 1987.25 | F26: =SUM(D26/52.143) -> 457.33847 | G26: =SUM($D26/52.143)/37 -> 12.360499 | H26: =SUM($D26/52.143)/37*1.1381 -> 14.067484
B27: 13 | C27: 22627 | D27: =ROUND((C27*1.075),0) -> 24324 | E27: =D27/12 -> 2027 | F27: =SUM(D27/52.143) -> 466.48639 | G27: =SUM($D27/52.143)/37 -> 12.60774 | H27: =SUM($D27/52.143)/37*1.1381 -> 14.348869
B28: 14 | C28: 23080 | D28: =ROUND((C28*1.075),0) -> 24811 | E28: =D28/12 -> 2067.5833 | F28: =SUM(D28/52.143) -> 475.82609 | G28: =SUM($D28/52.143)/37 -> 12.860165 | H28: =SUM($D28/52.143)/37*1.1381 -> 14.636153
B29: 15 | C29: 23541 | D29: =ROUND((C29*1.075),0) -> 25307 | E29: =D29/12 -> 2108.9167 | F29: =SUM(D29/52.143) -> 485.3384 | G29: =SUM($D29/52.143)/37 -> 13.117254 | H29: =SUM($D29/52.143)/37*1.1381 -> 14.928747
B30: 16 | C30: 24012 | D30: =ROUND((C30*1.075),0) -> 25813 | E30: =D30/12 -> 2151.0833 | F30: =SUM(D30/52.143) -> 495.04248 | G30: =SUM($D30/52.143)/37 -> 13.379526 | H30: =SUM($D30/52.143)/37*1.1381 -> 15.227239
B31: 17 | C31: 24491 | D31: =ROUND((C31*1.075),0) -> 26328 | E31: =D31/12 -> 2194 | F31: =SUM(D31/52.143) -> 504.91916 | G31: =SUM($D31/52.143)/37 -> 13.646464 | H31: =SUM($D31/52.143)/37*1.1381 -> 15.531041
B32: SCALE 6
B33: 18 | C33: 24982 | D33: =ROUND((C33*1.075),0) -> 26856 | E33: =D33/12 -> 2238 | F33: =SUM(D33/52.143) -> 515.04516 | G33: =SUM($D33/52.143)/37 -> 13.92014 | H33: =SUM($D33/52.143)/37*1.1381 -> 15.842511
B34: 19 | C34: 25481 | D34: =ROUND((C34*1.075),0) -> 27392 | E34: =D34/12 -> 2282.6667 | F34: =SUM(D34/52.143) -> 525.32459 | G34: =SUM($D34/52.143)/37 -> 14.197962 | H34: =SUM($D34/52.143)/37*1.1381 -> 16.1587
B35: 20 | C35: 25991 | D35: =ROUND((C35*1.075),0) -> 27940 | E35: =D35/12 -> 2328.3333 | F35: =SUM(D35/52.143) -> 535.83415 | G35: =SUM($D35/52.143)/37 -> 14.482004 | H35: =SUM($D35/52.143)/37*1.1381 -> 16.481969
B36: 21 | C36: 26511 | D36: =ROUND((C36*1.075),0) -> 28499 | E36: =D36/12 -> 2374.9167 | F36: =SUM(D36/52.143) -> 546.55467 | G36: =SUM($D36/52.143)/37 -> 14.771748 | H36: =SUM($D36/52.143)/37*1.1381 -> 16.811726
B37: 22 | C37: 27041 | D37: =ROUND((C37*1.075),0) -> 29069 | E37: =D37/12 -> 2422.4167 | F37: =SUM(D37/52.143) -> 557.48614 | G37: =SUM($D37/52.143)/37 -> 15.067193 | H37: =SUM($D37/52.143)/37*1.1381 -> 17.147972
B39: Midday Supervisors | D39: OFA | E39: Total Annual | G39: Hourly | H39: Inc Hols
B40: 8 | C40: =C21 -> 20493 | D40: 626 | E40: =C40+D40 -> 21119 | G40: =SUM(C40+D40)/37/52.143 -> 10.946508 | H40: =E40/52.143/37*1.1381 -> 12.458221
A42: CAR ALLOWANCES
A44: All casual car users are paid same rate, irrespective of car cubic capacity.
A46: USER | B46: Miles per annum | D46: All cc's
...

Sheet April 21
D1: Schools April 21 | G1: 2.75% increase on point 1 and 1.75% increase on all other points
B4: SCALE / | C4: BASIC | D4: TOTAL | E4: MONTHLY | F4: WEEKLY | G4: HOURLY | H4: HOURLY
B5: NEW SPINAL | C5: SALARY | D5: SALARY | E5: SALARY | F5: SALARY | G5: RATE | H5: RATE
B6: POINT | D6: RBWM | E6: RBWM | F6: RBWM | G6: RBWM | H6: (inc. hol)
B7: SCALE 2, a | C7: £ | D7: £ | E7: £ | F7: £ | G7: £ | H7: £
B8: 1 | C8: 18333 | D8: =ROUND((C8*1.075),0) -> 19708 | E8: =D8/12 -> 1642.3333 | F8: =SUM(D8/52.143) -> 377.96061 | G8: =SUM($D8/52.143)/37 -> 10.215152 | H8: =SUM($D8/52.143)/37*1.1381 -> 11.625864
B9: 2 | C9: 18516 | D9: =D11 -> 19905 | E9: =E11 -> 1658.75 | F9: =F11 -> 381.73868 | G9: =G11 -> 10.317262 | H9: =H11 -> 11.742075
B10: SCALE 2, b
B11: 2 | C11: 18516 | D11: =ROUND((C11*1.075),0) -> 19905 | E11: =D11/12 -> 1658.75 | F11: =SUM(D11/52.143) -> 381.73868 | G11: =SUM($D11/52.143)/37 -> 10.317262 | H11: =SUM($D11/52.143)/37*1.1381 -> 11.742075
B12: 3 | C12: 18887 | D12: =ROUND((C12*1.075),0) -> 20304 | E12: =D12/12 -> 1692 | F12: =SUM(D12/52.143) -> 389.39071 | G12: =SUM($D12/52.143)/37 -> 10.524073 | H12: =SUM($D12/52.143)/37*1.1381 -> 11.977448
B13: SCALE 2, c
B14: 3 | C14: =C12 -> 18887 | D14: =D12 -> 20304 | E14: =E12 -> 1692 | F14: =F12 -> 389.39071 | G14: =G12 -> 10.524073 | H14: =H12 -> 11.977448
B15: 4 | C15: 19264 | D15: =ROUND((C15*1.075),0) -> 20709 | E15: =D15/12 -> 1725.75 | F15: =SUM(D15/52.143) -> 397.15782 | G15: =SUM($D15/52.143)/37 -> 10.733995 | H15: =SUM($D15/52.143)/37*1.1381 -> 12.21636
B16: SCALE 3
B17: 5 | C17: 19650 | D17: =ROUND((C17*1.075),0) -> 21124 | E17: =D17/12 -> 1760.3333 | F17: =SUM(D17/52.143) -> 405.1167 | G17: =SUM($D17/52.143)/37 -> 10.9491 | H17: =SUM($D17/52.143)/37*1.1381 -> 12.461171
B18: 6 | C18: 20043 | D18: =ROUND((C18*1.075),0) -> 21546 | E18: =D18/12 -> 1795.5 | F18: =SUM(D18/52.143) -> 413.20983 | G18: =SUM($D18/52.143)/37 -> 11.167833 | H18: =SUM($D18/52.143)/37*1.1381 -> 12.710111
B19: SCALE 4
B20: 7 | C20: 20444 | D20: =ROUND((C20*1.075),0) -> 21977 | E20: =D20/12 -> 1831.4167 | F20: =SUM(D20/52.143) -> 421.47556 | G20: =SUM($D20/52.143)/37 -> 11.391231 | H20: =SUM($D20/52.143)/37*1.1381 -> 12.96436
B21: 8 | C21: 20852 | D21: =ROUND((C21*1.075),0) -> 22416 | E21: =D21/12 -> 1868 | F21: =SUM(D21/52.143) -> 429.89471 | G21: =SUM($D21/52.143)/37 -> 11.618776 | H21: =SUM($D21/52.143)/37*1.1381 -> 13.223329
B22: 9 | C22: 21269 | D22: =ROUND((C22*1.075),0) -> 22864 | E22: =D22/12 -> 1905.3333 | F22: =SUM(D22/52.143) -> 438.48647 | G22: =SUM($D22/52.143)/37 -> 11.850986 | H22: =SUM($D22/52.143)/37*1.1381 -> 13.487607
B23: 10 | C23: 21695 | D23: =ROUND((C23*1.075),0) -> 23322 | E23: =D23/12 -> 1943.5 | F23: =SUM(D23/52.143) -> 447.27001 | G23: =SUM($D23/52.143)/37 -> 12.088379 | H23: =SUM($D23/52.143)/37*1.1381 -> 13.757784
B24: 11 | C24: 22129 | D24: =ROUND((C24*1.075),0) -> 23789 | E24: =D24/12 -> 1982.4167 | F24: =SUM(D24/52.143) -> 456.22615 | G24: =SUM($D24/52.143)/37 -> 12.330436 | H24: =SUM($D24/52.143)/37*1.1381 -> 14.03327
B25: SCALE 5
B26: 12 | C26: 22571 | D26: =ROUND((C26*1.075),0) -> 24264 | E26: =D26/12 -> 2022 | F26: =SUM(D26/52.143) -> 465.33571 | G26: =SUM($D26/52.143)/37 -> 12.576641 | H26: =SUM($D26/52.143)/37*1.1381 -> 14.313475
B27: 13 | C27: 23023 | D27: =ROUND((C27*1.075),0) -> 24750 | E27: =D27/12 -> 2062.5 | F27: =SUM(D27/52.143) -> 474.65623 | G27: =SUM($D27/52.143)/37 -> 12.828547 | H27: =SUM($D27/52.143)/37*1.1381 -> 14.600169
B28: 14 | C28: 23484 | D28: =ROUND((C28*1.075),0) -> 25245 | E28: =D28/12 -> 2103.75 | F28: =SUM(D28/52.143) -> 484.14936 | G28: =SUM($D28/52.143)/37 -> 13.085118 | H28: =SUM($D28/52.143)/37*1.1381 -> 14.892173
B29: 15 | C29: 23953 | D29: =ROUND((C29*1.075),0) -> 25749 | E29: =D29/12 -> 2145.75 | F29: =SUM(D29/52.143) -> 493.81509 | G29: =SUM($D29/52.143)/37 -> 13.346354 | H29: =SUM($D29/52.143)/37*1.1381 -> 15.189485
B30: 16 | C30: 24432 | D30: =ROUND((C30*1.075),0) -> 26264 | E30: =D30/12 -> 2188.6667 | F30: =SUM(D30/52.143) -> 503.69177 | G30: =SUM($D30/52.143)/37 -> 13.613291 | H30: =SUM($D30/52.143)/37*1.1381 -> 15.493287
B31: 17 | C31: 24920 | D31: =ROUND((C31*1.075),0) -> 26789 | E31: =D31/12 -> 2232.4167 | F31: =SUM(D31/52.143) -> 513.76024 | G31: =SUM($D31/52.143)/37 -> 13.885412 | H31: =SUM($D31/52.143)/37*1.1381 -> 15.802987
B32: SCALE 6
B33: 18 | C33: 25419 | D33: =ROUND((C33*1.075),0) -> 27325 | E33: =D33/12 -> 2277.0833 | F33: =SUM(D33/52.143) -> 524.03966 | G33: =SUM($D33/52.143)/37 -> 14.163234 | H33: =SUM($D33/52.143)/37*1.1381 -> 16.119177
B34: 19 | C34: 25927 | D34: =ROUND((C34*1.075),0) -> 27872 | E34: =D34/12 -> 2322.6667 | F34: =SUM(D34/52.143) -> 534.53004 | G34: =SUM($D34/52.143)/37 -> 14.446758 | H34: =SUM($D34/52.143)/37*1.1381 -> 16.441855
B35: 20 | C35: 26446 | D35: =ROUND((C35*1.075),0) -> 28429 | E35: =D35/12 -> 2369.0833 | F35: =SUM(D35/52.143) -> 545.2122 | G35: =SUM($D35/52.143)/37 -> 14.735465 | H35: =SUM($D35/52.143)/37*1.1381 -> 16.770433
B36: 21 | C36: 26975 | D36: =ROUND((C36*1.075),0) -> 28998 | E36: =D36/12 -> 2416.5 | F36: =SUM(D36/52.143) -> 556.1245 | G36: =SUM($D36/52.143)/37 -> 15.030392 | H36: =SUM($D36/52.143)/37*1.1381 -> 17.106089
B37: 22 | C37: 27514 | D37: =ROUND((C37*1.075),0) -> 29578 | E37: =D37/12 -> 2464.8333 | F37: =SUM(D37/52.143) -> 567.24776 | G37: =SUM($D37/52.143)/37 -> 15.331021 | H37: =SUM($D37/52.143)/37*1.1381 -> 17.448235
B39: Midday Supervisors | D39: OFA | E39: Total Annual | G39: Hourly | H39: Inc Hols
B40: 8 | C40: 20852 | D40: 637 | E40: =C40+D40 -> 21489 | G40: =SUM(C40+D40)/37/52.143 -> 11.138289 | H40: =E40/52.143/37*1.1381 -> 12.676486
A42: CAR ALLOWANCES
A44: All casual car users are paid same rate, irrespective of car cubic capacity.
A46: USER | B46: Miles per annum | D46: All cc's
...

Sheet April 22
D1: Schools April 22 | G1: £1,925 on all pay points and 4.04% on allowances
B4: SCALE / | C4: BASIC | D4: TOTAL | E4: MONTHLY | F4: WEEKLY | G4: HOURLY | H4: HOURLY
B5: NEW SPINAL | C5: SALARY | D5: SALARY | E5: SALARY | F5: SALARY | G5: RATE | H5: RATE
B6: POINT | D6: RBWM | E6: RBWM | F6: RBWM | G6: RBWM | H6: (inc. hol)
B7: SCALE 2, a | C7: £ | D7: £ | E7: £ | F7: £ | G7: £ | H7: £
A8: Point 1 to be deleted 1/4/23 | B8: 1 | C8: 20258 | D8: =ROUND((C8*1.075),0) -> 21777 | E8: =D8/12 -> 1814.75 | F8: =SUM(D8/52.143) -> 417.63995 | G8: =SUM($D8/52.143)/37 -> 11.287566 | H8: =SUM($D8/52.143)/37*1.1381 -> 12.846379
A9: Lunchtime controllers | B9: 2 | C9: 20441 | D9: =D11 -> 21974 | E9: =E11 -> 1831.1667 | F9: =F11 -> 421.41802 | G9: =G11 -> 11.389676 | H9: =H11 -> 12.962591
B10: SCALE 2, b
B11: 2 | C11: =C9 -> 20441 | D11: =ROUND((C11*1.075),0) -> 21974 | E11: =D11/12 -> 1831.1667 | F11: =SUM(D11/52.143) -> 421.41802 | G11: =SUM($D11/52.143)/37 -> 11.389676 | H11: =SUM($D11/52.143)/37*1.1381 -> 12.962591
B12: 3 | C12: 20812 | D12: =ROUND((C12*1.075),0) -> 22373 | E12: =D12/12 -> 1864.4167 | F12: =SUM(D12/52.143) -> 429.07006 | G12: =SUM($D12/52.143)/37 -> 11.596488 | H12: =SUM($D12/52.143)/37*1.1381 -> 13.197963
B13: SCALE 2, c
B14: 3 | C14: =C12 -> 20812 | D14: =D12 -> 22373 | E14: =E12 -> 1864.4167 | F14: =F12 -> 429.07006 | G14: =G12 -> 11.596488 | H14: =H12 -> 13.197963
B15: 4 | C15: 21189 | D15: =ROUND((C15*1.075),0) -> 22778 | E15: =D15/12 -> 1898.1667 | F15: =SUM(D15/52.143) -> 436.83716 | G15: =SUM($D15/52.143)/37 -> 11.80641 | H15: =SUM($D15/52.143)/37*1.1381 -> 13.436875
B16: SCALE 3
B17: 5 | C17: 21575 | D17: =ROUND((C17*1.075),0) -> 23193 | E17: =D17/12 -> 1932.75 | F17: =SUM(D17/52.143) -> 444.79604 | G17: =SUM($D17/52.143)/37 -> 12.021515 | H17: =SUM($D17/52.143)/37*1.1381 -> 13.681686
B18: 6 | C18: 21968 | D18: =ROUND((C18*1.075),0) -> 23616 | E18: =D18/12 -> 1968 | F18: =SUM(D18/52.143) -> 452.90835 | G18: =SUM($D18/52.143)/37 -> 12.240766 | H18: =SUM($D18/52.143)/37*1.1381 -> 13.931216
B19: SCALE 4
B20: 7 | C20: 22369 | D20: =ROUND((C20*1.075),0) -> 24047 | E20: =D20/12 -> 2003.9167 | F20: =SUM(D20/52.143) -> 461.17408 | G20: =SUM($D20/52.143)/37 -> 12.464164 | H20: =SUM($D20/52.143)/37*1.1381 -> 14.185465
B21: 8 | C21: 22777 | D21: =ROUND((C21*1.075),0) -> 24485 | E21: =D21/12 -> 2040.4167 | F21: =SUM(D21/52.143) -> 469.57406 | G21: =SUM($D21/52.143)/37 -> 12.691191 | H21: =SUM($D21/52.143)/37*1.1381 -> 14.443844
B22: 9 | C22: 23194 | D22: =ROUND((C22*1.075),0) -> 24934 | E22: =D22/12 -> 2077.8333 | F22: =SUM(D22/52.143) -> 478.18499 | G22: =SUM($D22/52.143)/37 -> 12.923919 | H22: =SUM($D22/52.143)/37*1.1381 -> 14.708712
B23: 10 | C23: 23620 | D23: =ROUND((C23*1.075),0) -> 25392 | E23: =D23/12 -> 2116 | F23: =SUM(D23/52.143) -> 486.96853 | G23: =SUM($D23/52.143)/37 -> 13.161312 | H23: =SUM($D23/52.143)/37*1.1381 -> 14.978889
B24: 11 | C24: 24054 | D24: =ROUND((C24*1.075),0) -> 25858 | E24: =D24/12 -> 2154.8333 | F24: =SUM(D24/52.143) -> 495.90549 | G24: =SUM($D24/52.143)/37 -> 13.402851 | H24: =SUM($D24/52.143)/37*1.1381 -> 15.253785
B25: SCALE 5
B26: 12 | C26: 24496 | D26: =ROUND((C26*1.075),0) -> 26333 | E26: =D26/12 -> 2194.4167 | F26: =SUM(D26/52.143) -> 505.01505 | G26: =SUM($D26/52.143)/37 -> 13.649056 | H26: =SUM($D26/52.143)/37*1.1381 -> 15.53399
B27: 13 | C27: 24948 | D27: =ROUND((C27*1.075),0) -> 26819 | E27: =D27/12 -> 2234.9167 | F27: =SUM(D27/52.143) -> 514.33558 | G27: =SUM($D27/52.143)/37 -> 13.900962 | H27: =SUM($D27/52.143)/37*1.1381 -> 15.820684
B28: 14 | C28: 25409 | D28: =ROUND((C28*1.075),0) -> 27315 | E28: =D28/12 -> 2276.25 | F28: =SUM(D28/52.143) -> 523.84788 | G28: =SUM($D28/52.143)/37 -> 14.158051 | H28: =SUM($D28/52.143)/37*1.1381 -> 16.113278
B29: 15 | C29: 25878 | D29: =ROUND((C29*1.075),0) -> 27819 | E29: =D29/12 -> 2318.25 | F29: =SUM(D29/52.143) -> 533.51361 | G29: =SUM($D29/52.143)/37 -> 14.419287 | H29: =SUM($D29/52.143)/37*1.1381 -> 16.41059
B30: 16 | C30: 26357 | D30: =ROUND((C30*1.075),0) -> 28334 | E30: =D30/12 -> 2361.1667 | F30: =SUM(D30/52.143) -> 543.39029 | G30: =SUM($D30/52.143)/37 -> 14.686224 | H30: =SUM($D30/52.143)/37*1.1381 -> 16.714392
B31: 17 | C31: 26845 | D31: =ROUND((C31*1.075),0) -> 28858 | E31: =D31/12 -> 2404.8333 | F31: =SUM(D31/52.143) -> 553.43958 | G31: =SUM($D31/52.143)/37 -> 14.957826 | H31: =SUM($D31/52.143)/37*1.1381 -> 17.023502
B32: SCALE 6
B33: 18 | C33: 27344 | D33: =ROUND((C33*1.075),0) -> 29395 | E33: =D33/12 -> 2449.5833 | F33: =SUM(D33/52.143) -> 563.73818 | G33: =SUM($D33/52.143)/37 -> 15.236167 | H33: =SUM($D33/52.143)/37*1.1381 -> 17.340282
B34: 19 | C34: 27852 | D34: =ROUND((C34*1.075),0) -> 29941 | E34: =D34/12 -> 2495.0833 | F34: =SUM(D34/52.143) -> 574.20939 | G34: =SUM($D34/52.143)/37 -> 15.519173 | H34: =SUM($D34/52.143)/37*1.1381 -> 17.66237
B35: 20 | C35: 28371 | D35: =ROUND((C35*1.075),0) -> 30499 | E35: =D35/12 -> 2541.5833 | F35: =SUM(D35/52.143) -> 584.91073 | G35: =SUM($D35/52.143)/37 -> 15.808398 | H35: =SUM($D35/52.143)/37*1.1381 -> 17.991538
B36: 21 | C36: 28900 | D36: =ROUND((C36*1.075),0) -> 31068 | E36: =D36/12 -> 2589 | F36: =SUM(D36/52.143) -> 595.82303 | G36: =SUM($D36/52.143)/37 -> 16.103325 | H36: =SUM($D36/52.143)/37*1.1381 -> 18.327194
B37: 22 | C37: 29439 | D37: =ROUND((C37*1.075),0) -> 31647 | E37: =D37/12 -> 2637.25 | F37: =SUM(D37/52.143) -> 606.9271 | G37: =SUM($D37/52.143)/37 -> 16.403435 | H37: =SUM($D37/52.143)/37*1.1381 -> 18.66875
B39: Midday Supervisors | D39: OFA | E39: Total Annual | G39: Hourly | H39: Inc Hols
B40: 8 | C40: =20852+1925 -> 22777 | D40: =637*1.0404 -> 662.7348 | E40: =C40+D40 -> 23439.735 | G40: =SUM(C40+D40)/37/52.143 -> 12.149403 | H40: =E40/52.143/37*1.1381 -> 13.827236
A42: CAR ALLOWANCES
A44: All casual car users are paid same rate, irrespective of car cubic capacity.
A46: USER | B46: Miles per annum | D46: All cc's
...

Sheet April 23
D1: Schools April 23 | G1: Agreed in Nov 23
J3: Pay points below £51,515 increased by £1,925
B4: SCALE / | C4: BASIC | D4: TOTAL | E4: MONTHLY | F4: WEEKLY | G4: HOURLY | H4: HOURLY | J4: Pay above £51,515 increased by 3.88%
B5: NEW SPINAL | C5: SALARY | D5: SALARY | E5: SALARY | F5: SALARY | G5: RATE | H5: RATE
B6: POINT | C6: NJC | D6: RBWM* | E6: RBWM | F6: RBWM | G6: RBWM | H6: (inc. hol)
B7: SCALE 2, a | C7: £ | D7: £ | E7: £ | F7: £ | G7: £ | H7: £
B9: 2 | C9: 22366 | D9: =D11 -> 24043 | E9: =E11 -> 2003.5833 | F9: =F11 -> 461.09737 | G9: =G11 -> 12.462091 | H9: =H11 -> 14.183106
B10: SCALE 2, b
B11: 2 | C11: =C9 -> 22366 | D11: =ROUND((C11*1.075),0) -> 24043 | E11: =D11/12 -> 2003.5833 | F11: =SUM(D11/52.143) -> 461.09737 | G11: =SUM($D11/52.143)/37 -> 12.462091 | H11: =SUM($D11/52.143)/37*1.1381 -> 14.183106
B12: 3 | C12: 22737 | D12: =ROUND((C12*1.075),0) -> 24442 | E12: =D12/12 -> 2036.8333 | F12: =SUM(D12/52.143) -> 468.7494 | G12: =SUM($D12/52.143)/37 -> 12.668903 | H12: =SUM($D12/52.143)/37*1.1381 -> 14.418478
B13: SCALE 2, c
B14: 3 | C14: =C12 -> 22737 | D14: =D12 -> 24442 | E14: =E12 -> 2036.8333 | F14: =F12 -> 468.7494 | G14: =G12 -> 12.668903 | H14: =H12 -> 14.418478
B15: 4 | C15: 23114 | D15: =ROUND((C15*1.075),0) -> 24848 | E15: =D15/12 -> 2070.6667 | F15: =SUM(D15/52.143) -> 476.53568 | G15: =SUM($D15/52.143)/37 -> 12.879343 | H15: =SUM($D15/52.143)/37*1.1381 -> 14.65798
B16: SCALE 3
B17: 5 | C17: 23500 | D17: =ROUND((C17*1.075),0) -> 25263 | E17: =D17/12 -> 2105.25 | F17: =SUM(D17/52.143) -> 484.49456 | G17: =SUM($D17/52.143)/37 -> 13.094448 | H17: =SUM($D17/52.143)/37*1.1381 -> 14.902791
B18: 6 | C18: 23893 | D18: =ROUND((C18*1.075),0) -> 25685 | E18: =D18/12 -> 2140.4167 | F18: =SUM(D18/52.143) -> 492.58769 | G18: =SUM($D18/52.143)/37 -> 13.313181 | H18: =SUM($D18/52.143)/37*1.1381 -> 15.151731
B19: SCALE 4
B20: 7 | C20: 24294 | D20: =ROUND((C20*1.075),0) -> 26116 | E20: =D20/12 -> 2176.3333 | F20: =SUM(D20/52.143) -> 500.85342 | G20: =SUM($D20/52.143)/37 -> 13.536579 | H20: =SUM($D20/52.143)/37*1.1381 -> 15.405981
B21: 8 | C21: 24702 | D21: =ROUND((C21*1.075),0) -> 26555 | E21: =D21/12 -> 2212.9167 | F21: =SUM(D21/52.143) -> 509.27258 | G21: =SUM($D21/52.143)/37 -> 13.764124 | H21: =SUM($D21/52.143)/37*1.1381 -> 15.664949
B22: 9 | C22: 25119 | D22: =ROUND((C22*1.075),0) -> 27003 | E22: =D22/12 -> 2250.25 | F22: =SUM(D22/52.143) -> 517.86433 | G22: =SUM($D22/52.143)/37 -> 13.996333 | H22: =SUM($D22/52.143)/37*1.1381 -> 15.929227
B23: 10 | C23: 25545 | D23: =ROUND((C23*1.075),0) -> 27461 | E23: =D23/12 -> 2288.4167 | F23: =SUM(D23/52.143) -> 526.64787 | G23: =SUM($D23/52.143)/37 -> 14.233726 | H23: =SUM($D23/52.143)/37*1.1381 -> 16.199404
B24: 11 | C24: 25979 | D24: =ROUND((C24*1.075),0) -> 27927 | E24: =D24/12 -> 2327.25 | F24: =SUM(D24/52.143) -> 535.58483 | G24: =SUM($D24/52.143)/37 -> 14.475266 | H24: =SUM($D24/52.143)/37*1.1381 -> 16.4743
B25: SCALE 5
B26: 12 | C26: 26421 | D26: =ROUND((C26*1.075),0) -> 28403 | E26: =D26/12 -> 2366.9167 | F26: =SUM(D26/52.143) -> 544.71358 | G26: =SUM($D26/52.143)/37 -> 14.721989 | H26: =SUM($D26/52.143)/37*1.1381 -> 16.755095
B27: 13 | C27: 26873 | D27: =ROUND((C27*1.075),0) -> 28888 | E27: =D27/12 -> 2407.3333 | F27: =SUM(D27/52.143) -> 554.01492 | G27: =SUM($D27/52.143)/37 -> 14.973376 | H27: =SUM($D27/52.143)/37*1.1381 -> 17.041199
B28: 14 | C28: 27334 | D28: =ROUND((C28*1.075),0) -> 29384 | E28: =D28/12 -> 2448.6667 | F28: =SUM(D28/52.143) -> 563.52722 | G28: =SUM($D28/52.143)/37 -> 15.230465 | H28: =SUM($D28/52.143)/37*1.1381 -> 17.333793
B29: 15 | C29: 27803 | D29: =ROUND((C29*1.075),0) -> 29888 | E29: =D29/12 -> 2490.6667 | F29: =SUM(D29/52.143) -> 573.19295 | G29: =SUM($D29/52.143)/37 -> 15.491701 | H29: =SUM($D29/52.143)/37*1.1381 -> 17.631105
B30: 16 | C30: 28282 | D30: =ROUND((C30*1.075),0) -> 30403 | E30: =D30/12 -> 2533.5833 | F30: =SUM(D30/52.143) -> 583.06964 | G30: =SUM($D30/52.143)/37 -> 15.758639 | H30: =SUM($D30/52.143)/37*1.1381 -> 17.934907
B31: 17 | C31: 28770 | D31: =ROUND((C31*1.075),0) -> 30928 | E31: =D31/12 -> 2577.3333 | F31: =SUM(D31/52.143) -> 593.1381 | G31: =SUM($D31/52.143)/37 -> 16.030759 | H31: =SUM($D31/52.143)/37*1.1381 -> 18.244607
B32: SCALE 6
B33: 18 | C33: 29269 | D33: =ROUND((C33*1.075),0) -> 31464 | E33: =D33/12 -> 2622 | F33: =SUM(D33/52.143) -> 603.41752 | G33: =SUM($D33/52.143)/37 -> 16.308582 | H33: =SUM($D33/52.143)/37*1.1381 -> 18.560797
B34: 19 | C34: 29777 | D34: =ROUND((C34*1.075),0) -> 32010 | E34: =D34/12 -> 2667.5 | F34: =SUM(D34/52.143) -> 613.88873 | G34: =SUM($D34/52.143)/37 -> 16.591587 | H34: =SUM($D34/52.143)/37*1.1381 -> 18.882885
B35: 20 | C35: 30296 | D35: =ROUND((C35*1.075),0) -> 32568 | E35: =D35/12 -> 2714 | F35: =SUM(D35/52.143) -> 624.59007 | G35: =SUM($D35/52.143)/37 -> 16.880813 | H35: =SUM($D35/52.143)/37*1.1381 -> 19.212053
B36: 21 | C36: 30825 | D36: =ROUND((C36*1.075),0) -> 33137 | E36: =D36/12 -> 2761.4167 | F36: =SUM(D36/52.143) -> 635.50237 | G36: =SUM($D36/52.143)/37 -> 17.17574 | H36: =SUM($D36/52.143)/37*1.1381 -> 19.547709
B37: 22 | C37: 31364 | D37: =ROUND((C37*1.075),0) -> 33716 | E37: =D37/12 -> 2809.6667 | F37: =SUM(D37/52.143) -> 646.60645 | G37: =SUM($D37/52.143)/37 -> 17.47585 | H37: =SUM($D37/52.143)/37*1.1381 -> 19.889265
B39: Midday Supervisors | D39: OFA | E39: Total Annual | G39: Hourly | H39: Inc Hols
B40: 8 | C40: 24702 | D40: 689 | E40: =C40+D40 -> 25391 | G40: =SUM(C40+D40)/37/52.143 -> 13.160793 | H40: =E40/52.143/37*1.1381 -> 14.978299
B41: * includes local integrated allowance of 7.5%
A42: CAR ALLOWANCES
A44: All casual car users are paid same rate, irrespective of car cubic capacity.
...

Sheet April 23 interim
D1: Schools April 23 | F1: Pay award from 1 April 2023 pending
C3: 44652
B4: SCALE / | C4: BASIC | D4: TOTAL | E4: MONTHLY | F4: WEEKLY | G4: HOURLY | H4: HOURLY
B5: NEW SPINAL | C5: SALARY | D5: SALARY | E5: SALARY | F5: SALARY | G5: RATE | H5: RATE
B6: POINT | D6: RBWM | E6: RBWM | F6: RBWM | G6: RBWM | H6: (inc. hol)
B7: SCALE 2, a | C7: £ | D7: £ | E7: £ | F7: £ | G7: £ | H7: £
B9: 2 | C9: 20441 | D9: =D11 -> 21974 | E9: =E11 -> 1831.1667 | F9: =F11 -> 421.41802 | G9: =G11 -> 11.389676 | H9: =H11 -> 12.962591
B10: SCALE 2, b
B11: 2 | C11: =C9 -> 20441 | D11: =ROUND((C11*1.075),0) -> 21974 | E11: =D11/12 -> 1831.1667 | F11: =SUM(D11/52.143) -> 421.41802 | G11: =SUM($D11/52.143)/37 -> 11.389676 | H11: =SUM($D11/52.143)/37*1.1381 -> 12.962591
B12: 3 | C12: 20812 | D12: =ROUND((C12*1.075),0) -> 22373 | E12: =D12/12 -> 1864.4167 | F12: =SUM(D12/52.143) -> 429.07006 | G12: =SUM($D12/52.143)/37 -> 11.596488 | H12: =SUM($D12/52.143)/37*1.1381 -> 13.197963
B13: SCALE 2, c
B14: 3 | C14: =C12 -> 20812 | D14: =D12 -> 22373 | E14: =E12 -> 1864.4167 | F14: =F12 -> 429.07006 | G14: =G12 -> 11.596488 | H14: =H12 -> 13.197963
B15: 4 | C15: 21189 | D15: =ROUND((C15*1.075),0) -> 22778 | E15: =D15/12 -> 1898.1667 | F15: =SUM(D15/52.143) -> 436.83716 | G15: =SUM($D15/52.143)/37 -> 11.80641 | H15: =SUM($D15/52.143)/37*1.1381 -> 13.436875
B16: SCALE 3
B17: 5 | C17: 21575 | D17: =ROUND((C17*1.075),0) -> 23193 | E17: =D17/12 -> 1932.75 | F17: =SUM(D17/52.143) -> 444.79604 | G17: =SUM($D17/52.143)/37 -> 12.021515 | H17: =SUM($D17/52.143)/37*1.1381 -> 13.681686
B18: 6 | C18: 21968 | D18: =ROUND((C18*1.075),0) -> 23616 | E18: =D18/12 -> 1968 | F18: =SUM(D18/52.143) -> 452.90835 | G18: =SUM($D18/52.143)/37 -> 12.240766 | H18: =SUM($D18/52.143)/37*1.1381 -> 13.931216
B19: SCALE 4
B20: 7 | C20: 22369 | D20: =ROUND((C20*1.075),0) -> 24047 | E20: =D20/12 -> 2003.9167 | F20: =SUM(D20/52.143) -> 461.17408 | G20: =SUM($D20/52.143)/37 -> 12.464164 | H20: =SUM($D20/52.143)/37*1.1381 -> 14.185465
B21: 8 | C21: 22777 | D21: =ROUND((C21*1.075),0) -> 24485 | E21: =D21/12 -> 2040.4167 | F21: =SUM(D21/52.143) -> 469.57406 | G21: =SUM($D21/52.143)/37 -> 12.691191 | H21: =SUM($D21/52.143)/37*1.1381 -> 14.443844
B22: 9 | C22: 23194 | D22: =ROUND((C22*1.075),0) -> 24934 | E22: =D22/12 -> 2077.8333 | F22: =SUM(D22/52.143) -> 478.18499 | G22: =SUM($D22/52.143)/37 -> 12.923919 | H22: =SUM($D22/52.143)/37*1.1381 -> 14.708712
B23: 10 | C23: 23620 | D23: =ROUND((C23*1.075),0) -> 25392 | E23: =D23/12 -> 2116 | F23: =SUM(D23/52.143) -> 486.96853 | G23: =SUM($D23/52.143)/37 -> 13.161312 | H23: =SUM($D23/52.143)/37*1.1381 -> 14.978889
B24: 11 | C24: 24054 | D24: =ROUND((C24*1.075),0) -> 25858 | E24: =D24/12 -> 2154.8333 | F24: =SUM(D24/52.143) -> 495.90549 | G24: =SUM($D24/52.143)/37 -> 13.402851 | H24: =SUM($D24/52.143)/37*1.1381 -> 15.253785
B25: SCALE 5
B26: 12 | C26: 24496 | D26: =ROUND((C26*1.075),0) -> 26333 | E26: =D26/12 -> 2194.4167 | F26: =SUM(D26/52.143) -> 505.01505 | G26: =SUM($D26/52.143)/37 -> 13.649056 | H26: =SUM($D26/52.143)/37*1.1381 -> 15.53399
B27: 13 | C27: 24948 | D27: =ROUND((C27*1.075),0) -> 26819 | E27: =D27/12 -> 2234.9167 | F27: =SUM(D27/52.143) -> 514.33558 | G27: =SUM($D27/52.143)/37 -> 13.900962 | H27: =SUM($D27/52.143)/37*1.1381 -> 15.820684
B28: 14 | C28: 25409 | D28: =ROUND((C28*1.075),0) -> 27315 | E28: =D28/12 -> 2276.25 | F28: =SUM(D28/52.143) -> 523.84788 | G28: =SUM($D28/52.143)/37 -> 14.158051 | H28: =SUM($D28/52.143)/37*1.1381 -> 16.113278
B29: 15 | C29: 25878 | D29: =ROUND((C29*1.075),0) -> 27819 | E29: =D29/12 -> 2318.25 | F29: =SUM(D29/52.143) -> 533.51361 | G29: =SUM($D29/52.143)/37 -> 14.419287 | H29: =SUM($D29/52.143)/37*1.1381 -> 16.41059
B30: 16 | C30: 26357 | D30: =ROUND((C30*1.075),0) -> 28334 | E30: =D30/12 -> 2361.1667 | F30: =SUM(D30/52.143) -> 543.39029 | G30: =SUM($D30/52.143)/37 -> 14.686224 | H30: =SUM($D30/52.143)/37*1.1381 -> 16.714392
B31: 17 | C31: 26845 | D31: =ROUND((C31*1.075),0) -> 28858 | E31: =D31/12 -> 2404.8333 | F31: =SUM(D31/52.143) -> 553.43958 | G31: =SUM($D31/52.143)/37 -> 14.957826 | H31: =SUM($D31/52.143)/37*1.1381 -> 17.023502
B32: SCALE 6
B33: 18 | C33: 27344 | D33: =ROUND((C33*1.075),0) -> 29395 | E33: =D33/12 -> 2449.5833 | F33: =SUM(D33/52.143) -> 563.73818 | G33: =SUM($D33/52.143)/37 -> 15.236167 | H33: =SUM($D33/52.143)/37*1.1381 -> 17.340282
B34: 19 | C34: 27852 | D34: =ROUND((C34*1.075),0) -> 29941 | E34: =D34/12 -> 2495.0833 | F34: =SUM(D34/52.143) -> 574.20939 | G34: =SUM($D34/52.143)/37 -> 15.519173 | H34: =SUM($D34/52.143)/37*1.1381 -> 17.66237
B35: 20 | C35: 28371 | D35: =ROUND((C35*1.075),0) -> 30499 | E35: =D35/12 -> 2541.5833 | F35: =SUM(D35/52.143) -> 584.91073 | G35: =SUM($D35/52.143)/37 -> 15.808398 | H35: =SUM($D35/52.143)/37*1.1381 -> 17.991538
B36: 21 | C36: 28900 | D36: =ROUND((C36*1.075),0) -> 31068 | E36: =D36/12 -> 2589 | F36: =SUM(D36/52.143) -> 595.82303 | G36: =SUM($D36/52.143)/37 -> 16.103325 | H36: =SUM($D36/52.143)/37*1.1381 -> 18.327194
B37: 22 | C37: 29439 | D37: =ROUND((C37*1.075),0) -> 31647 | E37: =D37/12 -> 2637.25 | F37: =SUM(D37/52.143) -> 606.9271 | G37: =SUM($D37/52.143)/37 -> 16.403435 | H37: =SUM($D37/52.143)/37*1.1381 -> 18.66875
B39: Midday Supervisors | D39: OFA | E39: Total Annual | G39: Hourly | H39: Inc Hols
B40: 8 | C40: =20852+1925 -> 22777 | D40: =637*1.0404 -> 662.7348 | E40: =C40+D40 -> 23439.735 | G40: =SUM(C40+D40)/37/52.143 -> 12.149403 | H40: =E40/52.143/37*1.1381 -> 13.827236
A42: CAR ALLOWANCES
A44: All casual car users are paid same rate, irrespective of car cubic capacity.
A46: USER | B46: Miles per annum | D46: All cc's
...

Sheet April 24
D1: Schools April 2024 | G1: Agreed in Oct 2024
J3: Pay points below £52,805 increased by £1,290
B4: SCALE / | C4: BASIC | D4: TOTAL | E4: MONTHLY | F4: WEEKLY | G4: HOURLY | H4: HOURLY | J4: Pay above £52,805 increased by 2.5%
B5: NEW SPINAL | C5: SALARY | D5: SALARY | E5: SALARY | F5: SALARY | G5: RATE | H5: RATE
B6: POINT | C6: NJC | D6: RBWM* | E6: RBWM | F6: RBWM | G6: RBWM | H6: (inc. hol)
B7: SCALE 2, a | C7: £ | D7: £ | E7: £ | F7: £ | G7: £ | H7: £
B9: 2 | C9: 23656 | D9: =D11 -> 25430 | E9: =E11 -> 2119.1667 | F9: =F11 -> 487.69729 | G9: =G11 -> 13.181008 | H9: =H11 -> 15.001305
B10: SCALE 2, b
B11: 2 | C11: 23656 | D11: =ROUND((C11*1.075),0) -> 25430 | E11: =D11/12 -> 2119.1667 | F11: =SUM(D11/52.143) -> 487.69729 | G11: =SUM($D11/52.143)/37 -> 13.181008 | H11: =SUM($D11/52.143)/37*1.1381 -> 15.001305
B12: 3 | C12: 24027 | D12: =ROUND((C12*1.075),0) -> 25829 | E12: =D12/12 -> 2152.4167 | F12: =SUM(D12/52.143) -> 495.34933 | G12: =SUM($D12/52.143)/37 -> 13.38782 | H12: =SUM($D12/52.143)/37*1.1381 -> 15.236678
B13: SCALE 2, c
B14: 3 | C14: 24027 | D14: =D12 -> 25829 | E14: =E12 -> 2152.4167 | F14: =F12 -> 495.34933 | G14: =G12 -> 13.38782 | H14: =H12 -> 15.236678
B15: 4 | C15: 24404 | D15: =ROUND((C15*1.075),0) -> 26234 | E15: =D15/12 -> 2186.1667 | F15: =SUM(D15/52.143) -> 503.11643 | G15: =SUM($D15/52.143)/37 -> 13.597741 | H15: =SUM($D15/52.143)/37*1.1381 -> 15.475589
B16: SCALE 3
B17: 5 | C17: 24790 | D17: =ROUND((C17*1.075),0) -> 26649 | E17: =D17/12 -> 2220.75 | F17: =SUM(D17/52.143) -> 511.07531 | G17: =SUM($D17/52.143)/37 -> 13.812846 | H17: =SUM($D17/52.143)/37*1.1381 -> 15.7204
B18: 6 | C18: 25183 | D18: =ROUND((C18*1.075),0) -> 27072 | E18: =D18/12 -> 2256 | F18: =SUM(D18/52.143) -> 519.18762 | G18: =SUM($D18/52.143)/37 -> 14.032098 | H18: =SUM($D18/52.143)/37*1.1381 -> 15.969931
B19: SCALE 4
B20: 7 | C20: 25584 | D20: =ROUND((C20*1.075),0) -> 27503 | E20: =D20/12 -> 2291.9167 | F20: =SUM(D20/52.143) -> 527.45335 | G20: =SUM($D20/52.143)/37 -> 14.255496 | H20: =SUM($D20/52.143)/37*1.1381 -> 16.22418
B21: 8 | C21: 25992 | D21: =ROUND((C21*1.075),0) -> 27941 | E21: =D21/12 -> 2328.4167 | F21: =SUM(D21/52.143) -> 535.85333 | G21: =SUM($D21/52.143)/37 -> 14.482522 | H21: =SUM($D21/52.143)/37*1.1381 -> 16.482559
B22: 9 | C22: 26409 | D22: =ROUND((C22*1.075),0) -> 28390 | E22: =D22/12 -> 2365.8333 | F22: =SUM(D22/52.143) -> 544.46426 | G22: =SUM($D22/52.143)/37 -> 14.71525 | H22: =SUM($D22/52.143)/37*1.1381 -> 16.747426
B23: 10 | C23: 26835 | D23: =ROUND((C23*1.075),0) -> 28848 | E23: =D23/12 -> 2404 | F23: =SUM(D23/52.143) -> 553.2478 | G23: =SUM($D23/52.143)/37 -> 14.952643 | H23: =SUM($D23/52.143)/37*1.1381 -> 17.017603
B24: 11 | C24: 27269 | D24: =ROUND((C24*1.075),0) -> 29314 | E24: =D24/12 -> 2442.8333 | F24: =SUM(D24/52.143) -> 562.18476 | G24: =SUM($D24/52.143)/37 -> 15.194183 | H24: =SUM($D24/52.143)/37*1.1381 -> 17.292499
B25: SCALE 5
B26: 12 | C26: 27711 | D26: =ROUND((C26*1.075),0) -> 29789 | E26: =D26/12 -> 2482.4167 | F26: =SUM(D26/52.143) -> 571.29433 | G26: =SUM($D26/52.143)/37 -> 15.440387 | H26: =SUM($D26/52.143)/37*1.1381 -> 17.572705
B27: 13 | C27: 28163 | D27: =ROUND((C27*1.075),0) -> 30275 | E27: =D27/12 -> 2522.9167 | F27: =SUM(D27/52.143) -> 580.61485 | G27: =SUM($D27/52.143)/37 -> 15.692293 | H27: =SUM($D27/52.143)/37*1.1381 -> 17.859399
B28: 14 | C28: 28624 | D28: =ROUND((C28*1.075),0) -> 30771 | E28: =D28/12 -> 2564.25 | F28: =SUM(D28/52.143) -> 590.12715 | G28: =SUM($D28/52.143)/37 -> 15.949382 | H28: =SUM($D28/52.143)/37*1.1381 -> 18.151992
B29: 15 | C29: 29093 | D29: =ROUND((C29*1.075),0) -> 31275 | E29: =D29/12 -> 2606.25 | F29: =SUM(D29/52.143) -> 599.79288 | G29: =SUM($D29/52.143)/37 -> 16.210618 | H29: =SUM($D29/52.143)/37*1.1381 -> 18.449305
B30: 16 | C30: 29572 | D30: =ROUND((C30*1.075),0) -> 31790 | E30: =D30/12 -> 2649.1667 | F30: =SUM(D30/52.143) -> 609.66956 | G30: =SUM($D30/52.143)/37 -> 16.477556 | H30: =SUM($D30/52.143)/37*1.1381 -> 18.753106
B31: 17 | C31: 30060 | D31: =ROUND((C31*1.075),0) -> 32315 | E31: =D31/12 -> 2692.9167 | F31: =SUM(D31/52.143) -> 619.73803 | G31: =SUM($D31/52.143)/37 -> 16.749676 | H31: =SUM($D31/52.143)/37*1.1381 -> 19.062807
B32: SCALE 6
B33: 18 | C33: 30559 | D33: =ROUND((C33*1.075),0) -> 32851 | E33: =D33/12 -> 2737.5833 | F33: =SUM(D33/52.143) -> 630.01745 | G33: =SUM($D33/52.143)/37 -> 17.027499 | H33: =SUM($D33/52.143)/37*1.1381 -> 19.378996
B34: 19 | C34: 31067 | D34: =ROUND((C34*1.075),0) -> 33397 | E34: =D34/12 -> 2783.0833 | F34: =SUM(D34/52.143) -> 640.48866 | G34: =SUM($D34/52.143)/37 -> 17.310504 | H34: =SUM($D34/52.143)/37*1.1381 -> 19.701085
B35: 20 | C35: 31586 | D35: =ROUND((C35*1.075),0) -> 33955 | E35: =D35/12 -> 2829.5833 | F35: =SUM(D35/52.143) -> 651.19 | G35: =SUM($D35/52.143)/37 -> 17.59973 | H35: =SUM($D35/52.143)/37*1.1381 -> 20.030252
B36: 21 | C36: 32115 | D36: =ROUND((C36*1.075),0) -> 34524 | E36: =D36/12 -> 2877 | F36: =SUM(D36/52.143) -> 662.1023 | G36: =SUM($D36/52.143)/37 -> 17.894657 | H36: =SUM($D36/52.143)/37*1.1381 -> 20.365909
B37: 22 | C37: 32654 | D37: =ROUND((C37*1.075),0) -> 35103 | E37: =D37/12 -> 2925.25 | F37: =SUM(D37/52.143) -> 673.20637 | G37: =SUM($D37/52.143)/37 -> 18.194767 | H37: =SUM($D37/52.143)/37*1.1381 -> 20.707464
B39: Midday Supervisors | D39: OFA | E39: Total Annual | G39: Hourly | H39: Inc Hols
B40: 8 | C40: 25992 | D40: 706 | E40: =C40+D40 -> 26698 | G40: =SUM(C40+D40)/37/52.143 -> 13.838244 | H40: =E40/52.143/37*1.1381 -> 15.749306
B41: * includes local integrated allowance of 7.5%
A42: CAR ALLOWANCES
A44: All casual car users are paid same rate, irrespective of car cubic capacity.
...

Sheet April 25
E1: Schools April 2025
C2: 3.2% on all points - Agreed July 25
B4: SCALE / | C4: BASIC | D4: TOTAL | E4: MONTHLY | F4: WEEKLY | G4: HOURLY | H4: HOURLY
B5: NEW SPINAL | C5: SALARY | D5: SALARY | E5: SALARY | F5: SALARY | G5: RATE | H5: RATE
B6: POINT | C6: NJC | D6: RBWM* | E6: RBWM | F6: RBWM | G6: RBWM | H6: (inc. hol)
B7: SCALE 2, a | C7: £ | D7: £ | E7: £ | F7: £ | G7: £ | H7: £
B9: 2 | C9: =C11 -> 24413 | D9: =D11 -> 26244 | E9: =E11 -> 2187 | F9: =F11 -> 503.30821 | G9: =G11 -> 13.602925 | H9: =H11 -> 15.481488
B10: SCALE 2, b
B11: 2 | C11: 24413 | D11: =ROUND((C11*1.075),0) -> 26244 | E11: =D11/12 -> 2187 | F11: =SUM(D11/52.143) -> 503.30821 | G11: =SUM($D11/52.143)/37 -> 13.602925 | H11: =SUM($D11/52.143)/37*1.1381 -> 15.481488
B12: 3 | C12: 24796 | D12: =ROUND((C12*1.075),0) -> 26656 | E12: =D12/12 -> 2221.3333 | F12: =SUM(D12/52.143) -> 511.20956 | G12: =SUM($D12/52.143)/37 -> 13.816475 | H12: =SUM($D12/52.143)/37*1.1381 -> 15.72453
B13: SCALE 2, c
B14: 3 | C14: =C12 -> 24796 | D14: =D12 -> 26656 | E14: =E12 -> 2221.3333 | F14: =F12 -> 511.20956 | G14: =G12 -> 13.816475 | H14: =H12 -> 15.72453
B15: 4 | C15: 25185 | D15: =ROUND((C15*1.075),0) -> 27074 | E15: =D15/12 -> 2256.1667 | F15: =SUM(D15/52.143) -> 519.22597 | G15: =SUM($D15/52.143)/37 -> 14.033134 | H15: =SUM($D15/52.143)/37*1.1381 -> 15.97111
B16: SCALE 3
B17: 5 | C17: 25583 | D17: =ROUND((C17*1.075),0) -> 27502 | E17: =D17/12 -> 2291.8333 | F17: =SUM(D17/52.143) -> 527.43417 | G17: =SUM($D17/52.143)/37 -> 14.254978 | H17: =SUM($D17/52.143)/37*1.1381 -> 16.22359
B18: 6 | C18: 25989 | D18: =ROUND((C18*1.075),0) -> 27938 | E18: =D18/12 -> 2328.1667 | F18: =SUM(D18/52.143) -> 535.79579 | G18: =SUM($D18/52.143)/37 -> 14.480967 | H18: =SUM($D18/52.143)/37*1.1381 -> 16.480789
B19: SCALE 4
B20: 7 | C20: 26403 | D20: =ROUND((C20*1.075),0) -> 28383 | E20: =D20/12 -> 2365.25 | F20: =SUM(D20/52.143) -> 544.33002 | G20: =SUM($D20/52.143)/37 -> 14.711622 | H20: =SUM($D20/52.143)/37*1.1381 -> 16.743297
B21: 8 | C21: 26824 | D21: =ROUND((C21*1.075),0) -> 28836 | E21: =D21/12 -> 2403 | F21: =SUM(D21/52.143) -> 553.01766 | G21: =SUM($D21/52.143)/37 -> 14.946423 | H21: =SUM($D21/52.143)/37*1.1381 -> 17.010524
B22: 9 | C22: 27254 | D22: =ROUND((C22*1.075),0) -> 29298 | E22: =D22/12 -> 2441.5 | F22: =SUM(D22/52.143) -> 561.87791 | G22: =SUM($D22/52.143)/37 -> 15.18589 | H22: =SUM($D22/52.143)/37*1.1381 -> 17.283061
B23: 10 | C23: 27694 | D23: =ROUND((C23*1.075),0) -> 29771 | E23: =D23/12 -> 2480.9167 | F23: =SUM(D23/52.143) -> 570.94912 | G23: =SUM($D23/52.143)/37 -> 15.431057 | H23: =SUM($D23/52.143)/37*1.1381 -> 17.562086
B24: 11 | C24: 28142 | D24: =ROUND((C24*1.075),0) -> 30253 | E24: =D24/12 -> 2521.0833 | F24: =SUM(D24/52.143) -> 580.19293 | G24: =SUM($D24/52.143)/37 -> 15.68089 | H24: =SUM($D24/52.143)/37*1.1381 -> 17.846421
B25: SCALE 5
B26: 12 | C26: 28598 | D26: =ROUND((C26*1.075),0) -> 30743 | E26: =D26/12 -> 2561.9167 | F26: =SUM(D26/52.143) -> 589.59017 | G26: =SUM($D26/52.143)/37 -> 15.934869 | H26: =SUM($D26/52.143)/37*1.1381 -> 18.135475
B27: 13 | C27: 29064 | D27: =ROUND((C27*1.075),0) -> 31244 | E27: =D27/12 -> 2603.6667 | F27: =SUM(D27/52.143) -> 599.19836 | G27: =SUM($D27/52.143)/37 -> 16.19455 | H27: =SUM($D27/52.143)/37*1.1381 -> 18.431018
B28: 14 | C28: 29540 | D28: =ROUND((C28*1.075),0) -> 31756 | E28: =D28/12 -> 2646.3333 | F28: =SUM(D28/52.143) -> 609.01751 | G28: =SUM($D28/52.143)/37 -> 16.459933 | H28: =SUM($D28/52.143)/37*1.1381 -> 18.733049
B29: 15 | C29: 30024 | D29: =ROUND((C29*1.075),0) -> 32276 | E29: =D29/12 -> 2689.6667 | F29: =SUM(D29/52.143) -> 618.99008 | G29: =SUM($D29/52.143)/37 -> 16.729462 | H29: =SUM($D29/52.143)/37*1.1381 -> 19.0398
B30: 16 | C30: 30518 | D30: =ROUND((C30*1.075),0) -> 32807 | E30: =D30/12 -> 2733.9167 | F30: =SUM(D30/52.143) -> 629.17362 | G30: =SUM($D30/52.143)/37 -> 17.004692 | H30: =SUM($D30/52.143)/37*1.1381 -> 19.35304
B31: 17 | C31: 31022 | D31: =ROUND((C31*1.075),0) -> 33349 | E31: =D31/12 -> 2779.0833 | F31: =SUM(D31/52.143) -> 639.56811 | G31: =SUM($D31/52.143)/37 -> 17.285625 | H31: =SUM($D31/52.143)/37*1.1381 -> 19.672769
B32: SCALE 6
B33: 18 | C33: 31537 | D33: =ROUND((C33*1.075),0) -> 33902 | E33: =D33/12 -> 2825.1667 | F33: =SUM(D33/52.143) -> 650.17356 | G33: =SUM($D33/52.143)/37 -> 17.572258 | H33: =SUM($D33/52.143)/37*1.1381 -> 19.998987
B34: 19 | C34: 32061 | D34: =ROUND((C34*1.075),0) -> 34466 | E34: =D34/12 -> 2872.1667 | F34: =SUM(D34/52.143) -> 660.98997 | G34: =SUM($D34/52.143)/37 -> 17.864594 | H34: =SUM($D34/52.143)/37*1.1381 -> 20.331694
B35: 20 | C35: 32597 | D35: =ROUND((C35*1.075),0) -> 35042 | E35: =D35/12 -> 2920.1667 | F35: =SUM(D35/52.143) -> 672.03651 | G35: =SUM($D35/52.143)/37 -> 18.163149 | H35: =SUM($D35/52.143)/37*1.1381 -> 20.67148
B36: 21 | C36: 33143 | D36: =ROUND((C36*1.075),0) -> 35629 | E36: =D36/12 -> 2969.0833 | F36: =SUM(D36/52.143) -> 683.29402 | G36: =SUM($D36/52.143)/37 -> 18.467406 | H36: =SUM($D36/52.143)/37*1.1381 -> 21.017755
B37: 22 | C37: 33699 | D37: =ROUND((C37*1.075),0) -> 36226 | E37: =D37/12 -> 3018.8333 | F37: =SUM(D37/52.143) -> 694.7433 | G37: =SUM($D37/52.143)/37 -> 18.776846 | H37: =SUM($D37/52.143)/37*1.1381 -> 21.369928
B39: Midday Supervisors | E39: Total Annual | G39: Hourly | H39: Inc Hols
B40: 8 | C40: =C21 -> 26824 | D40: 729 | E40: =C40+D40 -> 27553 | G40: =E40/52.143/37 -> 14.281412 | H40: =E40/52.143/37*1.1381 -> 16.253675
B41: * includes local integrated allowance of 7.5%
A42: CAR ALLOWANCES
A44: All casual car users are paid same rate, irrespective of car cubic capacity.
...

Sheet April 26
E1: Schools April 2026
D2: 3.3% on all points - Agreed Aug 26
B4: SCALE / | C4: BASIC | D4: TOTAL | E4: MONTHLY | F4: WEEKLY | G4: HOURLY | H4: HOURLY
B5: NEW SPINAL | C5: SALARY | D5: SALARY | E5: SALARY | F5: SALARY | G5: RATE | H5: RATE
B6: POINT | C6: NJC | D6: RBWM* | E6: RBWM | F6: RBWM | G6: RBWM | H6: (inc. hol)
B7: SCALE 2, a | C7: £ | D7: £ | E7: £ | F7: £ | G7: £ | H7: £
B8: 3 | C8: =C10 -> 25614 | D8: =D10 -> 27535 | E8: =E10 -> 2294.5833 | F8: =F10 -> 528.06705 | G8: =G10 -> 14.272082 | H8: =H10 -> 16.243057
B9: SCALE 2, b
B10: 3 | C10: 25614 | D10: =ROUND((C10*1.075),0) -> 27535 | E10: =D10/12 -> 2294.5833 | F10: =SUM(D10/52.143) -> 528.06705 | G10: =SUM($D10/52.143)/37 -> 14.272082 | H10: =SUM($D10/52.143)/37*1.1381 -> 16.243057
B11: SCALE 2, c
B12: 3 | C12: =C10 -> 25614 | D12: =D10 -> 27535 | E12: =E10 -> 2294.5833 | F12: =F10 -> 528.06705 | G12: =G10 -> 14.272082 | H12: =H10 -> 16.243057
B13: 4 | C13: 26016 | D13: =ROUND((C13*1.075),0) -> 27967 | E13: =D13/12 -> 2330.5833 | F13: =SUM(D13/52.143) -> 536.35196 | G13: =SUM($D13/52.143)/37 -> 14.495999 | H13: =SUM($D13/52.143)/37*1.1381 -> 16.497896
B14: SCALE 3
B15: 5 | C15: 26427 | D15: =ROUND((C15*1.075),0) -> 28409 | E15: =D15/12 -> 2367.4167 | F15: =SUM(D15/52.143) -> 544.82864 | G15: =SUM($D15/52.143)/37 -> 14.725098 | H15: =SUM($D15/52.143)/37*1.1381 -> 16.758635
B16: 6 | C16: 26847 | D16: =ROUND((C16*1.075),0) -> 28861 | E16: =D16/12 -> 2405.0833 | F16: =SUM(D16/52.143) -> 553.49711 | G16: =SUM($D16/52.143)/37 -> 14.959381 | H16: =SUM($D16/52.143)/37*1.1381 -> 17.025272
B17: SCALE 4
B18: 7 | C18: 27274 | D18: =ROUND((C18*1.075),0) -> 29320 | E18: =D18/12 -> 2443.3333 | F18: =SUM(D18/52.143) -> 562.29983 | G18: =SUM($D18/52.143)/37 -> 15.197293 | H18: =SUM($D18/52.143)/37*1.1381 -> 17.296039
B19: 8 | C19: 27709 | D19: =ROUND((C19*1.075),0) -> 29787 | E19: =D19/12 -> 2482.25 | F19: =SUM(D19/52.143) -> 571.25597 | G19: =SUM($D19/52.143)/37 -> 15.439351 | H19: =SUM($D19/52.143)/37*1.1381 -> 17.571525
B20: 9 | C20: 28153 | D20: =ROUND((C20*1.075),0) -> 30264 | E20: =D20/12 -> 2522 | F20: =SUM(D20/52.143) -> 580.40389 | G20: =SUM($D20/52.143)/37 -> 15.686592 | H20: =SUM($D20/52.143)/37*1.1381 -> 17.85291
B21: 10 | C21: 28608 | D21: =ROUND((C21*1.075),0) -> 30754 | E21: =D21/12 -> 2562.8333 | F21: =SUM(D21/52.143) -> 589.80112 | G21: =SUM($D21/52.143)/37 -> 15.940571 | H21: =SUM($D21/52.143)/37*1.1381 -> 18.141964
B22: 11 | C22: 29071 | D22: =ROUND((C22*1.075),0) -> 31251 | E22: =D22/12 -> 2604.25 | F22: =SUM(D22/52.143) -> 599.3326 | G22: =SUM($D22/52.143)/37 -> 16.198179 | H22: =SUM($D22/52.143)/37*1.1381 -> 18.435147
B23: SCALE 5
