Workbook

Sheet April 18
C1: Schools April 18
A4: SCALE / | B4: BASIC | C4: TOTAL | D4: MONTHLY | E4: WEEKLY | F4: HOURLY | G4: HOURLY
A5: SPINAL | B5: SALARY | C5: SALARY | D5: SALARY | E5: SALARY | F5: RATE | G5: RATE
A6: POINT | C6: RBWM | D6: RBWM | E6: RBWM | F6: RBWM | G6: (inc. hol)
A7: SCALE 2 | B7: £ | C7: £ | D7: £ | E7: £ | F7: £ | G7: £
A8: 6 | B8: 16394 | C8: =ROUND((B8*1.075),0) -> 17624 | D8: =C8/12 -> 1468.6667 | E8: =SUM(C8/52.143) -> 337.99359 | F8: =SUM($C8/52.143)/37 -> 9.134962 | G8: =SUM($C8/52.143)/37*1.1381 -> 10.3965
A9: 7 | B9: 16495 | C9: =ROUND((B9*1.075),0) -> 17732 | D9: =C9/12 -> 1477.6667 | E9: =SUM(C9/52.143) -> 340.06482 | F9: =SUM($C9/52.143)/37 -> 9.1909411 | G9: =SUM($C9/52.143)/37*1.1381 -> 10.46021
A10: 8 | B10: 16626 | C10: =ROUND((B10*1.075),0) -> 17873 | D10: =C10/12 -> 1489.4167 | E10: =SUM(C10/52.143) -> 342.76892 | F10: =SUM($C10/52.143)/37 -> 9.264025 | G10: =SUM($C10/52.143)/37*1.1381 -> 10.543387
A11: 9 | B11: 16755 | C11: =ROUND((B11*1.075),0) -> 18012 | D11: =C11/12 -> 1501 | E11: =SUM(C11/52.143) -> 345.43467 | F11: =SUM($C11/52.143)/37 -> 9.3360722 | G11: =SUM($C11/52.143)/37*1.1381 -> 10.625384
A12: 10 | B12: 16863 | C12: =ROUND((B12*1.075),0) -> 18128 | D12: =C12/12 -> 1510.6667 | E12: =SUM(C12/52.143) -> 347.65932 | F12: =SUM($C12/52.143)/37 -> 9.3961979 | G12: =SUM($C12/52.143)/37*1.1381 -> 10.693813
A13: 11 | B13: 17007 | C13: =ROUND((B13*1.075),0) -> 18283 | D13: =C13/12 -> 1523.5833 | E13: =SUM(C13/52.143) -> 350.63192 | F13: =SUM($C13/52.143)/37 -> 9.4765383 | G13: =SUM($C13/52.143)/37*1.1381 -> 10.785248
A14: 11 | B14: =B13 -> 17007 | C14: =ROUND((B14*1.075),0) -> 18283 | D14: =C14/12 -> 1523.5833 | E14: =SUM(C14/52.143) -> 350.63192 | F14: =SUM($C14/52.143)/37 -> 9.4765383 | G14: =SUM($C14/52.143)/37*1.1381 -> 10.785248
A15: 12 | B15: 17173 | C15: =ROUND((B15*1.075),0) -> 18461 | D15: =C15/12 -> 1538.4167 | E15: =SUM(C15/52.143) -> 354.04561 | F15: =SUM($C15/52.143)/37 -> 9.5688001 | G15: =SUM($C15/52.143)/37*1.1381 -> 10.890251
A16: 13 | B16: 17391 | C16: =ROUND((B16*1.075),0) -> 18695 | D16: =C16/12 -> 1557.9167 | E16: =SUM(C16/52.143) -> 358.53326 | F16: =SUM($C16/52.143)/37 -> 9.6900882 | G16: =SUM($C16/52.143)/37*1.1381 -> 11.028289
A17: SCALE 3
A18: 14 | B18: 17681 | C18: =ROUND((B18*1.075),0) -> 19007 | D18: =C18/12 -> 1583.9167 | E18: =SUM(C18/52.143) -> 364.51681 | F18: =SUM($C18/52.143)/37 -> 9.8518057 | G18: =SUM($C18/52.143)/37*1.1381 -> 11.21234
A19: 15 | B19: 17972 | C19: =ROUND((B19*1.075),0) -> 19320 | D19: =C19/12 -> 1610 | E19: =SUM(C19/52.143) -> 370.51953 | F19: =SUM($C19/52.143)/37 -> 10.014041 | G19: =SUM($C19/52.143)/37*1.1381 -> 11.396981
A20: 16 | B20: 18319 | C20: =ROUND((B20*1.075),0) -> 19693 | D20: =C20/12 -> 1641.0833 | E20: =SUM(C20/52.143) -> 377.67294 | F20: =SUM($C20/52.143)/37 -> 10.207377 | G20: =SUM($C20/52.143)/37*1.1381 -> 11.617015
A21: 17 | B21: 18672 | C21: =ROUND((B21*1.075),0) -> 20072 | D21: =C21/12 -> 1672.6667 | E21: =SUM(C21/52.143) -> 384.94141 | F21: =SUM($C21/52.143)/37 -> 10.403822 | G21: =SUM($C21/52.143)/37*1.1381 -> 11.84059
A22: SCALE 4
A23: 18 | B23: 18870 | C23: =ROUND((B23*1.075),0) -> 20285 | D23: =C23/12 -> 1690.4167 | E23: =SUM(C23/52.143) -> 389.02633 | F23: =SUM($C23/52.143)/37 -> 10.514225 | G23: =SUM($C23/52.143)/37*1.1381 -> 11.96624
A24: 19 | B24: 19446 | C24: =ROUND((B24*1.075),0) -> 20904 | D24: =C24/12 -> 1742 | E24: =SUM(C24/52.143) -> 400.89753 | F24: =SUM($C24/52.143)/37 -> 10.835068 | G24: =SUM($C24/52.143)/37*1.1381 -> 12.331391
A25: 20 | B25: 19819 | C25: =ROUND((B25*1.075),0) -> 21305 | D25: =C25/12 -> 1775.4167 | E25: =SUM(C25/52.143) -> 408.58792 | F25: =SUM($C25/52.143)/37 -> 11.042917 | G25: =SUM($C25/52.143)/37*1.1381 -> 12.567944
A26: 21 | B26: 20541 | C26: =ROUND((B26*1.075),0) -> 22082 | D26: =C26/12 -> 1840.1667 | E26: =SUM(C26/52.143) -> 423.48925 | F26: =SUM($C26/52.143)/37 -> 11.445655 | G26: =SUM($C26/52.143)/37*1.1381 -> 13.0263
A27: SCALE 5
A28: 22 | B28: 21074 | C28: =ROUND((B28*1.075),0) -> 22655 | D28: =C28/12 -> 1887.9167 | E28: =SUM(C28/52.143) -> 434.47826 | F28: =SUM($C28/52.143)/37 -> 11.742656 | G28: =SUM($C28/52.143)/37*1.1381 -> 13.364316
A29: 23 | B29: 21693 | C29: =ROUND((B29*1.075),0) -> 23320 | D29: =C29/12 -> 1943.3333 | E29: =SUM(C29/52.143) -> 447.23165 | F29: =SUM($C29/52.143)/37 -> 12.087342 | G29: =SUM($C29/52.143)/37*1.1381 -> 13.756604
A30: 24 | B30: 22401 | C30: =ROUND((B30*1.075),0) -> 24081 | D30: =C30/12 -> 2006.75 | E30: =SUM(C30/52.143) -> 461.82613 | F30: =SUM($C30/52.143)/37 -> 12.481787 | G30: =SUM($C30/52.143)/37*1.1381 -> 14.205522
A31: 25 | B31: 23111 | C31: =ROUND((B31*1.075),0) -> 24844 | D31: =C31/12 -> 2070.3333 | E31: =SUM(C31/52.143) -> 476.45897 | F31: =SUM($C31/52.143)/37 -> 12.877269 | G31: =SUM($C31/52.143)/37*1.1381 -> 14.65562
A32: SCALE 6
A33: 26 | B33: 23866 | C33: =ROUND((B33*1.075),0) -> 25656 | D33: =C33/12 -> 2138 | E33: =SUM(C33/52.143) -> 492.03153 | F33: =SUM($C33/52.143)/37 -> 13.298149 | G33: =SUM($C33/52.143)/37*1.1381 -> 15.134624
A34: 27 | B34: 24657 | C34: =ROUND((B34*1.075),0) -> 26506 | D34: =C34/12 -> 2208.8333 | E34: =SUM(C34/52.143) -> 508.33285 | F34: =SUM($C34/52.143)/37 -> 13.738726 | G34: =SUM($C34/52.143)/37*1.1381 -> 15.636044
A35: 28 | B35: 25463 | C35: =ROUND((B35*1.075),0) -> 27373 | D35: =C35/12 -> 2281.0833 | E35: =SUM(C35/52.143) -> 524.96021 | F35: =SUM($C35/52.143)/37 -> 14.188114 | G35: =SUM($C35/52.143)/37*1.1381 -> 16.147492
B37: Scp 19 | C37: OFA | D37: Total Annual | F37: Hourly | G37: Inc Hols
A38: Midday Supervisors | B38: =B24 -> 19446 | C38: 597 | D38: =B38+C38 -> 20043 | F38: =SUM(B38+C38)/37/52.143 -> 10.38879 | G38: =D38/52.143/37*1.1381 -> 11.823482
A40: CAR ALLOWANCES
A42: All casuals are paid same rate, irrespective of car cubic capacity.
A44: USER | B44: Miles per annum | D44: All cc's
D45: pence per mile
A47: Casual | B47: Up to | C47: 10000 | D47: 45
B48: Over | C48: 10000 | D48: 25
A51: MANAGEMENT GRADES 7 & 8 | F51: April 18 | H51: With holiday allowance
A53: GRADE | B53: SPINAL | C53: TOTAL | D53: MONTHLY | E53: WEEKLY | F53: HOURLY
B54: POINT | C54: SALARY | D54: SALARY | E54: SALARY | F54: RATE | H54: +13.81%
C55: £ | D55: RBWM | E55: RBWM | F55: RBWM
A56: 8 | B56: 1 | C56: 29996 | D56: =C56/12 -> 2499.6667 | E56: =SUM(C56/52.143) -> 575.26418 | F56: =SUM(C56/52.143)/37 -> 15.54768 | H56: =SUM(C56*113.81%) -> 34138.448
B57: 2 | C57: 30805 | D57: =C57/12 -> 2567.0833 | E57: =SUM(C57/52.143) -> 590.7792 | F57: =SUM(C57/52.143)/37 -> 15.967005 | H57: =SUM(C57*113.81%) -> 35059.171
B58: 3 | C58: 31607 | D58: =C58/12 -> 2633.9167 | E58: =SUM(C58/52.143) -> 606.15998 | F58: =SUM(C58/52.143)/37 -> 16.382702 | H58: =SUM(C58*113.81%) -> 35971.927
B59: 4 | C59: 32542 | D59: =C59/12 -> 2711.8333 | E59: =SUM(C59/52.143) -> 624.09144 | F59: =SUM(C59/52.143)/37 -> 16.867336 | H59: =SUM(C59*113.81%) -> 37036.05
B60: 5 | C60: 33482 | D60: =C60/12 -> 2790.1667 | E60: =SUM(C60/52.143) -> 642.11879 | F60: =SUM(C60/52.143)/37 -> 17.354562 | H60: =SUM(C60*113.81%) -> 38105.864
A61: 7 | B61: 1 | C61: 34150 | D61: =C61/12 -> 2845.8333 | E61: =SUM(C61/52.143) -> 654.92971 | F61: =SUM(C61/52.143)/37 -> 17.700803 | H61: =SUM(C61*113.81%) -> 38866.115
B62: 2 | C62: 35088 | D62: =C62/12 -> 2924 | E62: =SUM(C62/52.143) -> 672.9187 | F62: =SUM(C62/52.143)/37 -> 18.186992 | H62: =SUM(C62*113.81%) -> 39933.653
B63: 3 | C63: 36026 | D63: =C63/12 -> 3002.1667 | E63: =SUM(C63/52.143) -> 690.9077 | F63: =SUM(C63/52.143)/37 -> 18.673181 | H63: =SUM(C63*113.81%) -> 41001.191
B64: 4 | C64: 36963 | D64: =C64/12 -> 3080.25 | E64: =SUM(C64/52.143) -> 708.87751 | F64: =SUM(C64/52.143)/37 -> 19.158852 | H64: =SUM(C64*113.81%) -> 42067.59
B65: 5 | C65: 37868 | D65: =C65/12 -> 3155.6667 | E65: =SUM(C65/52.143) -> 726.23363 | F65: =SUM(C65/52.143)/37 -> 19.627936 | H65: =SUM(C65*113.81%) -> 43097.571
A70: MANAGEMENT GRADES | D70: 43191
B72: Salary range
D73: Hourly Rate
A74: GRADE | B74: MIN | C74: MAX | D74: MIN | E74: MAX
A76: M1+ | B76: 73898 | C76: 98528 | D76: =SUM(B76/52.143/37) -> 38.30319 | E76: =SUM(C76/52.143/37) -> 51.069538
D77: 0 | E77: 0
A78: M1 | B78: 67742 | C78: 78823 | D78: =SUM(B78/52.143/37) -> 35.112381 | E78: =SUM(C78/52.143/37) -> 40.855941
D79: 0 | E79: 0
A80: M2 | B80: 60441 | C80: 66170 | D80: =SUM(B80/52.143/37) -> 31.328089 | E80: =SUM(C80/52.143/37) -> 34.297574
D81: 0 | E81: 0
A82: M3 | B82: 54024 | C82: 58989 | D82: =SUM(B82/52.143/37) -> 28.001997 | E82: =SUM(C82/52.143/37) -> 30.575481
D83: 0 | E83: 0
A84: M4 | B84: 48021 | C84: 52515 | D84: =SUM(B84/52.143/37) -> 24.890491 | E84: =SUM(C84/52.143/37) -> 27.219844
D85: 0 | E85: 0
A86: M5 | B86: 43791 | C86: 47861 | D86: =SUM(B86/52.143/37) -> 22.697976 | E86: =SUM(C86/52.143/37) -> 24.807559
D87: 0 | E87: 0
A88: M6 | B88: 39964 | C88: 43650 | D88: =SUM(B88/52.143/37) -> 20.714345 | E88: =SUM(C88/52.143/37) -> 22.624892

Sheet April 19
D1: Schools April 19 | L1: Schools April 19
A2: Old pay spine 2018 | B2: New pay spine 2019
A4: SCALE / | B4: SCALE / | C4: BASIC | D4: TOTAL | E4: MONTHLY | F4: WEEKLY | G4: HOURLY | H4: HOURLY | J4: NEW PAY SPINE 2019 | K4: Basic salary | L4: Total RBWM salary | M4: MONTHLY | N4: WEEKLY | O4: HOURLY | P4: HOURLY
A5: SPINAL | B5: NEW SPINAL | C5: SALARY | D5: SALARY | E5: SALARY | F5: SALARY | G5: RATE | H5: RATE | M5: SALARY | N5: SALARY | O5: RATE | P5: RATE
A6: POINT | B6: POINT | D6: RBWM | E6: RBWM | F6: RBWM | G6: RBWM | H6: (inc. hol) | M6: RBWM | N6: RBWM | O6: RBWM | P6: (inc. hol)
A7: SCALE 2 | B7: SCALE 2, a | C7: £ | D7: £ | E7: £ | F7: £ | G7: £ | H7: £ | J7: 1 | K7: =C8 -> 17364 | L7: =D8 -> 18666 | M7: =L7/12 -> 1555.5 | N7: =SUM(L7/52.143) -> 357.9771 | O7: =SUM($L7/52.143)/37 -> 9.6750568 | P7: =SUM($L7/52.143)/37*1.1381 -> 11.011182
A8: 6 | B8: 1 | C8: 17364 | D8: =ROUND((C8*1.075),0) -> 18666 | E8: =D8/12 -> 1555.5 | F8: =SUM(D8/52.143) -> 357.9771 | G8: =SUM($D8/52.143)/37 -> 9.6750568 | H8: =SUM($D8/52.143)/37*1.1381 -> 11.011182 | I8: =C8*102.75% -> 17841.51 | J8: 2 | K8: =C12 -> 17711 | L8: =D12 -> 19039 | M8: =L8/12 -> 1586.5833 | N8: =SUM(L8/52.143) -> 365.13051 | O8: =SUM($L8/52.143)/37 -> 9.8683921 | P8: =SUM($L8/52.143)/37*1.1381 -> 11.231217
A9: 7 | B9: 1 | I9: =C9*102.75% -> 0 | J9: 3 | K9: =C14 -> 18065 | L9: =D14 -> 19420 | M9: =L9/12 -> 1618.3333 | N9: =SUM(L9/52.143) -> 372.43734 | O9: =SUM($L9/52.143)/37 -> 10.065874 | P9: =SUM($L9/52.143)/37*1.1381 -> 11.455971
A10: 8 | B10: 2 | C10: =C12 -> 17711 | D10: =D12 -> 19039 | E10: =E12 -> 1586.5833 | F10: =F12 -> 365.13051 | G10: =G12 -> 9.8683921 | H10: =H12 -> 11.231217 | I10: =C10*102.75% -> 18198.053 | J10: 4 | K10: =C18 -> 18426 | L10: =D18 -> 19808 | M10: =L10/12 -> 1650.6667 | N10: =SUM(L10/52.143) -> 379.87841 | O10: =SUM($L10/52.143)/37 -> 10.266984 | P10: =SUM($L10/52.143)/37*1.1381 -> 11.684855
B11: SCALE 2, b | I11: =C11*102.75% -> 0 | J11: 5 | K11: =C20 -> 18795 | L11: =D20 -> 20205 | M11: =L11/12 -> 1683.75 | N11: =SUM(L11/52.143) -> 387.49209 | O11: =SUM($L11/52.143)/37 -> 10.472759 | P11: =SUM($L11/52.143)/37*1.1381 -> 11.919047
A12: 9 | B12: 2 | C12: 17711 | D12: =ROUND((C12*1.075),0) -> 19039 | E12: =D12/12 -> 1586.5833 | F12: =SUM(D12/52.143) -> 365.13051 | G12: =SUM($D12/52.143)/37 -> 9.8683921 | H12: =SUM($D12/52.143)/37*1.1381 -> 11.231217 | I12: =C12*102.75% -> 18198.053 | J12: 6 | K12: =C23 -> 19171 | L12: =D23 -> 20609 | M12: =L12/12 -> 1717.4167 | N12: =SUM(L12/52.143) -> 395.24001 | O12: =SUM($L12/52.143)/37 -> 10.682163 | P12: =SUM($L12/52.143)/37*1.1381 -> 12.157369
A13: 10 | B13: 3 | I13: =C13*102.75% -> 0 | J13: 7 | K13: =C25 -> 19554 | L13: =D25 -> 21021 | M13: =L13/12 -> 1751.75 | N13: =SUM(L13/52.143) -> 403.14136 | O13: =SUM($L13/52.143)/37 -> 10.895712 | P13: =SUM($L13/52.143)/37*1.1381 -> 12.40041
A14: 11 | B14: 3 | C14: 18065 | D14: =ROUND((C14*1.075),0) -> 19420 | E14: =D14/12 -> 1618.3333 | F14: =SUM(D14/52.143) -> 372.43734 | G14: =SUM($D14/52.143)/37 -> 10.065874 | H14: =SUM($D14/52.143)/37*1.1381 -> 11.455971 | I14: =C14*102.75% -> 18561.788 | J14: 8 | K14: =C26 -> 19945 | L14: =D26 -> 21441 | M14: =L14/12 -> 1786.75 | N14: =SUM(L14/52.143) -> 411.19613 | O14: =SUM($L14/52.143)/37 -> 11.113409 | P14: =SUM($L14/52.143)/37*1.1381 -> 12.648171
B15: SCALE 2, c | I15: =C15*102.75% -> 0 | J15: 9 | K15: =C27 -> 20344 | L15: =D27 -> 21870 | M15: =L15/12 -> 1822.5 | N15: =SUM(L15/52.143) -> 419.42351 | O15: =SUM($L15/52.143)/37 -> 11.33577 | P15: =SUM($L15/52.143)/37*1.1381 -> 12.90124
A16: 11 | B16: 3 | C16: =C14 -> 18065 | D16: =D14 -> 19420 | E16: =E14 -> 1618.3333 | F16: =F14 -> 372.43734 | G16: =G14 -> 10.065874 | H16: =H14 -> 11.455971 | I16: =C16*102.75% -> 18561.788 | J16: 10 | K16: =C28 -> 20751 | L16: =D28 -> 22307 | M16: =L16/12 -> 1858.9167 | N16: =SUM(L16/52.143) -> 427.80431 | O16: =SUM($L16/52.143)/37 -> 11.562279 | P16: =SUM($L16/52.143)/37*1.1381 -> 13.159029
A17: 12 | B17: 4 | I17: =C17*102.75% -> 0 | J17: 11 | K17: =C29 -> 21166 | L17: =D29 -> 22753 | M17: =L17/12 -> 1896.0833 | N17: =SUM(L17/52.143) -> 436.35771 | O17: =SUM($L17/52.143)/37 -> 11.793452 | P17: =SUM($L17/52.143)/37*1.1381 -> 13.422127
A18: 13 | B18: 4 | C18: 18426 | D18: =ROUND((C18*1.075),0) -> 19808 | E18: =D18/12 -> 1650.6667 | F18: =SUM(D18/52.143) -> 379.87841 | G18: =SUM($D18/52.143)/37 -> 10.266984 | H18: =SUM($D18/52.143)/37*1.1381 -> 11.684855 | I18: =C18*102.75% -> 18932.715 | J18: 12 | K18: =C31 -> 21589 | L18: =D31 -> 23208 | M18: =L18/12 -> 1934 | N18: =SUM(L18/52.143) -> 445.08371 | O18: =SUM($L18/52.143)/37 -> 12.02929 | P18: =SUM($L18/52.143)/37*1.1381 -> 13.690534
A19: SCALE 3 | B19: SCALE 3 | I19: =C19*102.75% -> 0 | J19: 13 | K19: =C32 -> 22021 | L19: =D32 -> 23673 | M19: =L19/12 -> 1972.75 | N19: =SUM(L19/52.143) -> 454.0015 | O19: =SUM($L19/52.143)/37 -> 12.270311 | P19: =SUM($L19/52.143)/37*1.1381 -> 13.964841
A20: 14 | B20: 5 | C20: 18795 | D20: =ROUND((C20*1.075),0) -> 20205 | E20: =D20/12 -> 1683.75 | F20: =SUM(D20/52.143) -> 387.49209 | G20: =SUM($D20/52.143)/37 -> 10.472759 | H20: =SUM($D20/52.143)/37*1.1381 -> 11.919047 | I20: =C20*102.75% -> 19311.863 | J20: 14 | K20: =C33 -> 22462 | L20: =D33 -> 24147 | M20: =L20/12 -> 2012.25 | N20: =SUM(L20/52.143) -> 463.09188 | O20: =SUM($L20/52.143)/37 -> 12.515997 | P20: =SUM($L20/52.143)/37*1.1381 -> 14.244456
A21: 15 | B21: 5 | I21: =C21*102.75% -> 0 | J21: 15 | K21: =C34 -> 22911 | L21: =D34 -> 24629 | M21: =L21/12 -> 2052.4167 | N21: =SUM(L21/52.143) -> 472.33569 | O21: =SUM($L21/52.143)/37 -> 12.76583 | P21: =SUM($L21/52.143)/37*1.1381 -> 14.528791
A22: 16 | B22: 6 | I22: =C22*102.75% -> 0 | J22: 16 | K22: =C35 -> 23369 | L22: =D35 -> 25122 | M22: =L22/12 -> 2093.5 | N22: =SUM(L22/52.143) -> 481.79046 | O22: =SUM($L22/52.143)/37 -> 13.021364 | P22: =SUM($L22/52.143)/37*1.1381 -> 14.819614
A23: 17 | B23: 6 | C23: 19171 | D23: =ROUND((C23*1.075),0) -> 20609 | E23: =D23/12 -> 1717.4167 | F23: =SUM(D23/52.143) -> 395.24001 | G23: =SUM($D23/52.143)/37 -> 10.682163 | H23: =SUM($D23/52.143)/37*1.1381 -> 12.157369 | I23: =C23*102.75% -> 19698.203 | J23: 17 | K23: =C36 -> 23836 | L23: =D36 -> 25624 | M23: =L23/12 -> 2135.3333 | N23: =SUM(L23/52.143) -> 491.41783 | O23: =SUM($L23/52.143)/37 -> 13.281563 | P23: =SUM($L23/52.143)/37*1.1381 -> 15.115747
A24: SCALE 4 | B24: SCALE 4 | I24: =C24*102.75% -> #VALUE! | J24: 18 | K24: =C38 -> 24313 | L24: =D38 -> 26136 | M24: =L24/12 -> 2178 | N24: =SUM(L24/52.143) -> 501.23698 | O24: =SUM($L24/52.143)/37 -> 13.546945 | P24: =SUM($L24/52.143)/37*1.1381 -> 15.417779
A25: 18 | B25: 7 | C25: 19554 | D25: =ROUND((C25*1.075),0) -> 21021 | E25: =D25/12 -> 1751.75 | F25: =SUM(D25/52.143) -> 403.14136 | G25: =SUM($D25/52.143)/37 -> 10.895712 | H25: =SUM($D25/52.143)/37*1.1381 -> 12.40041 | I25: =C25*102.75% -> 20091.735 | J25: 19 | K25: =C39 -> 24799 | L25: =D39 -> 26659 | M25: =L25/12 -> 2221.5833 | N25: =SUM(L25/52.143) -> 511.26709 | O25: =SUM($L25/52.143)/37 -> 13.81803 | P25: =SUM($L25/52.143)/37*1.1381 -> 15.726299
A26: 19 | B26: 8 | C26: 19945 | D26: =ROUND((C26*1.075),0) -> 21441 | E26: =D26/12 -> 1786.75 | F26: =SUM(D26/52.143) -> 411.19613 | G26: =SUM($D26/52.143)/37 -> 11.113409 | H26: =SUM($D26/52.143)/37*1.1381 -> 12.648171 | I26: =C26*102.75% -> 20493.488 | J26: 20 | K26: =C40 -> 25295 | L26: =D40 -> 27192 | M26: =L26/12 -> 2266 | N26: =SUM(L26/52.143) -> 521.48898 | O26: =SUM($L26/52.143)/37 -> 14.094297 | P26: =SUM($L26/52.143)/37*1.1381 -> 16.040719
A27: 20 | B27: 9 | C27: 20344 | D27: =ROUND((C27*1.075),0) -> 21870 | E27: =D27/12 -> 1822.5 | F27: =SUM(D27/52.143) -> 419.42351 | G27: =SUM($D27/52.143)/37 -> 11.33577 | H27: =SUM($D27/52.143)/37*1.1381 -> 12.90124 | I27: =C27*102.75% -> 20903.46 | J27: 21 | K27: =C41 -> 25801 | L27: =D41 -> 27736 | M27: =L27/12 -> 2311.3333 | N27: =SUM(L27/52.143) -> 531.92183 | O27: =SUM($L27/52.143)/37 -> 14.376266 | P27: =SUM($L27/52.143)/37*1.1381 -> 16.361628
B28: 10 | C28: 20751 | D28: =ROUND((C28*1.075),0) -> 22307 | E28: =D28/12 -> 1858.9167 | F28: =SUM(D28/52.143) -> 427.80431 | G28: =SUM($D28/52.143)/37 -> 11.562279 | H28: =SUM($D28/52.143)/37*1.1381 -> 13.159029 | I28: =C28*102.75% -> 21321.653 | J28: 22 | K28: =C42 -> 26317 | L28: =D42 -> 28291 | M28: =L28/12 -> 2357.5833 | N28: =SUM(L28/52.143) -> 542.56564 | O28: =SUM($L28/52.143)/37 -> 14.663936 | P28: =SUM($L28/52.143)/37*1.1381 -> 16.689026
A29: 21 | B29: 11 | C29: 21166 | D29: =ROUND((C29*1.075),0) -> 22753 | E29: =D29/12 -> 1896.0833 | F29: =SUM(D29/52.143) -> 436.35771 | G29: =SUM($D29/52.143)/37 -> 11.793452 | H29: =SUM($D29/52.143)/37*1.1381 -> 13.422127 | I29: =C29*102.75% -> 21748.065
A30: SCALE 5 | B30: SCALE 5 | I30: =C30*102.75% -> 0
A31: 22 | B31: 12 | C31: 21589 | D31: =ROUND((C31*1.075),0) -> 23208 | E31: =D31/12 -> 1934 | F31: =SUM(D31/52.143) -> 445.08371 | G31: =SUM($D31/52.143)/37 -> 12.02929 | H31: =SUM($D31/52.143)/37*1.1381 -> 13.690534 | I31: =C31*102.75% -> 22182.698
B32: 13 | C32: 22021 | D32: =ROUND((C32*1.075),0) -> 23673 | E32: =D32/12 -> 1972.75 | F32: =SUM(D32/52.143) -> 454.0015 | G32: =SUM($D32/52.143)/37 -> 12.270311 | H32: =SUM($D32/52.143)/37*1.1381 -> 13.964841 | I32: =C32*102.75% -> 22626.578
A33: 23 | B33: 14 | C33: 22462 | D33: =ROUND((C33*1.075),0) -> 24147 | E33: =D33/12 -> 2012.25 | F33: =SUM(D33/52.143) -> 463.09188 | G33: =SUM($D33/52.143)/37 -> 12.515997 | H33: =SUM($D33/52.143)/37*1.1381 -> 14.244456 | I33: =C33*102.75% -> 23079.705
A34: 24 | B34: 15 | C34: 22911 | D34: =ROUND((C34*1.075),0) -> 24629 | E34: =D34/12 -> 2052.4167 | F34: =SUM(D34/52.143) -> 472.33569 | G34: =SUM($D34/52.143)/37 -> 12.76583 | H34: =SUM($D34/52.143)/37*1.1381 -> 14.528791 | I34: =C34*102.75% -> 23541.053
B35: 16 | C35: 23369 | D35: =ROUND((C35*1.075),0) -> 25122 | E35: =D35/12 -> 2093.5 | F35: =SUM(D35/52.143) -> 481.79046 | G35: =SUM($D35/52.143)/37 -> 13.021364 | H35: =SUM($D35/52.143)/37*1.1381 -> 14.819614 | I35: =C35*102.75% -> 24011.648
A36: 25 | B36: 17 | C36: 23836 | D36: =ROUND((C36*1.075),0) -> 25624 | E36: =D36/12 -> 2135.3333 | F36: =SUM(D36/52.143) -> 491.41783 | G36: =SUM($D36/52.143)/37 -> 13.281563 | H36: =SUM($D36/52.143)/37*1.1381 -> 15.115747 | I36: =C36*102.75% -> 24491.49
A37: SCALE 6 | B37: SCALE 6 | I37: =C37*102.75% -> 0
B38: 18 | C38: 24313 | D38: =ROUND((C38*1.075),0) -> 26136 | E38: =D38/12 -> 2178 | F38: =SUM(D38/52.143) -> 501.23698 | G38: =SUM($D38/52.143)/37 -> 13.546945 | H38: =SUM($D38/52.143)/37*1.1381 -> 15.417779 | I38: =C38*102.75% -> 24981.608
A39: 26 | B39: 19 | C39: 24799 | D39: =ROUND((C39*1.075),0) -> 26659 | E39: =D39/12 -> 2221.5833 | F39: =SUM(D39/52.143) -> 511.26709 | G39: =SUM($D39/52.143)/37 -> 13.81803 | H39: =SUM($D39/52.143)/37*1.1381 -> 15.726299 | I39: =C39*102.75% -> 25480.973
A40: 27 | B40: 20 | C40: 25295 | D40: =ROUND((C40*1.075),0) -> 27192 | E40: =D40/12 -> 2266 | F40: =SUM(D40/52.143) -> 521.48898 | G40: =SUM($D40/52.143)/37 -> 14.094297 | H40: =SUM($D40/52.143)/37*1.1381 -> 16.040719 | I40: =C40*102.75% -> 25990.613
B41: 21 | C41: 25801 | D41: =ROUND((C41*1.075),0) -> 27736 | E41: =D41/12 -> 2311.3333 | F41: =SUM(D41/52.143) -> 531.92183 | G41: =SUM($D41/52.143)/37 -> 14.376266 | H41: =SUM($D41/52.143)/37*1.1381 -> 16.361628 | I41: =C41*102.75% -> 26510.528
A42: 28 | B42: 22 | C42: 26317 | D42: =ROUND((C42*1.075),0) -> 28291 | E42: =D42/12 -> 2357.5833 | F42: =SUM(D42/52.143) -> 542.56564 | G42: =SUM($D42/52.143)/37 -> 14.663936 | H42: =SUM($D42/52.143)/37*1.1381 -> 16.689026 | I42: =C42*102.75% -> 27040.718
I43: =C43*102.75% -> 0
A44: 19 | B44: 8 | D44: OFA | E44: Total Annual | G44: Hourly | H44: Inc Hols | I44: =C44*102.75% -> 0
A45: Midday Supervisors | B45: Midday Supervisors | C45: =C26 -> 19945 | D45: 609 | E45: =C45+D45 -> 20554 | G45: =SUM(C45+D45)/37/52.143 -> 10.653655 | H45: =E45/52.143/37*1.1381 -> 12.124924 | I45: =C45*102.75% -> 20493.488 | J45: =D45*102.75% -> 625.7475
A47: CAR ALLOWANCES
A49: All casual car users are paid same rate, irrespective of car cubic capacity.
A51: USER | B51: Miles per annum | D51: All cc's
D52: pence per mile
A54: Casual | B54: Up to | C54: 10000 | D54: 45
B55: Over | C55: 10000 | D55: 25
A60: 2% increase
A61: MANAGEMENT GRADES 7 & 8 | B61: April 19 | G61: With holiday allowance
A63: GRADE | B63: SPINAL | C63: TOTAL | D63: MONTHLY | E63: WEEKLY | F63: HOURLY
B64: POINT | C64: SALARY | D64: SALARY | E64: SALARY | F64: RATE | G64: +13.81%
C65: £ | D65: £ | E65: £ | F65: £ | G65: £
A66: 8 | B66: 1 | C66: 30596 | D66: =C66/12 -> 2549.6667 | E66: =SUM(C66/52.143) -> 586.771 | F66: =SUM(C66/52.143)/37 -> 15.858676 | G66: =SUM(C66*113.81%) -> 34821.308
B67: 2 | C67: 31421 | D67: =C67/12 -> 2618.4167 | E67: =SUM(C67/52.143) -> 602.59287 | F67: =SUM(C67/52.143)/37 -> 16.286294 | G67: =SUM(C67*113.81%) -> 35760.24
B68: 3 | C68: 32239 | D68: =C68/12 -> 2686.5833 | E68: =SUM(C68/52.143) -> 618.2805 | F68: =SUM(C68/52.143)/37 -> 16.710284 | G68: =SUM(C68*113.81%) -> 36691.206
B69: 4 | C69: 33193 | D69: =C69/12 -> 2766.0833 | E69: =SUM(C69/52.143) -> 636.57634 | F69: =SUM(C69/52.143)/37 -> 17.204766 | G69: =SUM(C69*113.81%) -> 37776.953
B70: 5 | C70: 34152 | D70: =C70/12 -> 2846 | E70: =SUM(C70/52.143) -> 654.96807 | F70: =SUM(C70/52.143)/37 -> 17.70184 | G70: =SUM(C70*113.81%) -> 38868.391
A71: 7 | B71: 1 | C71: 34833 | D71: =C71/12 -> 2902.75 | E71: =SUM(C71/52.143) -> 668.02831 | F71: =SUM(C71/52.143)/37 -> 18.054819 | G71: =SUM(C71*113.81%) -> 39643.437
B72: 2 | C72: 35790 | D72: =C72/12 -> 2982.5 | E72: =SUM(C72/52.143) -> 686.38168 | F72: =SUM(C72/52.143)/37 -> 18.550856 | G72: =SUM(C72*113.81%) -> 40732.599
B73: 3 | C73: 36747 | D73: =C73/12 -> 3062.25 | E73: =SUM(C73/52.143) -> 704.73506 | F73: =SUM(C73/52.143)/37 -> 19.046893 | G73: =SUM(C73*113.81%) -> 41821.761
B74: 4 | C74: 37702 | D74: =C74/12 -> 3141.8333 | E74: =SUM(C74/52.143) -> 723.05007 | F74: =SUM(C74/52.143)/37 -> 19.541894 | G74: =SUM(C74*113.81%) -> 42908.646
B75: 5 | C75: 38625 | D75: =C75/12 -> 3218.75 | E75: =SUM(C75/52.143) -> 740.7514 | F75: =SUM(C75/52.143)/37 -> 20.020308 | G75: =SUM(C75*113.81%) -> 43959.113
A85: 2% increase
A86: MANAGEMENT GRADES | B86: April 19
A88: Salary range
D89: Hourly Rate | E89: Hourly Rate
A90: GRADE | B90: MIN | C90: MAX | D90: MIN | E90: MAX
A92: M1+ | B92: 75376 | C92: 100499 | D92: =SUM(B92/52.143/37) -> 39.069275 | E92: =SUM(C92/52.143/37) -> 52.091157
D93: 0 | E93: 0
A94: M1 | B94: 69097 | C94: 80399 | D94: =SUM(B94/52.143/37) -> 35.814711 | E94: =SUM(C94/52.143/37) -> 41.672822
D95: 0 | E95: 0
A96: M2 | B96: 61650 | C96: 67493 | D96: =SUM(B96/52.143/37) -> 31.954744 | E96: =SUM(C96/52.143/37) -> 34.983318
D97: 0 | E97: 0
A98: M3 | B98: 55104 | C98: 60169 | D98: =SUM(B98/52.143/37) -> 28.561788 | E98: =SUM(C98/52.143/37) -> 31.187104
D99: 0 | E99: 0
A100: M4 | B100: 48981 | C100: 53565 | D100: =SUM(B100/52.143/37) -> 25.388083 | E100: =SUM(C100/52.143/37) -> 27.764085
D101: 0 | E101: 0
A102: M5 | B102: 44667 | C102: 48818 | D102: =SUM(B102/52.143/37) -> 23.152028 | E102: =SUM(C102/52.143/37) -> 25.303596
D103: 0 | E103: 0
A104: M6 | B104: 40763 | C104: 44523 | D104: =SUM(B104/52.143/37) -> 21.128487 | E104: =SUM(C104/52.143/37) -> 23.07739

Sheet April 20
D1: Schools April 20 | G1: 2.75% increase
B4: SCALE / | C4: BASIC | D4: TOTAL | E4: MONTHLY | F4: WEEKLY | G4: HOURLY | H4: HOURLY
B5: NEW SPINAL | C5: SALARY | D5: SALARY | E5: SALARY | F5: SALARY | G5: RATE | H5: RATE
B6: POINT | D6: RBWM | E6: RBWM | F6: RBWM | G6: RBWM | H6: (inc. hol)
B7: SCALE 2, a | C7: £ | D7: £ | E7: £ | F7: £ | G7: £ | H7: £
B8: 1 | C8: 17842 | D8: =ROUND((C8*1.075),0) -> 19180 | E8: =D8/12 -> 1598.3333 | F8: =SUM(D8/52.143) -> 367.83461 | G8: =SUM($D8/52.143)/37 -> 9.9414759 | H8: =SUM($D8/52.143)/37*1.1381 -> 11.314394
B9: 2 | C9: 18198 | D9: =D11 -> 19563 | E9: =E11 -> 1630.25 | F9: =F11 -> 375.17979 | G9: =G11 -> 10.139994 | H9: =H11 -> 11.540328
B10: SCALE 2, b
B11: 2 | C11: 18198 | D11: =ROUND((C11*1.075),0) -> 19563 | E11: =D11/12 -> 1630.25 | F11: =SUM(D11/52.143) -> 375.17979 | G11: =SUM($D11/52.143)/37 -> 10.139994 | H11: =SUM($D11/52.143)/37*1.1381 -> 11.540328
B12: 3 | C12: 18562 | D12: =ROUND((C12*1.075),0) -> 19954 | E12: =D12/12 -> 1662.8333 | F12: =SUM(D12/52.143) -> 382.6784 | G12: =SUM($D12/52.143)/37 -> 10.34266 | H12: =SUM($D12/52.143)/37*1.1381 -> 11.770981
B13: SCALE 2, c
B14: 3 | C14: =C12 -> 18562 | D14: =D12 -> 19954 | E14: =E12 -> 1662.8333 | F14: =F12 -> 382.6784 | G14: =G12 -> 10.34266 | H14: =H12 -> 11.770981
B15: 4 | C15: 18933 | D15: =ROUND((C15*1.075),0) -> 20353 | E15: =D15/12 -> 1696.0833 | F15: =SUM(D15/52.143) -> 390.33044 | G15: =SUM($D15/52.143)/37 -> 10.549471 | H15: =SUM($D15/52.143)/37*1.1381 -> 12.006353
B16: SCALE 3
B17: 5 | C17: 19312 | D17: =ROUND((C17*1.075),0) -> 20760 | E17: =D17/12 -> 1730 | F17: =SUM(D17/52.143) -> 398.1359 | G17: =SUM($D17/52.143)/37 -> 10.76043 | H17: =SUM($D17/52.143)/37*1.1381 -> 12.246445
B18: 6 | C18: 19698 | D18: =ROUND((C18*1.075),0) -> 21175 | E18: =D18/12 -> 1764.5833 | F18: =SUM(D18/52.143) -> 406.09478 | G18: =SUM($D18/52.143)/37 -> 10.975535 | H18: =SUM($D18/52.143)/37*1.1381 -> 12.491256
B19: SCALE 4
B20: 7 | C20: 20092 | D20: =ROUND((C20*1.075),0) -> 21599 | E20: =D20/12 -> 1799.9167 | F20: =SUM(D20/52.143) -> 414.22626 | G20: =SUM($D20/52.143)/37 -> 11.195304 | H20: =SUM($D20/52.143)/37*1.1381 -> 12.741376
B21: 8 | C21: 20493 | D21: =ROUND((C21*1.075),0) -> 22030 | E21: =D21/12 -> 1835.8333 | F21: =SUM(D21/52.143) -> 422.49199 | G21: =SUM($D21/52.143)/37 -> 11.418703 | H21: =SUM($D21/52.143)/37*1.1381 -> 12.995625
B22: 9 | C22: 20903 | D22: =ROUND((C22*1.075),0) -> 22471 | E22: =D22/12 -> 1872.5833 | F22: =SUM(D22/52.143) -> 430.9495 | G22: =SUM($D22/52.143)/37 -> 11.647284 | H22: =SUM($D22/52.143)/37*1.1381 -> 13.255774
B23: 10 | C23: 21322 | D23: =ROUND((C23*1.075),0) -> 22921 | E23: =D23/12 -> 1910.0833 | F23: =SUM(D23/52.143) -> 439.57962 | G23: =SUM($D23/52.143)/37 -> 11.88053 | H23: =SUM($D23/52.143)/37*1.1381 -> 13.521231
B24: 11 | C24: 21748 | D24: =ROUND((C24*1.075),0) -> 23379 | E24: =D24/12 -> 1948.25 | F24: =SUM(D24/52.143) -> 448.36316 | G24: =SUM($D24/52.143)/37 -> 12.117923 | H24: =SUM($D24/52.143)/37*1.1381 -> 13.791408
B25: SCALE 5
B26: 12 | C26: 22183 | D26: =ROUND((C26*1.075),0) -> 23847 | E26: =D26/12 -> 1987.25 | F26: =SUM(D26/52.143) -> 457.33847 | G26: =SUM($D26/52.143)/37 -> 12.360499 | H26: =SUM($D26/52.143)/37*1.1381 -> 14.067484
B27: 13 | C27: 22627 | D27: =ROUND((C27*1.075),0) -> 24324 | E27: =D27/12 -> 2027 | F27: =SUM(D27/52.143) -> 466.48639 | G27: =SUM($D27/52.143)/37 -> 12.60774 | H27: =SUM($D27/52.143)/37*1.1381 -> 14.348869
B28: 14 | C28: 23080 | D28: =ROUND((C28*1.075),0) -> 24811 | E28: =D28/12 -> 2067.5833 | F28: =SUM(D28/52.143) -> 475.82609 | G28: =SUM($D28/52.143)/37 -> 12.860165 | H28: =SUM($D28/52.143)/37*1.1381 -> 14.636153
B29: 15 | C29: 23541 | D29: =ROUND((C29*1.075),0) -> 25307 | E29: =D29/12 -> 2108.9167 | F29: =SUM(D29/52.143) -> 485.3384 | G29: =SUM($D29/52.143)/37 -> 13.117254 | H29: =SUM($D29/52.143)/37*1.1381 -> 14.928747
B30: 16 | C30: 24012 | D30: =ROUND((C30*1.075),0) -> 25813 | E30: =D30/12 -> 2151.0833 | F30: =SUM(D30/52.143) -> 495.04248 | G30: =SUM($D30/52.143)/37 -> 13.379526 | H30: =SUM($D30/52.143)/37*1.1381 -> 15.227239
B31: 17 | C31: 24491 | D31: =ROUND((C31*1.075),0) -> 26328 | E31: =D31/12 -> 2194 | F31: =SUM(D31/52.143) -> 504.91916 | G31: =SUM($D31/52.143)/37 -> 13.646464 | H31: =SUM($D31/52.143)/37*1.1381 -> 15.531041
B32: SCALE 6
B33: 18 | C33: 24982 | D33: =ROUND((C33*1.075),0) -> 26856 | E33: =D33/12 -> 2238 | F33: =SUM(D33/52.143) -> 515.04516 | G33: =SUM($D33/52.143)/37 -> 13.92014 | H33: =SUM($D33/52.143)/37*1.1381 -> 15.842511
B34: 19 | C34: 25481 | D34: =ROUND((C34*1.075),0) -> 27392 | E34: =D34/12 -> 2282.6667 | F34: =SUM(D34/52.143) -> 525.32459 | G34: =SUM($D34/52.143)/37 -> 14.197962 | H34: =SUM($D34/52.143)/37*1.1381 -> 16.1587
B35: 20 | C35: 25991 | D35: =ROUND((C35*1.075),0) -> 27940 | E35: =D35/12 -> 2328.3333 | F35: =SUM(D35/52.143) -> 535.83415 | G35: =SUM($D35/52.143)/37 -> 14.482004 | H35: =SUM($D35/52.143)/37*1.1381 -> 16.481969
B36: 21 | C36: 26511 | D36: =ROUND((C36*1.075),0) -> 28499 | E36: =D36/12 -> 2374.9167 | F36: =SUM(D36/52.143) -> 546.55467 | G36: =SUM($D36/52.143)/37 -> 14.771748 | H36: =SUM($D36/52.143)/37*1.1381 -> 16.811726
B37: 22 | C37: 27041 | D37: =ROUND((C37*1.075),0) -> 29069 | E37: =D37/12 -> 2422.4167 | F37: =SUM(D37/52.143) -> 557.48614 | G37: =SUM($D37/52.143)/37 -> 15.067193 | H37: =SUM($D37/52.143)/37*1.1381 -> 17.147972
B39: Midday Supervisors | D39: OFA | E39: Total Annual | G39: Hourly | H39: Inc Hols
B40: 8 | C40: =C21 -> 20493 | D40: 626 | E40: =C40+D40 -> 21119 | G40: =SUM(C40+D40)/37/52.143 -> 10.946508 | H40: =E40/52.143/37*1.1381 -> 12.458221
A42: CAR ALLOWANCES
A44: All casual car users are paid same rate, irrespective of car cubic capacity.
A46: USER | B46: Miles per annum | D46: All cc's
D47: pence per mile
A49: Casual | B49: Up to | C49: 10000 | D49: 45
B50: Over | C50: 10000 | D50: 25
A55: 2.75% increase
A56: MANAGEMENT GRADES 7 & 8 | B56: April 20 | G56: With holiday allowance
A58: GRADE | B58: SPINAL | C58: TOTAL | D58: MONTHLY | E58: WEEKLY | F58: HOURLY
B59: POINT | C59: SALARY | D59: SALARY | E59: SALARY | F59: RATE | G59: +13.81%
C60: £ | D60: £ | E60: £ | F60: £ | G60: £
A61: 8 | B61: 1 | C61: =30596*1.0275 -> 31437.39 | D61: =C61/12 -> 2619.7825 | E61: =SUM(C61/52.143) -> 602.9072 | F61: =SUM(C61/52.143)/37 -> 16.294789 | G61: =SUM(C61*113.81%) -> 35778.894
B62: 2 | C62: =31421*1.0275 -> 32285.078 | D62: =C62/12 -> 2690.4231 | E62: =SUM(C62/52.143) -> 619.16417 | F62: =SUM(C62/52.143)/37 -> 16.734167 | G62: =SUM(C62*113.81%) -> 36743.647
B63: 3 | C63: =32239*1.0275 -> 33125.573 | D63: =C63/12 -> 2760.4644 | E63: =SUM(C63/52.143) -> 635.28321 | F63: =SUM(C63/52.143)/37 -> 17.169817 | G63: =SUM(C63*113.81%) -> 37700.214
B64: 4 | C64: =33193*1.0275 -> 34105.808 | D64: =C64/12 -> 2842.1506 | E64: =SUM(C64/52.143) -> 654.08219 | F64: =SUM(C64/52.143)/37 -> 17.677897 | G64: =SUM(C64*113.81%) -> 38815.82
B65: 5 | C65: =34152*1.0275 -> 35091.18 | D65: =C65/12 -> 2924.265 | E65: =SUM(C65/52.143) -> 672.97969 | F65: =SUM(C65/52.143)/37 -> 18.18864 | G65: =SUM(C65*113.81%) -> 39937.272
A66: 7 | B66: 1 | C66: =34833*1.0275 -> 35790.908 | D66: =C66/12 -> 2982.5756 | E66: =SUM(C66/52.143) -> 686.39909 | F66: =SUM(C66/52.143)/37 -> 18.551327 | G66: =SUM(C66*113.81%) -> 40733.632
B67: 2 | C67: =35790*1.0275 -> 36774.225 | D67: =C67/12 -> 3064.5188 | E67: =SUM(C67/52.143) -> 705.25718 | F67: =SUM(C67/52.143)/37 -> 19.061005 | G67: =SUM(C67*113.81%) -> 41852.745
B68: 3 | C68: =36747*1.0275 -> 37757.543 | D68: =C68/12 -> 3146.4619 | E68: =SUM(C68/52.143) -> 724.11527 | F68: =SUM(C68/52.143)/37 -> 19.570683 | G68: =SUM(C68*113.81%) -> 42971.859
B69: 4 | C69: =37702*1.0275 -> 38738.805 | D69: =C69/12 -> 3228.2337 | E69: =SUM(C69/52.143) -> 742.93395 | F69: =SUM(C69/52.143)/37 -> 20.079296 | G69: =SUM(C69*113.81%) -> 44088.634
B70: 5 | C70: =38625*1.0275 -> 39687.188 | D70: =C70/12 -> 3307.2656 | E70: =SUM(C70/52.143) -> 761.12206 | F70: =SUM(C70/52.143)/37 -> 20.570866 | G70: =SUM(C70*113.81%) -> 45167.988
A80: 2.75% increase
A81: MANAGEMENT GRADES | B81: April 20
A83: Salary range
D84: Hourly Rate | E84: Hourly Rate
A85: GRADE | B85: MIN | C85: MAX | D85: MIN | E85: MAX
A87: M1+ | B87: =75376*1.0275 -> 77448.84 | C87: =100499*1.0275 -> 103262.72 | D87: =SUM(B87/52.143/37) -> 40.14368 | E87: =SUM(C87/52.143/37) -> 53.523664
D88: 0 | E88: 0
A89: M1 | B89: =69097*1.0275 -> 70997.168 | C89: =80399*1.0275 -> 82609.973 | D89: =SUM(B89/52.143/37) -> 36.799616 | E89: =SUM(C89/52.143/37) -> 42.818824
D90: 0 | E90: 0
A91: M2 | B91: =61650*1.0275 -> 63345.375 | C91: =67493*1.0275 -> 69349.058 | D91: =SUM(B91/52.143/37) -> 32.833499 | E91: =SUM(C91/52.143/37) -> 35.945359
D92: 0 | E92: 0
A93: M3 | B93: =55104*1.0275 -> 56619.36 | C93: =60169*1.0275 -> 61823.648 | D93: =SUM(B93/52.143/37) -> 29.347237 | E93: =SUM(C93/52.143/37) -> 32.04475
D94: 0 | E94: 0
A95: M4 | B95: =48981*1.0275 -> 50327.978 | C95: =53565*1.0275 -> 55038.038 | D95: =SUM(B95/52.143/37) -> 26.086255 | E95: =SUM(C95/52.143/37) -> 28.527598
D96: 0 | E96: 0
A97: M5 | B97: =44667*1.0275 -> 45895.343 | C97: =48818*1.0275 -> 50160.495 | D97: =SUM(B97/52.143/37) -> 23.788709 | E97: =SUM(C97/52.143/37) -> 25.999445
D98: 0 | E98: 0
A99: M6 | B99: =40763*1.0275 -> 41883.983 | C99: =44523*1.0275 -> 45747.383 | D99: =SUM(B99/52.143/37) -> 21.70952 | E99: =SUM(C99/52.143/37) -> 23.712018

Sheet April 21
D1: Schools April 21 | G1: 2.75% increase on point 1 and 1.75% increase on all other points
B4: SCALE / | C4: BASIC | D4: TOTAL | E4: MONTHLY | F4: WEEKLY | G4: HOURLY | H4: HOURLY
B5: NEW SPINAL | C5: SALARY | D5: SALARY | E5: SALARY | F5: SALARY | G5: RATE | H5: RATE
B6: POINT | D6: RBWM | E6: RBWM | F6: RBWM | G6: RBWM | H6: (inc. hol)
B7: SCALE 2, a | C7: £ | D7: £ | E7: £ | F7: £ | G7: £ | H7: £
B8: 1 | C8: 18333 | D8: =ROUND((C8*1.075),0) -> 19708 | E8: =D8/12 -> 1642.3333 | F8: =SUM(D8/52.143) -> 377.96061 | G8: =SUM($D8/52.143)/37 -> 10.215152 | H8: =SUM($D8/52.143)/37*1.1381 -> 11.625864
B9: 2 | C9: 18516 | D9: =D11 -> 19905 | E9: =E11 -> 1658.75 | F9: =F11 -> 381.73868 | G9: =G11 -> 10.317262 | H9: =H11 -> 11.742075
B10: SCALE 2, b
B11: 2 | C11: 18516 | D11: =ROUND((C11*1.075),0) -> 19905 | E11: =D11/12 -> 1658.75 | F11: =SUM(D11/52.143) -> 381.73868 | G11: =SUM($D11/52.143)/37 -> 10.317262 | H11: =SUM($D11/52.143)/37*1.1381 -> 11.742075
B12: 3 | C12: 18887 | D12: =ROUND((C12*1.075),0) -> 20304 | E12: =D12/12 -> 1692 | F12: =SUM(D12/52.143) -> 389.39071 | G12: =SUM($D12/52.143)/37 -> 10.524073 | H12: =SUM($D12/52.143)/37*1.1381 -> 11.977448
B13: SCALE 2, c
B14: 3 | C14: =C12 -> 18887 | D14: =D12 -> 20304 | E14: =E12 -> 1692 | F14: =F12 -> 389.39071 | G14: =G12 -> 10.524073 | H14: =H12 -> 11.977448
B15: 4 | C15: 19264 | D15: =ROUND((C15*1.075),0) -> 20709 | E15: =D15/12 -> 1725.75 | F15: =SUM(D15/52.143) -> 397.15782 | G15: =SUM($D15/52.143)/37 -> 10.733995 | H15: =SUM($D15/52.143)/37*1.1381 -> 12.21636
B16: SCALE 3
B17: 5 | C17: 19650 | D17: =ROUND((C17*1.075),0) -> 21124 | E17: =D17/12 -> 1760.3333 | F17: =SUM(D17/52.143) -> 405.1167 | G17: =SUM($D17/52.143)/37 -> 10.9491 | H17: =SUM($D17/52.143)/37*1.1381 -> 12.461171
B18: 6 | C18: 20043 | D18: =ROUND((C18*1.075),0) -> 21546 | E18: =D18/12 -> 1795.5 | F18: =SUM(D18/52.143) -> 413.20983 | G18: =SUM($D18/52.143)/37 -> 11.167833 | H18: =SUM($D18/52.143)/37*1.1381 -> 12.710111
B19: SCALE 4
B20: 7 | C20: 20444 | D20: =ROUND((C20*1.075),0) -> 21977 | E20: =D20/12 -> 1831.4167 | F20: =SUM(D20/52.143) -> 421.47556 | G20: =SUM($D20/52.143)/37 -> 11.391231 | H20: =SUM($D20/52.143)/37*1.1381 -> 12.96436
B21: 8 | C21: 20852 | D21: =ROUND((C21*1.075),0) -> 22416 | E21: =D21/12 -> 1868 | F21: =SUM(D21/52.143) -> 429.89471 | G21: =SUM($D21/52.143)/37 -> 11.618776 | H21: =SUM($D21/52.143)/37*1.1381 -> 13.223329
B22: 9 | C22: 21269 | D22: =ROUND((C22*1.075),0) -> 22864 | E22: =D22/12 -> 1905.3333 | F22: =SUM(D22/52.143) -> 438.48647 | G22: =SUM($D22/52.143)/37 -> 11.850986 | H22: =SUM($D22/52.143)/37*1.1381 -> 13.487607
B23: 10 | C23: 21695 | D23: =ROUND((C23*1.075),0) -> 23322 | E23: =D23/12 -> 1943.5 | F23: =SUM(D23/52.143) -> 447.27001 | G23: =SUM($D23/52.143)/37 -> 12.088379 | H23: =SUM($D23/52.143)/37*1.1381 -> 13.757784
B24: 11 | C24: 22129 | D24: =ROUND((C24*1.075),0) -> 23789 | E24: =D24/12 -> 1982.4167 | F24: =SUM(D24/52.143) -> 456.22615 | G24: =SUM($D24/52.143)/37 -> 12.330436 | H24: =SUM($D24/52.143)/37*1.1381 -> 14.03327
B25: SCALE 5
B26: 12 | C26: 22571 | D26: =ROUND((C26*1.075),0) -> 24264 | E26: =D26/12 -> 2022 | F26: =SUM(D26/52.143) -> 465.33571 | G26: =SUM($D26/52.143)/37 -> 12.576641 | H26: =SUM($D26/52.143)/37*1.1381 -> 14.313475
B27: 13 | C27: 23023 | D27: =ROUND((C27*1.075),0) -> 24750 | E27: =D27/12 -> 2062.5 | F27: =SUM(D27/52.143) -> 474.65623 | G27: =SUM($D27/52.143)/37 -> 12.828547 | H27: =SUM($D27/52.143)/37*1.1381 -> 14.600169
B28: 14 | C28: 23484 | D28: =ROUND((C28*1.075),0) -> 25245 | E28: =D28/12 -> 2103.75 | F28: =SUM(D28/52.143) -> 484.14936 | G28: =SUM($D28/52.143)/37 -> 13.085118 | H28: =SUM($D28/52.143)/37*1.1381 -> 14.892173
B29: 15 | C29: 23953 | D29: =ROUND((C29*1.075),0) -> 25749 | E29: =D29/12 -> 2145.75 | F29: =SUM(D29/52.143) -> 493.81509 | G29: =SUM($D29/52.143)/37 -> 13.346354 | H29: =SUM($D29/52.143)/37*1.1381 -> 15.189485
B30: 16 | C30: 24432 | D30: =ROUND((C30*1.075),0) -> 26264 | E30: =D30/12 -> 2188.6667 | F30: =SUM(D30/52.143) -> 503.69177 | G30: =SUM($D30/52.143)/37 -> 13.613291 | H30: =SUM($D30/52.143)/37*1.1381 -> 15.493287
B31: 17 | C31: 24920 | D31: =ROUND((C31*1.075),0) -> 26789 | E31: =D31/12 -> 2232.4167 | F31: =SUM(D31/52.143) -> 513.76024 | G31: =SUM($D31/52.143)/37 -> 13.885412 | H31: =SUM($D31/52.143)/37*1.1381 -> 15.802987
B32: SCALE 6
B33: 18 | C33: 25419 | D33: =ROUND((C33*1.075),0) -> 27325 | E33: =D33/12 -> 2277.0833 | F33: =SUM(D33/52.143) -> 524.03966 | G33: =SUM($D33/52.143)/37 -> 14.163234 | H33: =SUM($D33/52.143)/37*1.1381 -> 16.119177
B34: 19 | C34: 25927 | D34: =ROUND((C34*1.075),0) -> 27872 | E34: =D34/12 -> 2322.6667 | F34: =SUM(D34/52.143) -> 534.53004 | G34: =SUM($D34/52.143)/37 -> 14.446758 | H34: =SUM($D34/52.143)/37*1.1381 -> 16.441855
B35: 20 | C35: 26446 | D35: =ROUND((C35*1.075),0) -> 28429 | E35: =D35/12 -> 2369.0833 | F35: =SUM(D35/52.143) -> 545.2122 | G35: =SUM($D35/52.143)/37 -> 14.735465 | H35: =SUM($D35/52.143)/37*1.1381 -> 16.770433
B36: 21 | C36: 26975 | D36: =ROUND((C36*1.075),0) -> 28998 | E36: =D36/12 -> 2416.5 | F36: =SUM(D36/52.143) -> 556.1245 | G36: =SUM($D36/52.143)/37 -> 15.030392 | H36: =SUM($D36/52.143)/37*1.1381 -> 17.106089
B37: 22 | C37: 27514 | D37: =ROUND((C37*1.075),0) -> 29578 | E37: =D37/12 -> 2464.8333 | F37: =SUM(D37/52.143) -> 567.24776 | G37: =SUM($D37/52.143)/37 -> 15.331021 | H37: =SUM($D37/52.143)/37*1.1381 -> 17.448235
B39: Midday Supervisors | D39: OFA | E39: Total Annual | G39: Hourly | H39: Inc Hols
B40: 8 | C40: 20852 | D40: 637 | E40: =C40+D40 -> 21489 | G40: =SUM(C40+D40)/37/52.143 -> 11.138289 | H40: =E40/52.143/37*1.1381 -> 12.676486
A42: CAR ALLOWANCES
A44: All casual car users are paid same rate, irrespective of car cubic capacity.
A46: USER | B46: Miles per annum | D46: All cc's
D47: pence per mile
A49: Casual | B49: Up to | C49: 10000 | D49: 45
B50: Over | C50: 10000 | D50: 25
A53: MANAGEMENT GRADES 7 & 8 | B53: April 21 | G53: With holiday allowance
A55: GRADE | B55: SPINAL | C55: TOTAL | D55: MONTHLY | E55: WEEKLY | F55: HOURLY
B56: POINT | C56: SALARY | D56: SALARY | E56: SALARY | F56: RATE | G56: +13.81%
C57: £ | D57: £ | E57: £ | F57: £ | G57: £
A58: 8 | B58: 1 | C58: 31988 | D58: =C58/12 -> 2665.6667 | E58: =SUM(C58/52.143) -> 613.46681 | F58: =SUM(C58/52.143)/37 -> 16.580184 | G58: =SUM(C58*113.81%) -> 36405.543
B59: 2 | C59: 32850 | D59: =C59/12 -> 2737.5 | E59: =SUM(C59/52.143) -> 629.99827 | F59: =SUM(C59/52.143)/37 -> 17.02698 | G59: =SUM(C59*113.81%) -> 37386.585
B60: 3 | C60: 33705 | D60: =C60/12 -> 2808.75 | E60: =SUM(C60/52.143) -> 646.39549 | F60: =SUM(C60/52.143)/37 -> 17.470148 | G60: =SUM(C60*113.81%) -> 38359.661
B61: 4 | C61: 34703 | D61: =C61/12 -> 2891.9167 | E61: =SUM(C61/52.143) -> 665.53516 | F61: =SUM(C61/52.143)/37 -> 17.987437 | G61: =SUM(C61*113.81%) -> 39495.484
B62: 5 | C62: 35705 | D62: =C62/12 -> 2975.4167 | E62: =SUM(C62/52.143) -> 684.75155 | F62: =SUM(C62/52.143)/37 -> 18.506799 | G62: =SUM(C62*113.81%) -> 40635.861
A63: 7 | B63: 1 | C63: 36417 | D63: =C63/12 -> 3034.75 | E63: =SUM(C63/52.143) -> 698.40631 | F63: =SUM(C63/52.143)/37 -> 18.875846 | G63: =SUM(C63*113.81%) -> 41446.188
B64: 2 | C64: 37418 | D64: =C64/12 -> 3118.1667 | E64: =SUM(C64/52.143) -> 717.60351 | F64: =SUM(C64/52.143)/37 -> 19.39469 | G64: =SUM(C64*113.81%) -> 42585.426
B65: 3 | C65: 38418 | D65: =C65/12 -> 3201.5 | E65: =SUM(C65/52.143) -> 736.78154 | F65: =SUM(C65/52.143)/37 -> 19.913015 | G65: =SUM(C65*113.81%) -> 43723.526
B66: 4 | C66: 39417 | D66: =C66/12 -> 3284.75 | E66: =SUM(C66/52.143) -> 755.94039 | F66: =SUM(C66/52.143)/37 -> 20.430821 | G66: =SUM(C66*113.81%) -> 44860.488
B67: 5 | C67: 40382 | D67: =C67/12 -> 3365.1667 | E67: =SUM(C67/52.143) -> 774.44719 | F67: =SUM(C67/52.143)/37 -> 20.931005 | G67: =SUM(C67*113.81%) -> 45958.754
A77: 1.75% increase
A78: MANAGEMENT GRADES | B78: April 21
A80: Salary range
D81: Hourly Rate | E81: Hourly Rate
A82: GRADE | B82: MIN | C82: MAX | D82: MIN | E82: MAX
A84: M1+ | B84: 78804 | C84: 105070 | D84: =SUM(B84/52.143/37) -> 40.846093 | E84: =SUM(C84/52.143/37) -> 54.460421
D85: 0 | E85: 0
A86: M1 | B86: 72240 | C86: 84056 | D86: =SUM(B86/52.143/37) -> 37.443807 | E86: =SUM(C86/52.143/37) -> 43.568337
D87: 0 | E87: 0
A88: M2 | B88: 64454 | C88: 70563 | D88: =SUM(B88/52.143/37) -> 33.408128 | E88: =SUM(C88/52.143/37) -> 36.574576
D89: 0 | E89: 0
A90: M3 | B90: 57610 | C90: 62906 | D90: =SUM(B90/52.143/37) -> 29.86071 | E90: =SUM(C90/52.143/37) -> 32.60576
D91: 0 | E91: 0
A92: M4 | B92: 51209 | C92: 56001 | D92: =SUM(B92/52.143/37) -> 26.542911 | E92: =SUM(C92/52.143/37) -> 29.026725
D93: 0 | E93: 0
A94: M5 | B94: 46699 | C94: 51038 | D94: =SUM(B94/52.143/37) -> 24.205265 | E94: =SUM(C94/52.143/37) -> 26.454278
D95: 0 | E95: 0
A96: M6 | B96: 42617 | C96: 46548 | D96: =SUM(B96/52.143/37) -> 22.089462 | E96: =SUM(C96/52.143/37) -> 24.126998

Sheet April 22
D1: Schools April 22 | G1: £1,925 on all pay points and 4.04% on allowances
B4: SCALE / | C4: BASIC | D4: TOTAL | E4: MONTHLY | F4: WEEKLY | G4: HOURLY | H4: HOURLY
B5: NEW SPINAL | C5: SALARY | D5: SALARY | E5: SALARY | F5: SALARY | G5: RATE | H5: RATE
B6: POINT | D6: RBWM | E6: RBWM | F6: RBWM | G6: RBWM | H6: (inc. hol)
B7: SCALE 2, a | C7: £ | D7: £ | E7: £ | F7: £ | G7: £ | H7: £
A8: Point 1 to be deleted 1/4/23 | B8: 1 | C8: 20258 | D8: =ROUND((C8*1.075),0) -> 21777 | E8: =D8/12 -> 1814.75 | F8: =SUM(D8/52.143) -> 417.63995 | G8: =SUM($D8/52.143)/37 -> 11.287566 | H8: =SUM($D8/52.143)/37*1.1381 -> 12.846379
A9: Lunchtime controllers | B9: 2 | C9: 20441 | D9: =D11 -> 21974 | E9: =E11 -> 1831.1667 | F9: =F11 -> 421.41802 | G9: =G11 -> 11.389676 | H9: =H11 -> 12.962591
B10: SCALE 2, b
B11: 2 | C11: =C9 -> 20441 | D11: =ROUND((C11*1.075),0) -> 21974 | E11: =D11/12 -> 1831.1667 | F11: =SUM(D11/52.143) -> 421.41802 | G11: =SUM($D11/52.143)/37 -> 11.389676 | H11: =SUM($D11/52.143)/37*1.1381 -> 12.962591
B12: 3 | C12: 20812 | D12: =ROUND((C12*1.075),0) -> 22373 | E12: =D12/12 -> 1864.4167 | F12: =SUM(D12/52.143) -> 429.07006 | G12: =SUM($D12/52.143)/37 -> 11.596488 | H12: =SUM($D12/52.143)/37*1.1381 -> 13.197963
B13: SCALE 2, c
B14: 3 | C14: =C12 -> 20812 | D14: =D12 -> 22373 | E14: =E12 -> 1864.4167 | F14: =F12 -> 429.07006 | G14: =G12 -> 11.596488 | H14: =H12 -> 13.197963
B15: 4 | C15: 21189 | D15: =ROUND((C15*1.075),0) -> 22778 | E15: =D15/12 -> 1898.1667 | F15: =SUM(D15/52.143) -> 436.83716 | G15: =SUM($D15/52.143)/37 -> 11.80641 | H15: =SUM($D15/52.143)/37*1.1381 -> 13.436875
B16: SCALE 3
B17: 5 | C17: 21575 | D17: =ROUND((C17*1.075),0) -> 23193 | E17: =D17/12 -> 1932.75 | F17: =SUM(D17/52.143) -> 444.79604 | G17: =SUM($D17/52.143)/37 -> 12.021515 | H17: =SUM($D17/52.143)/37*1.1381 -> 13.681686
B18: 6 | C18: 21968 | D18: =ROUND((C18*1.075),0) -> 23616 | E18: =D18/12 -> 1968 | F18: =SUM(D18/52.143) -> 452.90835 | G18: =SUM($D18/52.143)/37 -> 12.240766 | H18: =SUM($D18/52.143)/37*1.1381 -> 13.931216
B19: SCALE 4
B20: 7 | C20: 22369 | D20: =ROUND((C20*1.075),0) -> 24047 | E20: =D20/12 -> 2003.9167 | F20: =SUM(D20/52.143) -> 461.17408 | G20: =SUM($D20/52.143)/37 -> 12.464164 | H20: =SUM($D20/52.143)/37*1.1381 -> 14.185465
B21: 8 | C21: 22777 | D21: =ROUND((C21*1.075),0) -> 24485 | E21: =D21/12 -> 2040.4167 | F21: =SUM(D21/52.143) -> 469.57406 | G21: =SUM($D21/52.143)/37 -> 12.691191 | H21: =SUM($D21/52.143)/37*1.1381 -> 14.443844
B22: 9 | C22: 23194 | D22: =ROUND((C22*1.075),0) -> 24934 | E22: =D22/12 -> 2077.8333 | F22: =SUM(D22/52.143) -> 478.18499 | G22: =SUM($D22/52.143)/37 -> 12.923919 | H22: =SUM($D22/52.143)/37*1.1381 -> 14.708712
B23: 10 | C23: 23620 | D23: =ROUND((C23*1.075),0) -> 25392 | E23: =D23/12 -> 2116 | F23: =SUM(D23/52.143) -> 486.96853 | G23: =SUM($D23/52.143)/37 -> 13.161312 | H23: =SUM($D23/52.143)/37*1.1381 -> 14.978889
B24: 11 | C24: 24054 | D24: =ROUND((C24*1.075),0) -> 25858 | E24: =D24/12 -> 2154.8333 | F24: =SUM(D24/52.143) -> 495.90549 | G24: =SUM($D24/52.143)/37 -> 13.402851 | H24: =SUM($D24/52.143)/37*1.1381 -> 15.253785
B25: SCALE 5
B26: 12 | C26: 24496 | D26: =ROUND((C26*1.075),0) -> 26333 | E26: =D26/12 -> 2194.4167 | F26: =SUM(D26/52.143) -> 505.01505 | G26: =SUM($D26/52.143)/37 -> 13.649056 | H26: =SUM($D26/52.143)/37*1.1381 -> 15.53399
B27: 13 | C27: 24948 | D27: =ROUND((C27*1.075),0) -> 26819 | E27: =D27/12 -> 2234.9167 | F27: =SUM(D27/52.143) -> 514.33558 | G27: =SUM($D27/52.143)/37 -> 13.900962 | H27: =SUM($D27/52.143)/37*1.1381 -> 15.820684
B28: 14 | C28: 25409 | D28: =ROUND((C28*1.075),0) -> 27315 | E28: =D28/12 -> 2276.25 | F28: =SUM(D28/52.143) -> 523.84788 | G28: =SUM($D28/52.143)/37 -> 14.158051 | H28: =SUM($D28/52.143)/37*1.1381 -> 16.113278
B29: 15 | C29: 25878 | D29: =ROUND((C29*1.075),0) -> 27819 | E29: =D29/12 -> 2318.25 | F29: =SUM(D29/52.143) -> 533.51361 | G29: =SUM($D29/52.143)/37 -> 14.419287 | H29: =SUM($D29/52.143)/37*1.1381 -> 16.41059
B30: 16 | C30: 26357 | D30: =ROUND((C30*1.075),0) -> 28334 | E30: =D30/12 -> 2361.1667 | F30: =SUM(D30/52.143) -> 543.39029 | G30: =SUM($D30/52.143)/37 -> 14.686224 | H30: =SUM($D30/52.143)/37*1.1381 -> 16.714392
B31: 17 | C31: 26845 | D31: =ROUND((C31*1.075),0) -> 28858 | E31: =D31/12 -> 2404.8333 | F31: =SUM(D31/52.143) -> 553.43958 | G31: =SUM($D31/52.143)/37 -> 14.957826 | H31: =SUM($D31/52.143)/37*1.1381 -> 17.023502
B32: SCALE 6
B33: 18 | C33: 27344 | D33: =ROUND((C33*1.075),0) -> 29395 | E33: =D33/12 -> 2449.5833 | F33: =SUM(D33/52.143) -> 563.73818 | G33: =SUM($D33/52.143)/37 -> 15.236167 | H33: =SUM($D33/52.143)/37*1.1381 -> 17.340282
B34: 19 | C34: 27852 | D34: =ROUND((C34*1.075),0) -> 29941 | E34: =D34/12 -> 2495.0833 | F34: =SUM(D34/52.143) -> 574.20939 | G34: =SUM($D34/52.143)/37 -> 15.519173 | H34: =SUM($D34/52.143)/37*1.1381 -> 17.66237
B35: 20 | C35: 28371 | D35: =ROUND((C35*1.075),0) -> 30499 | E35: =D35/12 -> 2541.5833 | F35: =SUM(D35/52.143) -> 584.91073 | G35: =SUM($D35/52.143)/37 -> 15.808398 | H35: =SUM($D35/52.143)/37*1.1381 -> 17.991538
B36: 21 | C36: 28900 | D36: =ROUND((C36*1.075),0) -> 31068 | E36: =D36/12 -> 2589 | F36: =SUM(D36/52.143) -> 595.82303 | G36: =SUM($D36/52.143)/37 -> 16.103325 | H36: =SUM($D36/52.143)/37*1.1381 -> 18.327194
B37: 22 | C37: 29439 | D37: =ROUND((C37*1.075),0) -> 31647 | E37: =D37/12 -> 2637.25 | F37: =SUM(D37/52.143) -> 606.9271 | G37: =SUM($D37/52.143)/37 -> 16.403435 | H37: =SUM($D37/52.143)/37*1.1381 -> 18.66875
B39: Midday Supervisors | D39: OFA | E39: Total Annual | G39: Hourly | H39: Inc Hols
B40: 8 | C40: =20852+1925 -> 22777 | D40: =637*1.0404 -> 662.7348 | E40: =C40+D40 -> 23439.735 | G40: =SUM(C40+D40)/37/52.143 -> 12.149403 | H40: =E40/52.143/37*1.1381 -> 13.827236
A42: CAR ALLOWANCES
A44: All casual car users are paid same rate, irrespective of car cubic capacity.
A46: USER | B46: Miles per annum | D46: All cc's
D47: pence per mile
A49: Casual | B49: Up to | C49: 10000 | D49: 45
B50: Over | C50: 10000 | D50: 25
A53: MANAGEMENT GRADES 7 & 8 | B53: April 22 | G53: With holiday allowance
A55: GRADE | B55: SPINAL | C55: TOTAL | D55: MONTHLY | E55: WEEKLY | F55: HOURLY
B56: POINT | C56: SALARY | D56: SALARY | E56: SALARY | F56: RATE | G56: +13.81%
C57: £ | D57: £ | E57: £ | F57: £ | G57: £
A58: 8 | B58: 1 | C58: =31988+1925 -> 33913 | D58: =C58/12 -> 2826.0833 | E58: =SUM(C58/52.143) -> 650.38452 | F58: =SUM(C58/52.143)/37 -> 17.57796 | G58: =SUM(C58*113.81%) -> 38596.385
B59: 2 | C59: =32850+1925 -> 34775 | D59: =C59/12 -> 2897.9167 | E59: =SUM(C59/52.143) -> 666.91598 | F59: =SUM(C59/52.143)/37 -> 18.024756 | G59: =SUM(C59*113.81%) -> 39577.428
B60: 3 | C60: =33705+1925 -> 35630 | D60: =C60/12 -> 2969.1667 | E60: =SUM(C60/52.143) -> 683.3132 | F60: =SUM(C60/52.143)/37 -> 18.467924 | G60: =SUM(C60*113.81%) -> 40550.503
B61: 4 | C61: =34703+1925 -> 36628 | D61: =C61/12 -> 3052.3333 | E61: =SUM(C61/52.143) -> 702.45287 | F61: =SUM(C61/52.143)/37 -> 18.985213 | G61: =SUM(C61*113.81%) -> 41686.327
B62: 5 | C62: =35705+1925 -> 37630 | D62: =C62/12 -> 3135.8333 | E62: =SUM(C62/52.143) -> 721.66926 | F62: =SUM(C62/52.143)/37 -> 19.504574 | G62: =SUM(C62*113.81%) -> 42826.703
A63: 7 | B63: 1 | C63: =36417+1925 -> 38342 | D63: =C63/12 -> 3195.1667 | E63: =SUM(C63/52.143) -> 735.32401 | F63: =SUM(C63/52.143)/37 -> 19.873622 | G63: =SUM(C63*113.81%) -> 43637.03
B64: 2 | C64: =37418+1925 -> 39343 | D64: =C64/12 -> 3278.5833 | E64: =SUM(C64/52.143) -> 754.52122 | F64: =SUM(C64/52.143)/37 -> 20.392465 | G64: =SUM(C64*113.81%) -> 44776.268
B65: 3 | C65: =38418+1925 -> 40343 | D65: =C65/12 -> 3361.9167 | E65: =SUM(C65/52.143) -> 773.69925 | F65: =SUM(C65/52.143)/37 -> 20.910791 | G65: =SUM(C65*113.81%) -> 45914.368
B66: 4 | C66: =39417+1925 -> 41342 | D66: =C66/12 -> 3445.1667 | E66: =SUM(C66/52.143) -> 792.8581 | F66: =SUM(C66/52.143)/37 -> 21.428597 | G66: =SUM(C66*113.81%) -> 47051.33
B67: 5 | C67: =40382+1925 -> 42307 | D67: =C67/12 -> 3525.5833 | E67: =SUM(C67/52.143) -> 811.3649 | F67: =SUM(C67/52.143)/37 -> 21.928781 | G67: =SUM(C67*113.81%) -> 48149.597
A73: MANAGEMENT GRADES | B73: April 22
A75: Salary range
D76: Hourly Rate | E76: Hourly Rate
A77: GRADE | B77: MIN | C77: MAX | D77: MIN | E77: MAX
A79: M1+ | B79: =78804+1925 -> 80729 | C79: =105070+1925 -> 106995 | D79: =SUM(B79/52.143/37) -> 41.843869 | E79: =SUM(C79/52.143/37) -> 55.458197
D80: 0 | E80: 0
A81: M1 | B81: =72240+1925 -> 74165 | C81: =84056+1925 -> 85981 | D81: =SUM(B81/52.143/37) -> 38.441583 | E81: =SUM(C81/52.143/37) -> 44.566113
D82: 0 | E82: 0
A83: M2 | B83: =64454+1925 -> 66379 | C83: =70563+1925 -> 72488 | D83: =SUM(B83/52.143/37) -> 34.405904 | E83: =SUM(C83/52.143/37) -> 37.572352
D84: 0 | E84: 0
A85: M3 | B85: =57610+1925 -> 59535 | C85: =62906+1925 -> 64831 | D85: =SUM(B85/52.143/37) -> 30.858486 | E85: =SUM(C85/52.143/37) -> 33.603536
D86: 0 | E86: 0
A87: M4 | B87: =51209+1925 -> 53134 | C87: =56001+1925 -> 57926 | D87: =SUM(B87/52.143/37) -> 27.540687 | E87: =SUM(C87/52.143/37) -> 30.024501
D88: 0 | E88: 0
A89: M5 | B89: =46699+1925 -> 48624 | C89: =51038+1925 -> 52963 | D89: =SUM(B89/52.143/37) -> 25.203041 | E89: =SUM(C89/52.143/37) -> 27.452054
D90: 0 | E90: 0
A91: M6 | B91: =42617+1925 -> 44542 | C91: =46548+1925 -> 48473 | D91: =SUM(B91/52.143/37) -> 23.087238 | E91: =SUM(C91/52.143/37) -> 25.124774

Sheet April 23
D1: Schools April 23 | G1: Agreed in Nov 23
J3: Pay points below £51,515 increased by £1,925
B4: SCALE / | C4: BASIC | D4: TOTAL | E4: MONTHLY | F4: WEEKLY | G4: HOURLY | H4: HOURLY | J4: Pay above £51,515 increased by 3.88%
B5: NEW SPINAL | C5: SALARY | D5: SALARY | E5: SALARY | F5: SALARY | G5: RATE | H5: RATE
B6: POINT | C6: NJC | D6: RBWM* | E6: RBWM | F6: RBWM | G6: RBWM | H6: (inc. hol)
B7: SCALE 2, a | C7: £ | D7: £ | E7: £ | F7: £ | G7: £ | H7: £
B9: 2 | C9: 22366 | D9: =D11 -> 24043 | E9: =E11 -> 2003.5833 | F9: =F11 -> 461.09737 | G9: =G11 -> 12.462091 | H9: =H11 -> 14.183106
B10: SCALE 2, b
B11: 2 | C11: =C9 -> 22366 | D11: =ROUND((C11*1.075),0) -> 24043 | E11: =D11/12 -> 2003.5833 | F11: =SUM(D11/52.143) -> 461.09737 | G11: =SUM($D11/52.143)/37 -> 12.462091 | H11: =SUM($D11/52.143)/37*1.1381 -> 14.183106
B12: 3 | C12: 22737 | D12: =ROUND((C12*1.075),0) -> 24442 | E12: =D12/12 -> 2036.8333 | F12: =SUM(D12/52.143) -> 468.7494 | G12: =SUM($D12/52.143)/37 -> 12.668903 | H12: =SUM($D12/52.143)/37*1.1381 -> 14.418478
B13: SCALE 2, c
B14: 3 | C14: =C12 -> 22737 | D14: =D12 -> 24442 | E14: =E12 -> 2036.8333 | F14: =F12 -> 468.7494 | G14: =G12 -> 12.668903 | H14: =H12 -> 14.418478
B15: 4 | C15: 23114 | D15: =ROUND((C15*1.075),0) -> 24848 | E15: =D15/12 -> 2070.6667 | F15: =SUM(D15/52.143) -> 476.53568 | G15: =SUM($D15/52.143)/37 -> 12.879343 | H15: =SUM($D15/52.143)/37*1.1381 -> 14.65798
B16: SCALE 3
B17: 5 | C17: 23500 | D17: =ROUND((C17*1.075),0) -> 25263 | E17: =D17/12 -> 2105.25 | F17: =SUM(D17/52.143) -> 484.49456 | G17: =SUM($D17/52.143)/37 -> 13.094448 | H17: =SUM($D17/52.143)/37*1.1381 -> 14.902791
B18: 6 | C18: 23893 | D18: =ROUND((C18*1.075),0) -> 25685 | E18: =D18/12 -> 2140.4167 | F18: =SUM(D18/52.143) -> 492.58769 | G18: =SUM($D18/52.143)/37 -> 13.313181 | H18: =SUM($D18/52.143)/37*1.1381 -> 15.151731
B19: SCALE 4
B20: 7 | C20: 24294 | D20: =ROUND((C20*1.075),0) -> 26116 | E20: =D20/12 -> 2176.3333 | F20: =SUM(D20/52.143) -> 500.85342 | G20: =SUM($D20/52.143)/37 -> 13.536579 | H20: =SUM($D20/52.143)/37*1.1381 -> 15.405981
B21: 8 | C21: 24702 | D21: =ROUND((C21*1.075),0) -> 26555 | E21: =D21/12 -> 2212.9167 | F21: =SUM(D21/52.143) -> 509.27258 | G21: =SUM($D21/52.143)/37 -> 13.764124 | H21: =SUM($D21/52.143)/37*1.1381 -> 15.664949
B22: 9 | C22: 25119 | D22: =ROUND((C22*1.075),0) -> 27003 | E22: =D22/12 -> 2250.25 | F22: =SUM(D22/52.143) -> 517.86433 | G22: =SUM($D22/52.143)/37 -> 13.996333 | H22: =SUM($D22/52.143)/37*1.1381 -> 15.929227
B23: 10 | C23: 25545 | D23: =ROUND((C23*1.075),0) -> 27461 | E23: =D23/12 -> 2288.4167 | F23: =SUM(D23/52.143) -> 526.64787 | G23: =SUM($D23/52.143)/37 -> 14.233726 | H23: =SUM($D23/52.143)/37*1.1381 -> 16.199404
B24: 11 | C24: 25979 | D24: =ROUND((C24*1.075),0) -> 27927 | E24: =D24/12 -> 2327.25 | F24: =SUM(D24/52.143) -> 535.58483 | G24: =SUM($D24/52.143)/37 -> 14.475266 | H24: =SUM($D24/52.143)/37*1.1381 -> 16.4743
B25: SCALE 5
B26: 12 | C26: 26421 | D26: =ROUND((C26*1.075),0) -> 28403 | E26: =D26/12 -> 2366.9167 | F26: =SUM(D26/52.143) -> 544.71358 | G26: =SUM($D26/52.143)/37 -> 14.721989 | H26: =SUM($D26/52.143)/37*1.1381 -> 16.755095
B27: 13 | C27: 26873 | D27: =ROUND((C27*1.075),0) -> 28888 | E27: =D27/12 -> 2407.3333 | F27: =SUM(D27/52.143) -> 554.01492 | G27: =SUM($D27/52.143)/37 -> 14.973376 | H27: =SUM($D27/52.143)/37*1.1381 -> 17.041199
B28: 14 | C28: 27334 | D28: =ROUND((C28*1.075),0) -> 29384 | E28: =D28/12 -> 2448.6667 | F28: =SUM(D28/52.143) -> 563.52722 | G28: =SUM($D28/52.143)/37 -> 15.230465 | H28: =SUM($D28/52.143)/37*1.1381 -> 17.333793
B29: 15 | C29: 27803 | D29: =ROUND((C29*1.075),0) -> 29888 | E29: =D29/12 -> 2490.6667 | F29: =SUM(D29/52.143) -> 573.19295 | G29: =SUM($D29/52.143)/37 -> 15.491701 | H29: =SUM($D29/52.143)/37*1.1381 -> 17.631105
B30: 16 | C30: 28282 | D30: =ROUND((C30*1.075),0) -> 30403 | E30: =D30/12 -> 2533.5833 | F30: =SUM(D30/52.143) -> 583.06964 | G30: =SUM($D30/52.143)/37 -> 15.758639 | H30: =SUM($D30/52.143)/37*1.1381 -> 17.934907
B31: 17 | C31: 28770 | D31: =ROUND((C31*1.075),0) -> 30928 | E31: =D31/12 -> 2577.3333 | F31: =SUM(D31/52.143) -> 593.1381 | G31: =SUM($D31/52.143)/37 -> 16.030759 | H31: =SUM($D31/52.143)/37*1.1381 -> 18.244607
B32: SCALE 6
B33: 18 | C33: 29269 | D33: =ROUND((C33*1.075),0) -> 31464 | E33: =D33/12 -> 2622 | F33: =SUM(D33/52.143) -> 603.41752 | G33: =SUM($D33/52.143)/37 -> 16.308582 | H33: =SUM($D33/52.143)/37*1.1381 -> 18.560797
B34: 19 | C34: 29777 | D34: =ROUND((C34*1.075),0) -> 32010 | E34: =D34/12 -> 2667.5 | F34: =SUM(D34/52.143) -> 613.88873 | G34: =SUM($D34/52.143)/37 -> 16.591587 | H34: =SUM($D34/52.143)/37*1.1381 -> 18.882885
B35: 20 | C35: 30296 | D35: =ROUND((C35*1.075),0) -> 32568 | E35: =D35/12 -> 2714 | F35: =SUM(D35/52.143) -> 624.59007 | G35: =SUM($D35/52.143)/37 -> 16.880813 | H35: =SUM($D35/52.143)/37*1.1381 -> 19.212053
B36: 21 | C36: 30825 | D36: =ROUND((C36*1.075),0) -> 33137 | E36: =D36/12 -> 2761.4167 | F36: =SUM(D36/52.143) -> 635.50237 | G36: =SUM($D36/52.143)/37 -> 17.17574 | H36: =SUM($D36/52.143)/37*1.1381 -> 19.547709
B37: 22 | C37: 31364 | D37: =ROUND((C37*1.075),0) -> 33716 | E37: =D37/12 -> 2809.6667 | F37: =SUM(D37/52.143) -> 646.60645 | G37: =SUM($D37/52.143)/37 -> 17.47585 | H37: =SUM($D37/52.143)/37*1.1381 -> 19.889265
B39: Midday Supervisors | D39: OFA | E39: Total Annual | G39: Hourly | H39: Inc Hols
B40: 8 | C40: 24702 | D40: 689 | E40: =C40+D40 -> 25391 | G40: =SUM(C40+D40)/37/52.143 -> 13.160793 | H40: =E40/52.143/37*1.1381 -> 14.978299
B41: * includes local integrated allowance of 7.5%
A42: CAR ALLOWANCES
A44: All casual car users are paid same rate, irrespective of car cubic capacity.
A46: USER | B46: Miles per annum | D46: All cc's
D47: pence per mile
A49: Casual | B49: Up to | C49: 10000 | D49: 45
B50: Over | C50: 10000 | D50: 25
A53: MANAGEMENT GRADES 7 & 8 | B53: April 23 | G53: With holiday allowance
A55: GRADE | B55: SPINAL | C55: TOTAL | D55: MONTHLY | E55: WEEKLY | F55: HOURLY
B56: POINT | C56: SALARY | D56: SALARY | E56: SALARY | F56: RATE | G56: +13.81%
C57: £ | D57: £ | E57: £ | F57: £ | G57: £
A58: 8 | B58: 1 | C58: 35838 | D58: =C58/12 -> 2986.5 | E58: =SUM(C58/52.143) -> 687.30223 | F58: =SUM(C58/52.143)/37 -> 18.575736 | G58: =SUM(C58*113.81%) -> 40787.228
B59: 2 | C59: 36700 | D59: =C59/12 -> 3058.3333 | E59: =SUM(C59/52.143) -> 703.83369 | F59: =SUM(C59/52.143)/37 -> 19.022532 | G59: =SUM(C59*113.81%) -> 41768.27
B60: 3 | C60: 37555 | D60: =C60/12 -> 3129.5833 | E60: =SUM(C60/52.143) -> 720.2309 | F60: =SUM(C60/52.143)/37 -> 19.4657 | G60: =SUM(C60*113.81%) -> 42741.346
B61: 4 | C61: 38553 | D61: =C61/12 -> 3212.75 | E61: =SUM(C61/52.143) -> 739.37058 | F61: =SUM(C61/52.143)/37 -> 19.982989 | G61: =SUM(C61*113.81%) -> 43877.169
B62: 5 | C62: 39555 | D62: =C62/12 -> 3296.25 | E62: =SUM(C62/52.143) -> 758.58696 | F62: =SUM(C62/52.143)/37 -> 20.50235 | G62: =SUM(C62*113.81%) -> 45017.546
A63: 7 | B63: 1 | C63: 40267 | D63: =C63/12 -> 3355.5833 | E63: =SUM(C63/52.143) -> 772.24172 | F63: =SUM(C63/52.143)/37 -> 20.871398 | G63: =SUM(C63*113.81%) -> 45827.873
B64: 2 | C64: 41268 | D64: =C64/12 -> 3439 | E64: =SUM(C64/52.143) -> 791.43893 | F64: =SUM(C64/52.143)/37 -> 21.390241 | G64: =SUM(C64*113.81%) -> 46967.111
B65: 3 | C65: 42268 | D65: =C65/12 -> 3522.3333 | E65: =SUM(C65/52.143) -> 810.61696 | F65: =SUM(C65/52.143)/37 -> 21.908566 | G65: =SUM(C65*113.81%) -> 48105.211
B66: 4 | C66: 43267 | D66: =C66/12 -> 3605.5833 | E66: =SUM(C66/52.143) -> 829.77581 | F66: =SUM(C66/52.143)/37 -> 22.426373 | G66: =SUM(C66*113.81%) -> 49242.173
B67: 5 | C67: 44232 | D67: =C67/12 -> 3686 | E67: =SUM(C67/52.143) -> 848.28261 | F67: =SUM(C67/52.143)/37 -> 22.926557 | G67: =SUM(C67*113.81%) -> 50340.439
A73: MANAGEMENT GRADES | B73: April 23
A75: Salary range
D76: Hourly Rate | E76: Hourly Rate
A77: GRADE | B77: MIN | C77: MAX | D77: MIN | E77: MAX
A79: M1+ | B79: 83861 | C79: 111146 | D79: =SUM(B79/52.143/37) -> 43.467263 | E79: =SUM(C79/52.143/37) -> 57.609764
D80: 0 | E80: 0
A81: M1 | B81: 77043 | C81: 89317 | D81: =SUM(B81/52.143/37) -> 39.933323 | E81: =SUM(C81/52.143/37) -> 46.295245
D82: 0 | E82: 0
A83: M2 | B83: 68955 | C83: 75301 | D83: =SUM(B83/52.143/37) -> 35.741109 | E83: =SUM(C83/52.143/37) -> 39.0304
D84: 0 | E84: 0
A85: M3 | B85: 61845 | C85: 67346 | D85: =SUM(B85/52.143/37) -> 32.055817 | E85: =SUM(C85/52.143/37) -> 34.907124
D86: 0 | E86: 0
A87: M4 | B87: 55196 | C87: 60174 | D87: =SUM(B87/52.143/37) -> 28.609474 | E87: =SUM(C87/52.143/37) -> 31.189696
D88: 0 | E88: 0
A89: M5 | B89: 50549 | C89: 55018 | D89: =SUM(B89/52.143/37) -> 26.200817 | E89: =SUM(C89/52.143/37) -> 28.517212
D90: 0 | E90: 0
A91: M6 | B91: 46467 | C91: 50398 | D91: =SUM(B91/52.143/37) -> 24.085014 | E91: =SUM(C91/52.143/37) -> 26.12255

Sheet April 23 interim
D1: Schools April 23 | F1: Pay award from 1 April 2023 pending
C3: 44652
B4: SCALE / | C4: BASIC | D4: TOTAL | E4: MONTHLY | F4: WEEKLY | G4: HOURLY | H4: HOURLY
B5: NEW SPINAL | C5: SALARY | D5: SALARY | E5: SALARY | F5: SALARY | G5: RATE | H5: RATE
B6: POINT | D6: RBWM | E6: RBWM | F6: RBWM | G6: RBWM | H6: (inc. hol)
B7: SCALE 2, a | C7: £ | D7: £ | E7: £ | F7: £ | G7: £ | H7: £
B9: 2 | C9: 20441 | D9: =D11 -> 21974 | E9: =E11 -> 1831.1667 | F9: =F11 -> 421.41802 | G9: =G11 -> 11.389676 | H9: =H11 -> 12.962591
B10: SCALE 2, b
B11: 2 | C11: =C9 -> 20441 | D11: =ROUND((C11*1.075),0) -> 21974 | E11: =D11/12 -> 1831.1667 | F11: =SUM(D11/52.143) -> 421.41802 | G11: =SUM($D11/52.143)/37 -> 11.389676 | H11: =SUM($D11/52.143)/37*1.1381 -> 12.962591
B12: 3 | C12: 20812 | D12: =ROUND((C12*1.075),0) -> 22373 | E12: =D12/12 -> 1864.4167 | F12: =SUM(D12/52.143) -> 429.07006 | G12: =SUM($D12/52.143)/37 -> 11.596488 | H12: =SUM($D12/52.143)/37*1.1381 -> 13.197963
B13: SCALE 2, c
B14: 3 | C14: =C12 -> 20812 | D14: =D12 -> 22373 | E14: =E12 -> 1864.4167 | F14: =F12 -> 429.07006 | G14: =G12 -> 11.596488 | H14: =H12 -> 13.197963
B15: 4 | C15: 21189 | D15: =ROUND((C15*1.075),0) -> 22778 | E15: =D15/12 -> 1898.1667 | F15: =SUM(D15/52.143) -> 436.83716 | G15: =SUM($D15/52.143)/37 -> 11.80641 | H15: =SUM($D15/52.143)/37*1.1381 -> 13.436875
B16: SCALE 3
B17: 5 | C17: 21575 | D17: =ROUND((C17*1.075),0) -> 23193 | E17: =D17/12 -> 1932.75 | F17: =SUM(D17/52.143) -> 444.79604 | G17: =SUM($D17/52.143)/37 -> 12.021515 | H17: =SUM($D17/52.143)/37*1.1381 -> 13.681686
B18: 6 | C18: 21968 | D18: =ROUND((C18*1.075),0) -> 23616 | E18: =D18/12 -> 1968 | F18: =SUM(D18/52.143) -> 452.90835 | G18: =SUM($D18/52.143)/37 -> 12.240766 | H18: =SUM($D18/52.143)/37*1.1381 -> 13.931216
B19: SCALE 4
B20: 7 | C20: 22369 | D20: =ROUND((C20*1.075),0) -> 24047 | E20: =D20/12 -> 2003.9167 | F20: =SUM(D20/52.143) -> 461.17408 | G20: =SUM($D20/52.143)/37 -> 12.464164 | H20: =SUM($D20/52.143)/37*1.1381 -> 14.185465
B21: 8 | C21: 22777 | D21: =ROUND((C21*1.075),0) -> 24485 | E21: =D21/12 -> 2040.4167 | F21: =SUM(D21/52.143) -> 469.57406 | G21: =SUM($D21/52.143)/37 -> 12.691191 | H21: =SUM($D21/52.143)/37*1.1381 -> 14.443844
B22: 9 | C22: 23194 | D22: =ROUND((C22*1.075),0) -> 24934 | E22: =D22/12 -> 2077.8333 | F22: =SUM(D22/52.143) -> 478.18499 | G22: =SUM($D22/52.143)/37 -> 12.923919 | H22: =SUM($D22/52.143)/37*1.1381 -> 14.708712
B23: 10 | C23: 23620 | D23: =ROUND((C23*1.075),0) -> 25392 | E23: =D23/12 -> 2116 | F23: =SUM(D23/52.143) -> 486.96853 | G23: =SUM($D23/52.143)/37 -> 13.161312 | H23: =SUM($D23/52.143)/37*1.1381 -> 14.978889
B24: 11 | C24: 24054 | D24: =ROUND((C24*1.075),0) -> 25858 | E24: =D24/12 -> 2154.8333 | F24: =SUM(D24/52.143) -> 495.90549 | G24: =SUM($D24/52.143)/37 -> 13.402851 | H24: =SUM($D24/52.143)/37*1.1381 -> 15.253785
B25: SCALE 5
B26: 12 | C26: 24496 | D26: =ROUND((C26*1.075),0) -> 26333 | E26: =D26/12 -> 2194.4167 | F26: =SUM(D26/52.143) -> 505.01505 | G26: =SUM($D26/52.143)/37 -> 13.649056 | H26: =SUM($D26/52.143)/37*1.1381 -> 15.53399
B27: 13 | C27: 24948 | D27: =ROUND((C27*1.075),0) -> 26819 | E27: =D27/12 -> 2234.9167 | F27: =SUM(D27/52.143) -> 514.33558 | G27: =SUM($D27/52.143)/37 -> 13.900962 | H27: =SUM($D27/52.143)/37*1.1381 -> 15.820684
B28: 14 | C28: 25409 | D28: =ROUND((C28*1.075),0) -> 27315 | E28: =D28/12 -> 2276.25 | F28: =SUM(D28/52.143) -> 523.84788 | G28: =SUM($D28/52.143)/37 -> 14.158051 | H28: =SUM($D28/52.143)/37*1.1381 -> 16.113278
B29: 15 | C29: 25878 | D29: =ROUND((C29*1.075),0) -> 27819 | E29: =D29/12 -> 2318.25 | F29: =SUM(D29/52.143) -> 533.51361 | G29: =SUM($D29/52.143)/37 -> 14.419287 | H29: =SUM($D29/52.143)/37*1.1381 -> 16.41059
B30: 16 | C30: 26357 | D30: =ROUND((C30*1.075),0) -> 28334 | E30: =D30/12 -> 2361.1667 | F30: =SUM(D30/52.143) -> 543.39029 | G30: =SUM($D30/52.143)/37 -> 14.686224 | H30: =SUM($D30/52.143)/37*1.1381 -> 16.714392
B31: 17 | C31: 26845 | D31: =ROUND((C31*1.075),0) -> 28858 | E31: =D31/12 -> 2404.8333 | F31: =SUM(D31/52.143) -> 553.43958 | G31: =SUM($D31/52.143)/37 -> 14.957826 | H31: =SUM($D31/52.143)/37*1.1381 -> 17.023502
B32: SCALE 6
B33: 18 | C33: 27344 | D33: =ROUND((C33*1.075),0) -> 29395 | E33: =D33/12 -> 2449.5833 | F33: =SUM(D33/52.143) -> 563.73818 | G33: =SUM($D33/52.143)/37 -> 15.236167 | H33: =SUM($D33/52.143)/37*1.1381 -> 17.340282
B34: 19 | C34: 27852 | D34: =ROUND((C34*1.075),0) -> 29941 | E34: =D34/12 -> 2495.0833 | F34: =SUM(D34/52.143) -> 574.20939 | G34: =SUM($D34/52.143)/37 -> 15.519173 | H34: =SUM($D34/52.143)/37*1.1381 -> 17.66237
B35: 20 | C35: 28371 | D35: =ROUND((C35*1.075),0) -> 30499 | E35: =D35/12 -> 2541.5833 | F35: =SUM(D35/52.143) -> 584.91073 | G35: =SUM($D35/52.143)/37 -> 15.808398 | H35: =SUM($D35/52.143)/37*1.1381 -> 17.991538
B36: 21 | C36: 28900 | D36: =ROUND((C36*1.075),0) -> 31068 | E36: =D36/12 -> 2589 | F36: =SUM(D36/52.143) -> 595.82303 | G36: =SUM($D36/52.143)/37 -> 16.103325 | H36: =SUM($D36/52.143)/37*1.1381 -> 18.327194
B37: 22 | C37: 29439 | D37: =ROUND((C37*1.075),0) -> 31647 | E37: =D37/12 -> 2637.25 | F37: =SUM(D37/52.143) -> 606.9271 | G37: =SUM($D37/52.143)/37 -> 16.403435 | H37: =SUM($D37/52.143)/37*1.1381 -> 18.66875
B39: Midday Supervisors | D39: OFA | E39: Total Annual | G39: Hourly | H39: Inc Hols
B40: 8 | C40: =20852+1925 -> 22777 | D40: =637*1.0404 -> 662.7348 | E40: =C40+D40 -> 23439.735 | G40: =SUM(C40+D40)/37/52.143 -> 12.149403 | H40: =E40/52.143/37*1.1381 -> 13.827236
A42: CAR ALLOWANCES
A44: All casual car users are paid same rate, irrespective of car cubic capacity.
A46: USER | B46: Miles per annum | D46: All cc's
D47: pence per mile
A49: Casual | B49: Up to | C49: 10000 | D49: 45
B50: Over | C50: 10000 | D50: 25
A53: MANAGEMENT GRADES 7 & 8 | B53: April 22 | G53: With holiday allowance
A55: GRADE | B55: SPINAL | C55: TOTAL | D55: MONTHLY | E55: WEEKLY | F55: HOURLY
B56: POINT | C56: SALARY | D56: SALARY | E56: SALARY | F56: RATE | G56: +13.81%
C57: £ | D57: £ | E57: £ | F57: £ | G57: £
A58: 8 | B58: 1 | C58: =31988+1925 -> 33913 | D58: =C58/12 -> 2826.0833 | E58: =SUM(C58/52.143) -> 650.38452 | F58: =SUM(C58/52.143)/37 -> 17.57796 | G58: =SUM(C58*113.81%) -> 38596.385
B59: 2 | C59: =32850+1925 -> 34775 | D59: =C59/12 -> 2897.9167 | E59: =SUM(C59/52.143) -> 666.91598 | F59: =SUM(C59/52.143)/37 -> 18.024756 | G59: =SUM(C59*113.81%) -> 39577.428
B60: 3 | C60: =33705+1925 -> 35630 | D60: =C60/12 -> 2969.1667 | E60: =SUM(C60/52.143) -> 683.3132 | F60: =SUM(C60/52.143)/37 -> 18.467924 | G60: =SUM(C60*113.81%) -> 40550.503
B61: 4 | C61: =34703+1925 -> 36628 | D61: =C61/12 -> 3052.3333 | E61: =SUM(C61/52.143) -> 702.45287 | F61: =SUM(C61/52.143)/37 -> 18.985213 | G61: =SUM(C61*113.81%) -> 41686.327
B62: 5 | C62: =35705+1925 -> 37630 | D62: =C62/12 -> 3135.8333 | E62: =SUM(C62/52.143) -> 721.66926 | F62: =SUM(C62/52.143)/37 -> 19.504574 | G62: =SUM(C62*113.81%) -> 42826.703
A63: 7 | B63: 1 | C63: =36417+1925 -> 38342 | D63: =C63/12 -> 3195.1667 | E63: =SUM(C63/52.143) -> 735.32401 | F63: =SUM(C63/52.143)/37 -> 19.873622 | G63: =SUM(C63*113.81%) -> 43637.03
B64: 2 | C64: =37418+1925 -> 39343 | D64: =C64/12 -> 3278.5833 | E64: =SUM(C64/52.143) -> 754.52122 | F64: =SUM(C64/52.143)/37 -> 20.392465 | G64: =SUM(C64*113.81%) -> 44776.268
B65: 3 | C65: =38418+1925 -> 40343 | D65: =C65/12 -> 3361.9167 | E65: =SUM(C65/52.143) -> 773.69925 | F65: =SUM(C65/52.143)/37 -> 20.910791 | G65: =SUM(C65*113.81%) -> 45914.368
B66: 4 | C66: =39417+1925 -> 41342 | D66: =C66/12 -> 3445.1667 | E66: =SUM(C66/52.143) -> 792.8581 | F66: =SUM(C66/52.143)/37 -> 21.428597 | G66: =SUM(C66*113.81%) -> 47051.33
B67: 5 | C67: =40382+1925 -> 42307 | D67: =C67/12 -> 3525.5833 | E67: =SUM(C67/52.143) -> 811.3649 | F67: =SUM(C67/52.143)/37 -> 21.928781 | G67: =SUM(C67*113.81%) -> 48149.597
A73: MANAGEMENT GRADES | B73: April 22
A75: Salary range
D76: Hourly Rate | E76: Hourly Rate
A77: GRADE | B77: MIN | C77: MAX | D77: MIN | E77: MAX
A79: M1+ | B79: =78804+1925 -> 80729 | C79: =105070+1925 -> 106995 | D79: =SUM(B79/52.143/37) -> 41.843869 | E79: =SUM(C79/52.143/37) -> 55.458197
D80: 0 | E80: 0
A81: M1 | B81: =72240+1925 -> 74165 | C81: =84056+1925 -> 85981 | D81: =SUM(B81/52.143/37) -> 38.441583 | E81: =SUM(C81/52.143/37) -> 44.566113
D82: 0 | E82: 0
A83: M2 | B83: =64454+1925 -> 66379 | C83: =70563+1925 -> 72488 | D83: =SUM(B83/52.143/37) -> 34.405904 | E83: =SUM(C83/52.143/37) -> 37.572352
D84: 0 | E84: 0
A85: M3 | B85: =57610+1925 -> 59535 | C85: =62906+1925 -> 64831 | D85: =SUM(B85/52.143/37) -> 30.858486 | E85: =SUM(C85/52.143/37) -> 33.603536
D86: 0 | E86: 0
A87: M4 | B87: =51209+1925 -> 53134 | C87: =56001+1925 -> 57926 | D87: =SUM(B87/52.143/37) -> 27.540687 | E87: =SUM(C87/52.143/37) -> 30.024501
D88: 0 | E88: 0
A89: M5 | B89: =46699+1925 -> 48624 | C89: =51038+1925 -> 52963 | D89: =SUM(B89/52.143/37) -> 25.203041 | E89: =SUM(C89/52.143/37) -> 27.452054
D90: 0 | E90: 0
A91: M6 | B91: =42617+1925 -> 44542 | C91: =46548+1925 -> 48473 | D91: =SUM(B91/52.143/37) -> 23.087238 | E91: =SUM(C91/52.143/37) -> 25.124774

Sheet April 24
D1: Schools April 2024 | G1: Agreed in Oct 2024
J3: Pay points below £52,805 increased by £1,290
B4: SCALE / | C4: BASIC | D4: TOTAL | E4: MONTHLY | F4: WEEKLY | G4: HOURLY | H4: HOURLY | J4: Pay above £52,805 increased by 2.5%
B5: NEW SPINAL | C5: SALARY | D5: SALARY | E5: SALARY | F5: SALARY | G5: RATE | H5: RATE
B6: POINT | C6: NJC | D6: RBWM* | E6: RBWM | F6: RBWM | G6: RBWM | H6: (inc. hol)
B7: SCALE 2, a | C7: £ | D7: £ | E7: £ | F7: £ | G7: £ | H7: £
B9: 2 | C9: 23656 | D9: =D11 -> 25430 | E9: =E11 -> 2119.1667 | F9: =F11 -> 487.69729 | G9: =G11 -> 13.181008 | H9: =H11 -> 15.001305
B10: SCALE 2, b
B11: 2 | C11: 23656 | D11: =ROUND((C11*1.075),0) -> 25430 | E11: =D11/12 -> 2119.1667 | F11: =SUM(D11/52.143) -> 487.69729 | G11: =SUM($D11/52.143)/37 -> 13.181008 | H11: =SUM($D11/52.143)/37*1.1381 -> 15.001305
B12: 3 | C12: 24027 | D12: =ROUND((C12*1.075),0) -> 25829 | E12: =D12/12 -> 2152.4167 | F12: =SUM(D12/52.143) -> 495.34933 | G12: =SUM($D12/52.143)/37 -> 13.38782 | H12: =SUM($D12/52.143)/37*1.1381 -> 15.236678
B13: SCALE 2, c
B14: 3 | C14: 24027 | D14: =D12 -> 25829 | E14: =E12 -> 2152.4167 | F14: =F12 -> 495.34933 | G14: =G12 -> 13.38782 | H14: =H12 -> 15.236678
B15: 4 | C15: 24404 | D15: =ROUND((C15*1.075),0) -> 26234 | E15: =D15/12 -> 2186.1667 | F15: =SUM(D15/52.143) -> 503.11643 | G15: =SUM($D15/52.143)/37 -> 13.597741 | H15: =SUM($D15/52.143)/37*1.1381 -> 15.475589
B16: SCALE 3
B17: 5 | C17: 24790 | D17: =ROUND((C17*1.075),0) -> 26649 | E17: =D17/12 -> 2220.75 | F17: =SUM(D17/52.143) -> 511.07531 | G17: =SUM($D17/52.143)/37 -> 13.812846 | H17: =SUM($D17/52.143)/37*1.1381 -> 15.7204
B18: 6 | C18: 25183 | D18: =ROUND((C18*1.075),0) -> 27072 | E18: =D18/12 -> 2256 | F18: =SUM(D18/52.143) -> 519.18762 | G18: =SUM($D18/52.143)/37 -> 14.032098 | H18: =SUM($D18/52.143)/37*1.1381 -> 15.969931
B19: SCALE 4
B20: 7 | C20: 25584 | D20: =ROUND((C20*1.075),0) -> 27503 | E20: =D20/12 -> 2291.9167 | F20: =SUM(D20/52.143) -> 527.45335 | G20: =SUM($D20/52.143)/37 -> 14.255496 | H20: =SUM($D20/52.143)/37*1.1381 -> 16.22418
B21: 8 | C21: 25992 | D21: =ROUND((C21*1.075),0) -> 27941 | E21: =D21/12 -> 2328.4167 | F21: =SUM(D21/52.143) -> 535.85333 | G21: =SUM($D21/52.143)/37 -> 14.482522 | H21: =SUM($D21/52.143)/37*1.1381 -> 16.482559
B22: 9 | C22: 26409 | D22: =ROUND((C22*1.075),0) -> 28390 | E22: =D22/12 -> 2365.8333 | F22: =SUM(D22/52.143) -> 544.46426 | G22: =SUM($D22/52.143)/37 -> 14.71525 | H22: =SUM($D22/52.143)/37*1.1381 -> 16.747426
B23: 10 | C23: 26835 | D23: =ROUND((C23*1.075),0) -> 28848 | E23: =D23/12 -> 2404 | F23: =SUM(D23/52.143) -> 553.2478 | G23: =SUM($D23/52.143)/37 -> 14.952643 | H23: =SUM($D23/52.143)/37*1.1381 -> 17.017603
B24: 11 | C24: 27269 | D24: =ROUND((C24*1.075),0) -> 29314 | E24: =D24/12 -> 2442.8333 | F24: =SUM(D24/52.143) -> 562.18476 | G24: =SUM($D24/52.143)/37 -> 15.194183 | H24: =SUM($D24/52.143)/37*1.1381 -> 17.292499
B25: SCALE 5
B26: 12 | C26: 27711 | D26: =ROUND((C26*1.075),0) -> 29789 | E26: =D26/12 -> 2482.4167 | F26: =SUM(D26/52.143) -> 571.29433 | G26: =SUM($D26/52.143)/37 -> 15.440387 | H26: =SUM($D26/52.143)/37*1.1381 -> 17.572705
B27: 13 | C27: 28163 | D27: =ROUND((C27*1.075),0) -> 30275 | E27: =D27/12 -> 2522.9167 | F27: =SUM(D27/52.143) -> 580.61485 | G27: =SUM($D27/52.143)/37 -> 15.692293 | H27: =SUM($D27/52.143)/37*1.1381 -> 17.859399
B28: 14 | C28: 28624 | D28: =ROUND((C28*1.075),0) -> 30771 | E28: =D28/12 -> 2564.25 | F28: =SUM(D28/52.143) -> 590.12715 | G28: =SUM($D28/52.143)/37 -> 15.949382 | H28: =SUM($D28/52.143)/37*1.1381 -> 18.151992
B29: 15 | C29: 29093 | D29: =ROUND((C29*1.075),0) -> 31275 | E29: =D29/12 -> 2606.25 | F29: =SUM(D29/52.143) -> 599.79288 | G29: =SUM($D29/52.143)/37 -> 16.210618 | H29: =SUM($D29/52.143)/37*1.1381 -> 18.449305
B30: 16 | C30: 29572 | D30: =ROUND((C30*1.075),0) -> 31790 | E30: =D30/12 -> 2649.1667 | F30: =SUM(D30/52.143) -> 609.66956 | G30: =SUM($D30/52.143)/37 -> 16.477556 | H30: =SUM($D30/52.143)/37*1.1381 -> 18.753106
B31: 17 | C31: 30060 | D31: =ROUND((C31*1.075),0) -> 32315 | E31: =D31/12 -> 2692.9167 | F31: =SUM(D31/52.143) -> 619.73803 | G31: =SUM($D31/52.143)/37 -> 16.749676 | H31: =SUM($D31/52.143)/37*1.1381 -> 19.062807
B32: SCALE 6
B33: 18 | C33: 30559 | D33: =ROUND((C33*1.075),0) -> 32851 | E33: =D33/12 -> 2737.5833 | F33: =SUM(D33/52.143) -> 630.01745 | G33: =SUM($D33/52.143)/37 -> 17.027499 | H33: =SUM($D33/52.143)/37*1.1381 -> 19.378996
B34: 19 | C34: 31067 | D34: =ROUND((C34*1.075),0) -> 33397 | E34: =D34/12 -> 2783.0833 | F34: =SUM(D34/52.143) -> 640.48866 | G34: =SUM($D34/52.143)/37 -> 17.310504 | H34: =SUM($D34/52.143)/37*1.1381 -> 19.701085
B35: 20 | C35: 31586 | D35: =ROUND((C35*1.075),0) -> 33955 | E35: =D35/12 -> 2829.5833 | F35: =SUM(D35/52.143) -> 651.19 | G35: =SUM($D35/52.143)/37 -> 17.59973 | H35: =SUM($D35/52.143)/37*1.1381 -> 20.030252
B36: 21 | C36: 32115 | D36: =ROUND((C36*1.075),0) -> 34524 | E36: =D36/12 -> 2877 | F36: =SUM(D36/52.143) -> 662.1023 | G36: =SUM($D36/52.143)/37 -> 17.894657 | H36: =SUM($D36/52.143)/37*1.1381 -> 20.365909
B37: 22 | C37: 32654 | D37: =ROUND((C37*1.075),0) -> 35103 | E37: =D37/12 -> 2925.25 | F37: =SUM(D37/52.143) -> 673.20637 | G37: =SUM($D37/52.143)/37 -> 18.194767 | H37: =SUM($D37/52.143)/37*1.1381 -> 20.707464
B39: Midday Supervisors | D39: OFA | E39: Total Annual | G39: Hourly | H39: Inc Hols
B40: 8 | C40: 25992 | D40: 706 | E40: =C40+D40 -> 26698 | G40: =SUM(C40+D40)/37/52.143 -> 13.838244 | H40: =E40/52.143/37*1.1381 -> 15.749306
B41: * includes local integrated allowance of 7.5%
A42: CAR ALLOWANCES
A44: All casual car users are paid same rate, irrespective of car cubic capacity.
A46: USER | B46: Miles per annum | D46: All cc's
D47: pence per mile
A49: Casual | B49: Up to | C49: 10000 | D49: 45
B50: Over | C50: 10000 | D50: 25
A53: MANAGEMENT GRADES 7 & 8 | B53: April 2024 | G53: With holiday allowance
A55: GRADE | B55: SPINAL | C55: TOTAL | D55: MONTHLY | E55: WEEKLY | F55: HOURLY
B56: POINT | C56: SALARY | D56: SALARY | E56: SALARY | F56: RATE | G56: +13.81%
C57: £ | D57: £ | E57: £ | F57: £ | G57: £
A58: 8 | B58: 1 | C58: 37128 | D58: =C58/12 -> 3094 | E58: =SUM(C58/52.143) -> 712.04188 | F58: =SUM(C58/52.143)/37 -> 19.244375 | G58: =SUM(C58*113.81%) -> 42255.377
B59: 2 | C59: 37990 | D59: =C59/12 -> 3165.8333 | E59: =SUM(C59/52.143) -> 728.57335 | F59: =SUM(C59/52.143)/37 -> 19.691172 | G59: =SUM(C59*113.81%) -> 43236.419
B60: 3 | C60: 38845 | D60: =C60/12 -> 3237.0833 | E60: =SUM(C60/52.143) -> 744.97056 | F60: =SUM(C60/52.143)/37 -> 20.13434 | G60: =SUM(C60*113.81%) -> 44209.495
B61: 4 | C61: 39843 | D61: =C61/12 -> 3320.25 | E61: =SUM(C61/52.143) -> 764.11024 | F61: =SUM(C61/52.143)/37 -> 20.651628 | G61: =SUM(C61*113.81%) -> 45345.318
B62: 5 | C62: 40845 | D62: =C62/12 -> 3403.75 | E62: =SUM(C62/52.143) -> 783.32662 | F62: =SUM(C62/52.143)/37 -> 21.17099 | G62: =SUM(C62*113.81%) -> 46485.695
A63: 7 | B63: 1 | C63: 41557 | D63: =C63/12 -> 3463.0833 | E63: =SUM(C63/52.143) -> 796.98138 | F63: =SUM(C63/52.143)/37 -> 21.540037 | G63: =SUM(C63*113.81%) -> 47296.022
B64: 2 | C64: 42558 | D64: =C64/12 -> 3546.5 | E64: =SUM(C64/52.143) -> 816.17859 | F64: =SUM(C64/52.143)/37 -> 22.058881 | G64: =SUM(C64*113.81%) -> 48435.26
B65: 3 | C65: 43558 | D65: =C65/12 -> 3629.8333 | E65: =SUM(C65/52.143) -> 835.35662 | F65: =SUM(C65/52.143)/37 -> 22.577206 | G65: =SUM(C65*113.81%) -> 49573.36
B66: 4 | C66: 44557 | D66: =C66/12 -> 3713.0833 | E66: =SUM(C66/52.143) -> 854.51547 | F66: =SUM(C66/52.143)/37 -> 23.095013 | G66: =SUM(C66*113.81%) -> 50710.322
B67: 5 | C67: 45522 | D67: =C67/12 -> 3793.5 | E67: =SUM(C67/52.143) -> 873.02227 | F67: =SUM(C67/52.143)/37 -> 23.595196 | G67: =SUM(C67*113.81%) -> 51808.588
A73: MANAGEMENT GRADES | B73: April 2024
A75: Salary range
D76: Hourly Rate | E76: Hourly Rate
A77: GRADE | B77: MIN | C77: MAX | D77: MIN | E77: MAX
A79: M1+ | B79: 85958 | C79: 113925 | D79: =SUM(B79/52.143/37) -> 44.554191 | E79: =SUM(C79/52.143/37) -> 59.05019
D80: 0 | E80: 0
A81: M1 | B81: 78970 | C81: 91550 | D81: =SUM(B81/52.143/37) -> 40.932135 | E81: =SUM(C81/52.143/37) -> 47.452665
D82: 0 | E82: 0
A83: M2 | B83: 70679 | C83: 77184 | D83: =SUM(B83/52.143/37) -> 36.634702 | E83: =SUM(C83/52.143/37) -> 40.006406
D84: 0 | E84: 0
A85: M3 | B85: 63392 | C85: 69030 | D85: =SUM(B85/52.143/37) -> 32.857666 | E85: =SUM(C85/52.143/37) -> 35.779983
D86: 0 | E86: 0
A87: M4 | B87: 56576 | C87: 61679 | D87: =SUM(B87/52.143/37) -> 29.324762 | E87: =SUM(C87/52.143/37) -> 31.969775
D88: 0 | E88: 0
A89: M5 | B89: 51839 | C89: 56394 | D89: =SUM(B89/52.143/37) -> 26.869456 | E89: =SUM(C89/52.143/37) -> 29.230427
D90: 0 | E90: 0
A91: M6 | B91: 47757 | C91: 51688 | D91: =SUM(B91/52.143/37) -> 24.753653 | E91: =SUM(C91/52.143/37) -> 26.791189

Sheet April 25
E1: Schools April 2025
C2: 3.2% on all points - Agreed July 25
B4: SCALE / | C4: BASIC | D4: TOTAL | E4: MONTHLY | F4: WEEKLY | G4: HOURLY | H4: HOURLY
B5: NEW SPINAL | C5: SALARY | D5: SALARY | E5: SALARY | F5: SALARY | G5: RATE | H5: RATE
B6: POINT | C6: NJC | D6: RBWM* | E6: RBWM | F6: RBWM | G6: RBWM | H6: (inc. hol)
B7: SCALE 2, a | C7: £ | D7: £ | E7: £ | F7: £ | G7: £ | H7: £
B9: 2 | C9: =C11 -> 24413 | D9: =D11 -> 26244 | E9: =E11 -> 2187 | F9: =F11 -> 503.30821 | G9: =G11 -> 13.602925 | H9: =H11 -> 15.481488
B10: SCALE 2, b
B11: 2 | C11: 24413 | D11: =ROUND((C11*1.075),0) -> 26244 | E11: =D11/12 -> 2187 | F11: =SUM(D11/52.143) -> 503.30821 | G11: =SUM($D11/52.143)/37 -> 13.602925 | H11: =SUM($D11/52.143)/37*1.1381 -> 15.481488
B12: 3 | C12: 24796 | D12: =ROUND((C12*1.075),0) -> 26656 | E12: =D12/12 -> 2221.3333 | F12: =SUM(D12/52.143) -> 511.20956 | G12: =SUM($D12/52.143)/37 -> 13.816475 | H12: =SUM($D12/52.143)/37*1.1381 -> 15.72453
B13: SCALE 2, c
B14: 3 | C14: =C12 -> 24796 | D14: =D12 -> 26656 | E14: =E12 -> 2221.3333 | F14: =F12 -> 511.20956 | G14: =G12 -> 13.816475 | H14: =H12 -> 15.72453
B15: 4 | C15: 25185 | D15: =ROUND((C15*1.075),0) -> 27074 | E15: =D15/12 -> 2256.1667 | F15: =SUM(D15/52.143) -> 519.22597 | G15: =SUM($D15/52.143)/37 -> 14.033134 | H15: =SUM($D15/52.143)/37*1.1381 -> 15.97111
B16: SCALE 3
B17: 5 | C17: 25583 | D17: =ROUND((C17*1.075),0) -> 27502 | E17: =D17/12 -> 2291.8333 | F17: =SUM(D17/52.143) -> 527.43417 | G17: =SUM($D17/52.143)/37 -> 14.254978 | H17: =SUM($D17/52.143)/37*1.1381 -> 16.22359
B18: 6 | C18: 25989 | D18: =ROUND((C18*1.075),0) -> 27938 | E18: =D18/12 -> 2328.1667 | F18: =SUM(D18/52.143) -> 535.79579 | G18: =SUM($D18/52.143)/37 -> 14.480967 | H18: =SUM($D18/52.143)/37*1.1381 -> 16.480789
B19: SCALE 4
B20: 7 | C20: 26403 | D20: =ROUND((C20*1.075),0) -> 28383 | E20: =D20/12 -> 2365.25 | F20: =SUM(D20/52.143) -> 544.33002 | G20: =SUM($D20/52.143)/37 -> 14.711622 | H20: =SUM($D20/52.143)/37*1.1381 -> 16.743297
B21: 8 | C21: 26824 | D21: =ROUND((C21*1.075),0) -> 28836 | E21: =D21/12 -> 2403 | F21: =SUM(D21/52.143) -> 553.01766 | G21: =SUM($D21/52.143)/37 -> 14.946423 | H21: =SUM($D21/52.143)/37*1.1381 -> 17.010524
B22: 9 | C22: 27254 | D22: =ROUND((C22*1.075),0) -> 29298 | E22: =D22/12 -> 2441.5 | F22: =SUM(D22/52.143) -> 561.87791 | G22: =SUM($D22/52.143)/37 -> 15.18589 | H22: =SUM($D22/52.143)/37*1.1381 -> 17.283061
B23: 10 | C23: 27694 | D23: =ROUND((C23*1.075),0) -> 29771 | E23: =D23/12 -> 2480.9167 | F23: =SUM(D23/52.143) -> 570.94912 | G23: =SUM($D23/52.143)/37 -> 15.431057 | H23: =SUM($D23/52.143)/37*1.1381 -> 17.562086
B24: 11 | C24: 28142 | D24: =ROUND((C24*1.075),0) -> 30253 | E24: =D24/12 -> 2521.0833 | F24: =SUM(D24/52.143) -> 580.19293 | G24: =SUM($D24/52.143)/37 -> 15.68089 | H24: =SUM($D24/52.143)/37*1.1381 -> 17.846421
B25: SCALE 5
B26: 12 | C26: 28598 | D26: =ROUND((C26*1.075),0) -> 30743 | E26: =D26/12 -> 2561.9167 | F26: =SUM(D26/52.143) -> 589.59017 | G26: =SUM($D26/52.143)/37 -> 15.934869 | H26: =SUM($D26/52.143)/37*1.1381 -> 18.135475
B27: 13 | C27: 29064 | D27: =ROUND((C27*1.075),0) -> 31244 | E27: =D27/12 -> 2603.6667 | F27: =SUM(D27/52.143) -> 599.19836 | G27: =SUM($D27/52.143)/37 -> 16.19455 | H27: =SUM($D27/52.143)/37*1.1381 -> 18.431018
B28: 14 | C28: 29540 | D28: =ROUND((C28*1.075),0) -> 31756 | E28: =D28/12 -> 2646.3333 | F28: =SUM(D28/52.143) -> 609.01751 | G28: =SUM($D28/52.143)/37 -> 16.459933 | H28: =SUM($D28/52.143)/37*1.1381 -> 18.733049
B29: 15 | C29: 30024 | D29: =ROUND((C29*1.075),0) -> 32276 | E29: =D29/12 -> 2689.6667 | F29: =SUM(D29/52.143) -> 618.99008 | G29: =SUM($D29/52.143)/37 -> 16.729462 | H29: =SUM($D29/52.143)/37*1.1381 -> 19.0398
B30: 16 | C30: 30518 | D30: =ROUND((C30*1.075),0) -> 32807 | E30: =D30/12 -> 2733.9167 | F30: =SUM(D30/52.143) -> 629.17362 | G30: =SUM($D30/52.143)/37 -> 17.004692 | H30: =SUM($D30/52.143)/37*1.1381 -> 19.35304
B31: 17 | C31: 31022 | D31: =ROUND((C31*1.075),0) -> 33349 | E31: =D31/12 -> 2779.0833 | F31: =SUM(D31/52.143) -> 639.56811 | G31: =SUM($D31/52.143)/37 -> 17.285625 | H31: =SUM($D31/52.143)/37*1.1381 -> 19.672769
B32: SCALE 6
B33: 18 | C33: 31537 | D33: =ROUND((C33*1.075),0) -> 33902 | E33: =D33/12 -> 2825.1667 | F33: =SUM(D33/52.143) -> 650.17356 | G33: =SUM($D33/52.143)/37 -> 17.572258 | H33: =SUM($D33/52.143)/37*1.1381 -> 19.998987
B34: 19 | C34: 32061 | D34: =ROUND((C34*1.075),0) -> 34466 | E34: =D34/12 -> 2872.1667 | F34: =SUM(D34/52.143) -> 660.98997 | G34: =SUM($D34/52.143)/37 -> 17.864594 | H34: =SUM($D34/52.143)/37*1.1381 -> 20.331694
B35: 20 | C35: 32597 | D35: =ROUND((C35*1.075),0) -> 35042 | E35: =D35/12 -> 2920.1667 | F35: =SUM(D35/52.143) -> 672.03651 | G35: =SUM($D35/52.143)/37 -> 18.163149 | H35: =SUM($D35/52.143)/37*1.1381 -> 20.67148
B36: 21 | C36: 33143 | D36: =ROUND((C36*1.075),0) -> 35629 | E36: =D36/12 -> 2969.0833 | F36: =SUM(D36/52.143) -> 683.29402 | G36: =SUM($D36/52.143)/37 -> 18.467406 | H36: =SUM($D36/52.143)/37*1.1381 -> 21.017755
B37: 22 | C37: 33699 | D37: =ROUND((C37*1.075),0) -> 36226 | E37: =D37/12 -> 3018.8333 | F37: =SUM(D37/52.143) -> 694.7433 | G37: =SUM($D37/52.143)/37 -> 18.776846 | H37: =SUM($D37/52.143)/37*1.1381 -> 21.369928
B39: Midday Supervisors | E39: Total Annual | G39: Hourly | H39: Inc Hols
B40: 8 | C40: =C21 -> 26824 | D40: 729 | E40: =C40+D40 -> 27553 | G40: =E40/52.143/37 -> 14.281412 | H40: =E40/52.143/37*1.1381 -> 16.253675
B41: * includes local integrated allowance of 7.5%
A42: CAR ALLOWANCES
A44: All casual car users are paid same rate, irrespective of car cubic capacity.
A46: USER | B46: Miles per annum | D46: All cc's
D47: pence per mile
A49: Casual | B49: Up to | C49: 10000 | D49: 45
B50: Over | C50: 10000 | D50: 25
A53: MANAGEMENT GRADES 7 & 8 | B53: April 2025 | G53: With holiday allowance
A55: GRADE | B55: SPINAL | C55: TOTAL | D55: MONTHLY | E55: WEEKLY | F55: HOURLY
B56: POINT | C56: SALARY | D56: SALARY | E56: SALARY | F56: RATE | G56: +13.81%
C57: £ | D57: £ | E57: £ | F57: £ | G57: £
A58: 8 | B58: 1 | C58: 38316 | D58: =C58/12 -> 3193 | E58: =SUM(C58/52.143) -> 734.82538 | F58: =SUM(C58/52.143)/37 -> 19.860146 | G58: =SUM(C58*1.1381) -> 43607.44
B59: 2 | C59: 39206 | D59: =C59/12 -> 3267.1667 | E59: =SUM(C59/52.143) -> 751.89383 | F59: =SUM(C59/52.143)/37 -> 20.321455 | G59: =SUM(C59*1.1381) -> 44620.349
B60: 3 | C60: 40088 | D60: =C60/12 -> 3340.6667 | E60: =SUM(C60/52.143) -> 768.80885 | F60: =SUM(C60/52.143)/37 -> 20.778618 | G60: =SUM(C60*1.1381) -> 45624.153
B61: 4 | C61: 41118 | D61: =C61/12 -> 3426.5 | E61: =SUM(C61/52.143) -> 788.56222 | F61: =SUM(C61/52.143)/37 -> 21.312493 | G61: =SUM(C61*1.1381) -> 46796.396
B62: 5 | C62: 42152 | D62: =C62/12 -> 3512.6667 | E62: =SUM(C62/52.143) -> 808.39231 | F62: =SUM(C62/52.143)/37 -> 21.848441 | G62: =SUM(C62*1.1381) -> 47973.191
A63: 7 | B63: 1 | C63: 42887 | D63: =C63/12 -> 3573.9167 | E63: =SUM(C63/52.143) -> 822.48816 | F63: =SUM(C63/52.143)/37 -> 22.22941 | G63: =SUM(C63*1.1381) -> 48809.695
B64: 2 | C64: 43920 | D64: =C64/12 -> 3660 | E64: =SUM(C64/52.143) -> 842.29906 | F64: =SUM(C64/52.143)/37 -> 22.76484 | G64: =SUM(C64*1.1381) -> 49985.352
B65: 3 | C65: 44952 | D65: =C65/12 -> 3746 | E65: =SUM(C65/52.143) -> 862.09079 | F65: =SUM(C65/52.143)/37 -> 23.299751 | G65: =SUM(C65*1.1381) -> 51159.871
B66: 4 | C66: 45983 | D66: =C66/12 -> 3831.9167 | E66: =SUM(C66/52.143) -> 881.86334 | F66: =SUM(C66/52.143)/37 -> 23.834144 | G66: =SUM(C66*1.1381) -> 52333.252
B67: 5 | C67: 46979 | D67: =C67/12 -> 3914.9167 | E67: =SUM(C67/52.143) -> 900.96465 | F67: =SUM(C67/52.143)/37 -> 24.350396 | G67: =SUM(C67*1.1381) -> 53466.8
A73: MANAGEMENT GRADES | B73: April 2025
A75: Salary range
D76: Hourly Rate | E76: Hourly Rate
A77: GRADE | B77: MIN | C77: MAX | D77: MIN | E77: MAX
A79: M1+ | B79: 88709 | C79: 117571 | D79: =SUM(B79/52.143/37) -> 45.980104 | E79: =SUM(C79/52.143/37) -> 60.940003
A81: M1 | B81: 81497 | C81: 94480 | D81: =SUM(B81/52.143/37) -> 42.241943 | E81: =SUM(C81/52.143/37) -> 48.971358
A83: M2 | B83: 72941 | C83: 79654 | D83: =SUM(B83/52.143/37) -> 37.807153 | E83: =SUM(C83/52.143/37) -> 41.28667
A85: M3 | B85: 65421 | C85: 71239 | D85: =SUM(B85/52.143/37) -> 33.909348 | E85: =SUM(C85/52.143/37) -> 36.924964
A87: M4 | B87: 58386 | C87: 63653 | D87: =SUM(B87/52.143/37) -> 30.262931 | E87: =SUM(C87/52.143/37) -> 32.992949
A89: M5 | B89: 53498 | C89: 58199 | D89: =SUM(B89/52.143/37) -> 27.729358 | E89: =SUM(C89/52.143/37) -> 30.166004
A91: M6 | B91: 49285 | C91: 53342 | D91: =SUM(B91/52.143/37) -> 25.545654 | E91: =SUM(C91/52.143/37) -> 27.648499

Sheet April 26
E1: Schools April 2026
D2: 3.3% on all points - Agreed Aug 26
B4: SCALE / | C4: BASIC | D4: TOTAL | E4: MONTHLY | F4: WEEKLY | G4: HOURLY | H4: HOURLY
B5: NEW SPINAL | C5: SALARY | D5: SALARY | E5: SALARY | F5: SALARY | G5: RATE | H5: RATE
B6: POINT | C6: NJC | D6: RBWM* | E6: RBWM | F6: RBWM | G6: RBWM | H6: (inc. hol)
B7: SCALE 2, a | C7: £ | D7: £ | E7: £ | F7: £ | G7: £ | H7: £
B8: 3 | C8: =C10 -> 25614 | D8: =D10 -> 27535 | E8: =E10 -> 2294.5833 | F8: =F10 -> 528.06705 | G8: =G10 -> 14.272082 | H8: =H10 -> 16.243057
B9: SCALE 2, b
B10: 3 | C10: 25614 | D10: =ROUND((C10*1.075),0) -> 27535 | E10: =D10/12 -> 2294.5833 | F10: =SUM(D10/52.143) -> 528.06705 | G10: =SUM($D10/52.143)/37 -> 14.272082 | H10: =SUM($D10/52.143)/37*1.1381 -> 16.243057
B11: SCALE 2, c
B12: 3 | C12: =C10 -> 25614 | D12: =D10 -> 27535 | E12: =E10 -> 2294.5833 | F12: =F10 -> 528.06705 | G12: =G10 -> 14.272082 | H12: =H10 -> 16.243057
B13: 4 | C13: 26016 | D13: =ROUND((C13*1.075),0) -> 27967 | E13: =D13/12 -> 2330.5833 | F13: =SUM(D13/52.143) -> 536.35196 | G13: =SUM($D13/52.143)/37 -> 14.495999 | H13: =SUM($D13/52.143)/37*1.1381 -> 16.497896
B14: SCALE 3
B15: 5 | C15: 26427 | D15: =ROUND((C15*1.075),0) -> 28409 | E15: =D15/12 -> 2367.4167 | F15: =SUM(D15/52.143) -> 544.82864 | G15: =SUM($D15/52.143)/37 -> 14.725098 | H15: =SUM($D15/52.143)/37*1.1381 -> 16.758635
B16: 6 | C16: 26847 | D16: =ROUND((C16*1.075),0) -> 28861 | E16: =D16/12 -> 2405.0833 | F16: =SUM(D16/52.143) -> 553.49711 | G16: =SUM($D16/52.143)/37 -> 14.959381 | H16: =SUM($D16/52.143)/37*1.1381 -> 17.025272
B17: SCALE 4
B18: 7 | C18: 27274 | D18: =ROUND((C18*1.075),0) -> 29320 | E18: =D18/12 -> 2443.3333 | F18: =SUM(D18/52.143) -> 562.29983 | G18: =SUM($D18/52.143)/37 -> 15.197293 | H18: =SUM($D18/52.143)/37*1.1381 -> 17.296039
B19: 8 | C19: 27709 | D19: =ROUND((C19*1.075),0) -> 29787 | E19: =D19/12 -> 2482.25 | F19: =SUM(D19/52.143) -> 571.25597 | G19: =SUM($D19/52.143)/37 -> 15.439351 | H19: =SUM($D19/52.143)/37*1.1381 -> 17.571525
B20: 9 | C20: 28153 | D20: =ROUND((C20*1.075),0) -> 30264 | E20: =D20/12 -> 2522 | F20: =SUM(D20/52.143) -> 580.40389 | G20: =SUM($D20/52.143)/37 -> 15.686592 | H20: =SUM($D20/52.143)/37*1.1381 -> 17.85291
B21: 10 | C21: 28608 | D21: =ROUND((C21*1.075),0) -> 30754 | E21: =D21/12 -> 2562.8333 | F21: =SUM(D21/52.143) -> 589.80112 | G21: =SUM($D21/52.143)/37 -> 15.940571 | H21: =SUM($D21/52.143)/37*1.1381 -> 18.141964
B22: 11 | C22: 29071 | D22: =ROUND((C22*1.075),0) -> 31251 | E22: =D22/12 -> 2604.25 | F22: =SUM(D22/52.143) -> 599.3326 | G22: =SUM($D22/52.143)/37 -> 16.198179 | H22: =SUM($D22/52.143)/37*1.1381 -> 18.435147
B23: SCALE 5
B24: 12 | C24: 29542 | D24: =ROUND((C24*1.075),0) -> 31758 | E24: =D24/12 -> 2646.5 | F24: =SUM(D24/52.143) -> 609.05587 | G24: =SUM($D24/52.143)/37 -> 16.460969 | H24: =SUM($D24/52.143)/37*1.1381 -> 18.734229
B25: 13 | C25: 30023 | D25: =ROUND((C25*1.075),0) -> 32275 | E25: =D25/12 -> 2689.5833 | F25: =SUM(D25/52.143) -> 618.97091 | G25: =SUM($D25/52.143)/37 -> 16.728943 | H25: =SUM($D25/52.143)/37*1.1381 -> 19.039211
B26: 14 | C26: 30515 | D26: =ROUND((C26*1.075),0) -> 32804 | E26: =D26/12 -> 2733.6667 | F26: =SUM(D26/52.143) -> 629.11608 | G26: =SUM($D26/52.143)/37 -> 17.003137 | H26: =SUM($D26/52.143)/37*1.1381 -> 19.351271
B27: 15 | C27: 31015 | D27: =ROUND((C27*1.075),0) -> 33341 | E27: =D27/12 -> 2778.4167 | F27: =SUM(D27/52.143) -> 639.41469 | G27: =SUM($D27/52.143)/37 -> 17.281478 | H27: =SUM($D27/52.143)/37*1.1381 -> 19.66805
B28: 16 | C28: 31525 | D28: =ROUND((C28*1.075),0) -> 33889 | E28: =D28/12 -> 2824.0833 | F28: =SUM(D28/52.143) -> 649.92425 | G28: =SUM($D28/52.143)/37 -> 17.56552 | H28: =SUM($D28/52.143)/37*1.1381 -> 19.991319
B29: 17 | C29: 32046 | D29: =ROUND((C29*1.075),0) -> 34449 | E29: =D29/12 -> 2870.75 | F29: =SUM(D29/52.143) -> 660.66394 | G29: =SUM($D29/52.143)/37 -> 17.855782 | H29: =SUM($D29/52.143)/37*1.1381 -> 20.321666
B30: SCALE 6
B31: 18 | C31: 32578 | D31: =ROUND((C31*1.075),0) -> 35021 | E31: =D31/12 -> 2918.4167 | F31: =SUM(D31/52.143) -> 671.63378 | G31: =SUM($D31/52.143)/37 -> 18.152264 | H31: =SUM($D31/52.143)/37*1.1381 -> 20.659092
B32: 19 | C32: 33119 | D32: =ROUND((C32*1.075),0) -> 35603 | E32: =D32/12 -> 2966.9167 | F32: =SUM(D32/52.143) -> 682.79539 | G32: =SUM($D32/52.143)/37 -> 18.453929 | H32: =SUM($D32/52.143)/37*1.1381 -> 21.002417
B33: 20 | C33: 33673 | D33: =ROUND((C33*1.075),0) -> 36198 | E33: =D33/12 -> 3016.5 | F33: =SUM(D33/52.143) -> 694.20632 | G33: =SUM($D33/52.143)/37 -> 18.762333 | H33: =SUM($D33/52.143)/37*1.1381 -> 21.353411
B34: 21 | C34: 34237 | D34: =ROUND((C34*1.075),0) -> 36805 | E34: =D34/12 -> 3067.0833 | F34: =SUM(D34/52.143) -> 705.84738 | G34: =SUM($D34/52.143)/37 -> 19.076956 | H34: =SUM($D34/52.143)/37*1.1381 -> 21.711484
B35: 22 | C35: 34811 | D35: =ROUND((C35*1.075),0) -> 37422 | E35: =D35/12 -> 3118.5 | F35: =SUM(D35/52.143) -> 717.68023 | G35: =SUM($D35/52.143)/37 -> 19.396763 | H35: =SUM($D35/52.143)/37*1.1381 -> 22.075456
B37: Midday Supervisors | E37: Total Annual | G37: Hourly | H37: Inc Hols
B38: 8 | C38: =C19 -> 27709 | D38: 753 | E38: =C38+D38 -> 28462 | G38: =E38/52.143/37 -> 14.75257 | H38: =E38/52.143/37*1.1381 -> 16.7899
B39: * includes local integrated allowance of 7.5%
A40: CAR ALLOWANCES
A42: All casual car users are paid same rate, irrespective of car cubic capacity.
A44: USER | B44: Miles per annum | D44: All cc's
D45: pence per mile
A47: Casual | B47: Up to | C47: 10000 | D47: 55
B48: Over | C48: 10000 | D48: 25
A51: MANAGEMENT GRADES 7 & 8 | B51: April 2026 | G51: With holiday allowance
A53: GRADE | B53: SPINAL | C53: TOTAL | D53: MONTHLY | E53: WEEKLY | F53: HOURLY
B54: POINT | C54: SALARY | D54: SALARY | E54: SALARY | F54: RATE | G54: +13.81%
C55: £ | D55: £ | E55: £ | F55: £ | G55: £
A56: 8 | B56: 1 | C56: 39580 | D56: =C56/12 -> 3298.3333 | E56: =SUM(C56/52.143) -> 759.06641 | F56: =SUM(C56/52.143)/37 -> 20.515308 | G56: =SUM(C56*1.1381) -> 45045.998
B57: 2 | C57: 40500 | D57: =C57/12 -> 3375 | E57: =SUM(C57/52.143) -> 776.7102 | F57: =SUM(C57/52.143)/37 -> 20.992168 | G57: =SUM(C57*1.1381) -> 46093.05
B58: 3 | C58: 41411 | D58: =C58/12 -> 3450.9167 | E58: =SUM(C58/52.143) -> 794.18139 | F58: =SUM(C58/52.143)/37 -> 21.464362 | G58: =SUM(C58*1.1381) -> 47129.859
B59: 4 | C59: 42475 | D59: =C59/12 -> 3539.5833 | E59: =SUM(C59/52.143) -> 814.58681 | F59: =SUM(C59/52.143)/37 -> 22.01586 | G59: =SUM(C59*1.1381) -> 48340.797
B60: 5 | C60: 43543 | D60: =C60/12 -> 3628.5833 | E60: =SUM(C60/52.143) -> 835.06895 | F60: =SUM(C60/52.143)/37 -> 22.569431 | G60: =SUM(C60*1.1381) -> 49556.288
A61: 7 | B61: 1 | C61: 44302 | D61: =C61/12 -> 3691.8333 | E61: =SUM(C61/52.143) -> 849.62507 | F61: =SUM(C61/52.143)/37 -> 22.96284 | G61: =SUM(C61*1.1381) -> 50420.106
B62: 2 | C62: 45369 | D62: =C62/12 -> 3780.75 | E62: =SUM(C62/52.143) -> 870.08803 | F62: =SUM(C62/52.143)/37 -> 23.515893 | G62: =SUM(C62*1.1381) -> 51634.459
B63: 3 | C63: 46435 | D63: =C63/12 -> 3869.5833 | E63: =SUM(C63/52.143) -> 890.53181 | F63: =SUM(C63/52.143)/37 -> 24.068427 | G63: =SUM(C63*1.1381) -> 52847.673
B64: 4 | C64: 47500 | D64: =C64/12 -> 3958.3333 | E64: =SUM(C64/52.143) -> 910.95641 | F64: =SUM(C64/52.143)/37 -> 24.620443 | G64: =SUM(C64*1.1381) -> 54059.75
B65: 5 | C65: 48529 | D65: =C65/12 -> 4044.0833 | E65: =SUM(C65/52.143) -> 930.6906 | F65: =SUM(C65/52.143)/37 -> 25.1538 | G65: =SUM(C65*1.1381) -> 55230.855
A71: MANAGEMENT GRADES | B71: April 2026
A73: Salary range
D74: Hourly Rate | E74: Hourly Rate
A75: GRADE | B75: MIN | C75: MAX | D75: MIN | E75: MAX
A77: M1+ | B77: 91636 | C77: 121451 | D77: =SUM(B77/52.143/37) -> 47.497241 | E77: =SUM(C77/52.143/37) -> 62.951105
A79: M1 | B79: 84186 | C79: 97598 | D79: =SUM(B79/52.143/37) -> 43.635719 | E79: =SUM(C79/52.143/37) -> 50.587496
A81: M2 | B81: 75348 | C81: 82283 | D81: =SUM(B81/52.143/37) -> 39.054762 | E81: =SUM(C81/52.143/37) -> 42.649346
A83: M3 | B83: 67580 | C83: 73590 | D83: =SUM(B83/52.143/37) -> 35.028412 | E83: =SUM(C83/52.143/37) -> 38.143546
A85: M4 | B85: 60313 | C85: 65754 | D85: =SUM(B85/52.143/37) -> 31.261743 | E85: =SUM(C85/52.143/37) -> 34.08195
A87: M5 | B87: 55263 | C87: 60120 | D87: =SUM(B87/52.143/37) -> 28.644201 | E87: =SUM(C87/52.143/37) -> 31.161707
A89: M6 | B89: 50911 | C89: 55102 | D89: =SUM(B89/52.143/37) -> 26.38845 | E89: =SUM(C89/52.143/37) -> 28.560751

Sheet April 25 (Workings)
E1: Schools April 2025
C2: 3.2% on all points - Agreed July 25
B4: SCALE / | C4: BASIC | D4: TOTAL | E4: MONTHLY | F4: WEEKLY | G4: HOURLY | H4: HOURLY
B5: NEW SPINAL | C5: SALARY | D5: SALARY | E5: SALARY | F5: SALARY | G5: RATE | H5: RATE
B6: POINT | C6: NJC | D6: RBWM* | E6: RBWM | F6: RBWM | G6: RBWM | H6: (inc. hol)
B7: SCALE 2, a | C7: £ | D7: £ | E7: £ | F7: £ | G7: £ | H7: £ | K7: Circular
J8: 45383 | K8: Salary | L8: Hourly | N8: Salary | O8: Hourly
B9: 2 | C9: =C11 -> 24413 | D9: =D11 -> 26244 | E9: =E11 -> 2187 | F9: =F11 -> 503.30821 | G9: =G11 -> 13.602925 | H9: =H11 -> 15.481488 | J9: ='April 24'!C9 -> 23656 | K9: =_xlfn.XLOOKUP(B9,'2025 Circular'!A:A,'2025 Circular'!D:D,"",0) -> 24413 | L9: =_xlfn.XLOOKUP(B9,'2025 Circular'!A:A,'2025 Circular'!E:E,"",0) -> 12.65 | M9: =EXACT(C9,K9) -> TRUE | N9: =(K9-J9)/J9 -> 0.032000338 | O9: =(G9-SUM(ROUND($J9*1.075,0)/52.143)/37)/(SUM(ROUND($J9*1.075,0)/52.143)/37) -> 0.032009438
B10: SCALE 2, b | K10: =_xlfn.XLOOKUP(B10,'2025 Circular'!A:A,'2025 Circular'!D:D,"",0) | L10: =_xlfn.XLOOKUP(B10,'2025 Circular'!A:A,'2025 Circular'!E:E,"",0)
B11: 2 | C11: 24413 | D11: =ROUND((C11*1.075),0) -> 26244 | E11: =D11/12 -> 2187 | F11: =SUM(D11/52.143) -> 503.30821 | G11: =SUM($D11/52.143)/37 -> 13.602925 | H11: =SUM($D11/52.143)/37*1.1381 -> 15.481488 | J11: ='April 24'!C11 -> 23656 | K11: =_xlfn.XLOOKUP(B11,'2025 Circular'!A:A,'2025 Circular'!D:D,"",0) -> 24413 | L11: =_xlfn.XLOOKUP(B11,'2025 Circular'!A:A,'2025 Circular'!E:E,"",0) -> 12.65 | M11: =EXACT(C11,K11) -> TRUE | N11: =(K11-J11)/J11 -> 0.032000338 | O11: =(G11-SUM(ROUND($J11*1.075,0)/52.143)/37)/(SUM(ROUND($J11*1.075,0)/52.143)/37) -> 0.032009438
B12: 3 | C12: 24796 | D12: =ROUND((C12*1.075),0) -> 26656 | E12: =D12/12 -> 2221.3333 | F12: =SUM(D12/52.143) -> 511.20956 | G12: =SUM($D12/52.143)/37 -> 13.816475 | H12: =SUM($D12/52.143)/37*1.1381 -> 15.72453 | J12: ='April 24'!C12 -> 24027 | K12: =_xlfn.XLOOKUP(B12,'2025 Circular'!A:A,'2025 Circular'!D:D,"",0) -> 24796 | L12: =_xlfn.XLOOKUP(B12,'2025 Circular'!A:A,'2025 Circular'!E:E,"",0) -> 12.85 | M12: =EXACT(C12,K12) -> TRUE | N12: =(K12-J12)/J12 -> 0.03200566 | O12: =(G12-SUM(ROUND($J12*1.075,0)/52.143)/37)/(SUM(ROUND($J12*1.075,0)/52.143)/37) -> 0.032018274
B13: SCALE 2, c | K13: =_xlfn.XLOOKUP(B13,'2025 Circular'!A:A,'2025 Circular'!D:D,"",0) | L13: =_xlfn.XLOOKUP(B13,'2025 Circular'!A:A,'2025 Circular'!E:E,"",0)
B14: 3 | C14: =C12 -> 24796 | D14: =D12 -> 26656 | E14: =E12 -> 2221.3333 | F14: =F12 -> 511.20956 | G14: =G12 -> 13.816475 | H14: =H12 -> 15.72453 | J14: ='April 24'!C14 -> 24027 | K14: =_xlfn.XLOOKUP(B14,'2025 Circular'!A:A,'2025 Circular'!D:D,"",0) -> 24796 | L14: =_xlfn.XLOOKUP(B14,'2025 Circular'!A:A,'2025 Circular'!E:E,"",0) -> 12.85 | M14: =EXACT(C14,K14) -> TRUE | N14: =(K14-J14)/J14 -> 0.03200566 | O14: =(G14-SUM(ROUND($J14*1.075,0)/52.143)/37)/(SUM(ROUND($J14*1.075,0)/52.143)/37) -> 0.032018274
B15: 4 | C15: 25185 | D15: =ROUND((C15*1.075),0) -> 27074 | E15: =D15/12 -> 2256.1667 | F15: =SUM(D15/52.143) -> 519.22597 | G15: =SUM($D15/52.143)/37 -> 14.033134 | H15: =SUM($D15/52.143)/37*1.1381 -> 15.97111 | J15: ='April 24'!C15 -> 24404 | K15: =_xlfn.XLOOKUP(B15,'2025 Circular'!A:A,'2025 Circular'!D:D,"",0) -> 25185 | L15: =_xlfn.XLOOKUP(B15,'2025 Circular'!A:A,'2025 Circular'!E:E,"",0) -> 13.05 | M15: =EXACT(C15,K15) -> TRUE | N15: =(K15-J15)/J15 -> 0.03200295 | O15: =(G15-SUM(ROUND($J15*1.075,0)/52.143)/37)/(SUM(ROUND($J15*1.075,0)/52.143)/37) -> 0.032019517
B16: SCALE 3 | K16: =_xlfn.XLOOKUP(B16,'2025 Circular'!A:A,'2025 Circular'!D:D,"",0) | L16: =_xlfn.XLOOKUP(B16,'2025 Circular'!A:A,'2025 Circular'!E:E,"",0)
B17: 5 | C17: 25583 | D17: =ROUND((C17*1.075),0) -> 27502 | E17: =D17/12 -> 2291.8333 | F17: =SUM(D17/52.143) -> 527.43417 | G17: =SUM($D17/52.143)/37 -> 14.254978 | H17: =SUM($D17/52.143)/37*1.1381 -> 16.22359 | J17: ='April 24'!C17 -> 24790 | K17: =_xlfn.XLOOKUP(B17,'2025 Circular'!A:A,'2025 Circular'!D:D,"",0) -> 25583 | L17: =_xlfn.XLOOKUP(B17,'2025 Circular'!A:A,'2025 Circular'!E:E,"",0) -> 13.26 | M17: =EXACT(C17,K17) -> TRUE | N17: =(K17-J17)/J17 -> 0.031988705 | O17: =(G17-SUM(ROUND($J17*1.075,0)/52.143)/37)/(SUM(ROUND($J17*1.075,0)/52.143)/37) -> 0.032008706
B18: 6 | C18: 25989 | D18: =ROUND((C18*1.075),0) -> 27938 | E18: =D18/12 -> 2328.1667 | F18: =SUM(D18/52.143) -> 535.79579 | G18: =SUM($D18/52.143)/37 -> 14.480967 | H18: =SUM($D18/52.143)/37*1.1381 -> 16.480789 | J18: ='April 24'!C18 -> 25183 | K18: =_xlfn.XLOOKUP(B18,'2025 Circular'!A:A,'2025 Circular'!D:D,"",0) -> 25989 | L18: =_xlfn.XLOOKUP(B18,'2025 Circular'!A:A,'2025 Circular'!E:E,"",0) -> 13.47 | M18: =EXACT(C18,K18) -> TRUE | N18: =(K18-J18)/J18 -> 0.032005718 | O18: =(G18-SUM(ROUND($J18*1.075,0)/52.143)/37)/(SUM(ROUND($J18*1.075,0)/52.143)/37) -> 0.031988771
B19: SCALE 4 | K19: =_xlfn.XLOOKUP(B19,'2025 Circular'!A:A,'2025 Circular'!D:D,"",0) | L19: =_xlfn.XLOOKUP(B19,'2025 Circular'!A:A,'2025 Circular'!E:E,"",0)
B20: 7 | C20: 26403 | D20: =ROUND((C20*1.075),0) -> 28383 | E20: =D20/12 -> 2365.25 | F20: =SUM(D20/52.143) -> 544.33002 | G20: =SUM($D20/52.143)/37 -> 14.711622 | H20: =SUM($D20/52.143)/37*1.1381 -> 16.743297 | J20: ='April 24'!C20 -> 25584 | K20: =_xlfn.XLOOKUP(B20,'2025 Circular'!A:A,'2025 Circular'!D:D,"",0) -> 26403 | L20: =_xlfn.XLOOKUP(B20,'2025 Circular'!A:A,'2025 Circular'!E:E,"",0) -> 13.69 | M20: =EXACT(C20,K20) -> TRUE | N20: =(K20-J20)/J20 -> 0.032012195 | O20: =(G20-SUM(ROUND($J20*1.075,0)/52.143)/37)/(SUM(ROUND($J20*1.075,0)/52.143)/37) -> 0.031996509
B21: 8 | C21: 26824 | D21: =ROUND((C21*1.075),0) -> 28836 | E21: =D21/12 -> 2403 | F21: =SUM(D21/52.143) -> 553.01766 | G21: =SUM($D21/52.143)/37 -> 14.946423 | H21: =SUM($D21/52.143)/37*1.1381 -> 17.010524 | J21: ='April 24'!C21 -> 25992 | K21: =_xlfn.XLOOKUP(B21,'2025 Circular'!A:A,'2025 Circular'!D:D,"",0) -> 26824 | L21: =_xlfn.XLOOKUP(B21,'2025 Circular'!A:A,'2025 Circular'!E:E,"",0) -> 13.9 | M21: =EXACT(C21,K21) -> TRUE | N21: =(K21-J21)/J21 -> 0.032009849 | O21: =(G21-SUM(ROUND($J21*1.075,0)/52.143)/37)/(SUM(ROUND($J21*1.075,0)/52.143)/37) -> 0.032031781
B22: 9 | C22: 27254 | D22: =ROUND((C22*1.075),0) -> 29298 | E22: =D22/12 -> 2441.5 | F22: =SUM(D22/52.143) -> 561.87791 | G22: =SUM($D22/52.143)/37 -> 15.18589 | H22: =SUM($D22/52.143)/37*1.1381 -> 17.283061 | J22: ='April 24'!C22 -> 26409 | K22: =_xlfn.XLOOKUP(B22,'2025 Circular'!A:A,'2025 Circular'!D:D,"",0) -> 27254 | L22: =_xlfn.XLOOKUP(B22,'2025 Circular'!A:A,'2025 Circular'!E:E,"",0) -> 14.13 | M22: =EXACT(C22,K22) -> TRUE | N22: =(K22-J22)/J22 -> 0.031996668 | O22: =(G22-SUM(ROUND($J22*1.075,0)/52.143)/37)/(SUM(ROUND($J22*1.075,0)/52.143)/37) -> 0.031983093
B23: 10 | C23: 27694 | D23: =ROUND((C23*1.075),0) -> 29771 | E23: =D23/12 -> 2480.9167 | F23: =SUM(D23/52.143) -> 570.94912 | G23: =SUM($D23/52.143)/37 -> 15.431057 | H23: =SUM($D23/52.143)/37*1.1381 -> 17.562086 | J23: ='April 24'!C23 -> 26835 | K23: =_xlfn.XLOOKUP(B23,'2025 Circular'!A:A,'2025 Circular'!D:D,"",0) -> 27694 | L23: =_xlfn.XLOOKUP(B23,'2025 Circular'!A:A,'2025 Circular'!E:E,"",0) -> 14.35 | M23: =EXACT(C23,K23) -> TRUE | N23: =(K23-J23)/J23 -> 0.032010434 | O23: =(G23-SUM(ROUND($J23*1.075,0)/52.143)/37)/(SUM(ROUND($J23*1.075,0)/52.143)/37) -> 0.031995286
B24: 11 | C24: 28142 | D24: =ROUND((C24*1.075),0) -> 30253 | E24: =D24/12 -> 2521.0833 | F24: =SUM(D24/52.143) -> 580.19293 | G24: =SUM($D24/52.143)/37 -> 15.68089 | H24: =SUM($D24/52.143)/37*1.1381 -> 17.846421 | J24: ='April 24'!C24 -> 27269 | K24: =_xlfn.XLOOKUP(B24,'2025 Circular'!A:A,'2025 Circular'!D:D,"",0) -> 28142 | L24: =_xlfn.XLOOKUP(B24,'2025 Circular'!A:A,'2025 Circular'!E:E,"",0) -> 14.59 | M24: =EXACT(C24,K24) -> TRUE | N24: =(K24-J24)/J24 -> 0.032014375 | O24: =(G24-SUM(ROUND($J24*1.075,0)/52.143)/37)/(SUM(ROUND($J24*1.075,0)/52.143)/37) -> 0.032032476
B25: SCALE 5 | K25: =_xlfn.XLOOKUP(B25,'2025 Circular'!A:A,'2025 Circular'!D:D,"",0) | L25: =_xlfn.XLOOKUP(B25,'2025 Circular'!A:A,'2025 Circular'!E:E,"",0)
B26: 12 | C26: 28598 | D26: =ROUND((C26*1.075),0) -> 30743 | E26: =D26/12 -> 2561.9167 | F26: =SUM(D26/52.143) -> 589.59017 | G26: =SUM($D26/52.143)/37 -> 15.934869 | H26: =SUM($D26/52.143)/37*1.1381 -> 18.135475 | J26: ='April 24'!C26 -> 27711 | K26: =_xlfn.XLOOKUP(B26,'2025 Circular'!A:A,'2025 Circular'!D:D,"",0) -> 28598 | L26: =_xlfn.XLOOKUP(B26,'2025 Circular'!A:A,'2025 Circular'!E:E,"",0) -> 14.82 | M26: =EXACT(C26,K26) -> TRUE | N26: =(K26-J26)/J26 -> 0.03200895 | O26: =(G26-SUM(ROUND($J26*1.075,0)/52.143)/37)/(SUM(ROUND($J26*1.075,0)/52.143)/37) -> 0.032025244
B27: 13 | C27: 29064 | D27: =ROUND((C27*1.075),0) -> 31244 | E27: =D27/12 -> 2603.6667 | F27: =SUM(D27/52.143) -> 599.19836 | G27: =SUM($D27/52.143)/37 -> 16.19455 | H27: =SUM($D27/52.143)/37*1.1381 -> 18.431018 | J27: ='April 24'!C27 -> 28163 | K27: =_xlfn.XLOOKUP(B27,'2025 Circular'!A:A,'2025 Circular'!D:D,"",0) -> 29064 | L27: =_xlfn.XLOOKUP(B27,'2025 Circular'!A:A,'2025 Circular'!E:E,"",0) -> 15.06 | M27: =EXACT(C27,K27) -> TRUE | N27: =(K27-J27)/J27 -> 0.03199233 | O27: =(G27-SUM(ROUND($J27*1.075,0)/52.143)/37)/(SUM(ROUND($J27*1.075,0)/52.143)/37) -> 0.032006606
B28: 14 | C28: 29540 | D28: =ROUND((C28*1.075),0) -> 31756 | E28: =D28/12 -> 2646.3333 | F28: =SUM(D28/52.143) -> 609.01751 | G28: =SUM($D28/52.143)/37 -> 16.459933 | H28: =SUM($D28/52.143)/37*1.1381 -> 18.733049 | J28: ='April 24'!C28 -> 28624 | K28: =_xlfn.XLOOKUP(B28,'2025 Circular'!A:A,'2025 Circular'!D:D,"",0) -> 29540 | L28: =_xlfn.XLOOKUP(B28,'2025 Circular'!A:A,'2025 Circular'!E:E,"",0) -> 15.31 | M28: =EXACT(C28,K28) -> TRUE | N28: =(K28-J28)/J28 -> 0.032001118 | O28: =(G28-SUM(ROUND($J28*1.075,0)/52.143)/37)/(SUM(ROUND($J28*1.075,0)/52.143)/37) -> 0.032010659
B29: 15 | C29: 30024 | D29: =ROUND((C29*1.075),0) -> 32276 | E29: =D29/12 -> 2689.6667 | F29: =SUM(D29/52.143) -> 618.99008 | G29: =SUM($D29/52.143)/37 -> 16.729462 | H29: =SUM($D29/52.143)/37*1.1381 -> 19.0398 | J29: ='April 24'!C29 -> 29093 | K29: =_xlfn.XLOOKUP(B29,'2025 Circular'!A:A,'2025 Circular'!D:D,"",0) -> 30024 | L29: =_xlfn.XLOOKUP(B29,'2025 Circular'!A:A,'2025 Circular'!E:E,"",0) -> 15.56 | M29: =EXACT(C29,K29) -> TRUE | N29: =(K29-J29)/J29 -> 0.032000825 | O29: =(G29-SUM(ROUND($J29*1.075,0)/52.143)/37)/(SUM(ROUND($J29*1.075,0)/52.143)/37) -> 0.032006395
B30: 16 | C30: 30518 | D30: =ROUND((C30*1.075),0) -> 32807 | E30: =D30/12 -> 2733.9167 | F30: =SUM(D30/52.143) -> 629.17362 | G30: =SUM($D30/52.143)/37 -> 17.004692 | H30: =SUM($D30/52.143)/37*1.1381 -> 19.35304 | J30: ='April 24'!C30 -> 29572 | K30: =_xlfn.XLOOKUP(B30,'2025 Circular'!A:A,'2025 Circular'!D:D,"",0) -> 30518 | L30: =_xlfn.XLOOKUP(B30,'2025 Circular'!A:A,'2025 Circular'!E:E,"",0) -> 15.82 | M30: =EXACT(C30,K30) -> TRUE | N30: =(K30-J30)/J30 -> 0.03198972 | O30: =(G30-SUM(ROUND($J30*1.075,0)/52.143)/37)/(SUM(ROUND($J30*1.075,0)/52.143)/37) -> 0.031991192
B31: 17 | C31: 31022 | D31: =ROUND((C31*1.075),0) -> 33349 | E31: =D31/12 -> 2779.0833 | F31: =SUM(D31/52.143) -> 639.56811 | G31: =SUM($D31/52.143)/37 -> 17.285625 | H31: =SUM($D31/52.143)/37*1.1381 -> 19.672769 | J31: ='April 24'!C31 -> 30060 | K31: =_xlfn.XLOOKUP(B31,'2025 Circular'!A:A,'2025 Circular'!D:D,"",0) -> 31022 | L31: =_xlfn.XLOOKUP(B31,'2025 Circular'!A:A,'2025 Circular'!E:E,"",0) -> 16.08 | M31: =EXACT(C31,K31) -> TRUE | N31: =(K31-J31)/J31 -> 0.032002661 | O31: =(G31-SUM(ROUND($J31*1.075,0)/52.143)/37)/(SUM(ROUND($J31*1.075,0)/52.143)/37) -> 0.031997524
B32: SCALE 6 | K32: =_xlfn.XLOOKUP(B32,'2025 Circular'!A:A,'2025 Circular'!D:D,"",0) | L32: =_xlfn.XLOOKUP(B32,'2025 Circular'!A:A,'2025 Circular'!E:E,"",0)
B33: 18 | C33: 31537 | D33: =ROUND((C33*1.075),0) -> 33902 | E33: =D33/12 -> 2825.1667 | F33: =SUM(D33/52.143) -> 650.17356 | G33: =SUM($D33/52.143)/37 -> 17.572258 | H33: =SUM($D33/52.143)/37*1.1381 -> 19.998987 | J33: ='April 24'!C33 -> 30559 | K33: =_xlfn.XLOOKUP(B33,'2025 Circular'!A:A,'2025 Circular'!D:D,"",0) -> 31537 | L33: =_xlfn.XLOOKUP(B33,'2025 Circular'!A:A,'2025 Circular'!E:E,"",0) -> 16.35 | M33: =EXACT(C33,K33) -> TRUE | N33: =(K33-J33)/J33 -> 0.032003665 | O33: =(G33-SUM(ROUND($J33*1.075,0)/52.143)/37)/(SUM(ROUND($J33*1.075,0)/52.143)/37) -> 0.031992938
B34: 19 | C34: 32061 | D34: =ROUND((C34*1.075),0) -> 34466 | E34: =D34/12 -> 2872.1667 | F34: =SUM(D34/52.143) -> 660.98997 | G34: =SUM($D34/52.143)/37 -> 17.864594 | H34: =SUM($D34/52.143)/37*1.1381 -> 20.331694 | J34: ='April 24'!C34 -> 31067 | K34: =_xlfn.XLOOKUP(B34,'2025 Circular'!A:A,'2025 Circular'!D:D,"",0) -> 32061 | L34: =_xlfn.XLOOKUP(B34,'2025 Circular'!A:A,'2025 Circular'!E:E,"",0) -> 16.62 | M34: =EXACT(C34,K34) -> TRUE | N34: =(K34-J34)/J34 -> 0.031995365 | O34: =(G34-SUM(ROUND($J34*1.075,0)/52.143)/37)/(SUM(ROUND($J34*1.075,0)/52.143)/37) -> 0.032008863
B35: 20 | C35: 32597 | D35: =ROUND((C35*1.075),0) -> 35042 | E35: =D35/12 -> 2920.1667 | F35: =SUM(D35/52.143) -> 672.03651 | G35: =SUM($D35/52.143)/37 -> 18.163149 | H35: =SUM($D35/52.143)/37*1.1381 -> 20.67148 | J35: ='April 24'!C35 -> 31586 | K35: =_xlfn.XLOOKUP(B35,'2025 Circular'!A:A,'2025 Circular'!D:D,"",0) -> 32597 | L35: =_xlfn.XLOOKUP(B35,'2025 Circular'!A:A,'2025 Circular'!E:E,"",0) -> 16.9 | M35: =EXACT(C35,K35) -> TRUE | N35: =(K35-J35)/J35 -> 0.032007852 | O35: =(G35-SUM(ROUND($J35*1.075,0)/52.143)/37)/(SUM(ROUND($J35*1.075,0)/52.143)/37) -> 0.032012958
B36: 21 | C36: 33143 | D36: =ROUND((C36*1.075),0) -> 35629 | E36: =D36/12 -> 2969.0833 | F36: =SUM(D36/52.143) -> 683.29402 | G36: =SUM($D36/52.143)/37 -> 18.467406 | H36: =SUM($D36/52.143)/37*1.1381 -> 21.017755 | J36: ='April 24'!C36 -> 32115 | K36: =_xlfn.XLOOKUP(B36,'2025 Circular'!A:A,'2025 Circular'!D:D,"",0) -> 33143 | L36: =_xlfn.XLOOKUP(B36,'2025 Circular'!A:A,'2025 Circular'!E:E,"",0) -> 17.18 | M36: =EXACT(C36,K36) -> TRUE | N36: =(K36-J36)/J36 -> 0.032009964 | O36: =(G36-SUM(ROUND($J36*1.075,0)/52.143)/37)/(SUM(ROUND($J36*1.075,0)/52.143)/37) -> 0.03200672
B37: 22 | C37: 33699 | D37: =ROUND((C37*1.075),0) -> 36226 | E37: =D37/12 -> 3018.8333 | F37: =SUM(D37/52.143) -> 694.7433 | G37: =SUM($D37/52.143)/37 -> 18.776846 | H37: =SUM($D37/52.143)/37*1.1381 -> 21.369928 | J37: ='April 24'!C37 -> 32654 | K37: =_xlfn.XLOOKUP(B37,'2025 Circular'!A:A,'2025 Circular'!D:D,"",0) -> 33699 | L37: =_xlfn.XLOOKUP(B37,'2025 Circular'!A:A,'2025 Circular'!E:E,"",0) -> 17.47 | M37: =EXACT(C37,K37) -> TRUE | N37: =(K37-J37)/J37 -> 0.032002205 | O37: =(G37-SUM(ROUND($J37*1.075,0)/52.143)/37)/(SUM(ROUND($J37*1.075,0)/52.143)/37) -> 0.031991568
B39: Midday Supervisors | E39: Total Annual | G39: Hourly | H39: Inc Hols | K39: =_xlfn.XLOOKUP(B39,'2025 Circular'!A:A,'2025 Circular'!D:D,"",0) | L39: =_xlfn.XLOOKUP(B39,'2025 Circular'!A:A,'2025 Circular'!E:E,"",0)
B40: 8 | C40: =C21 -> 26824 | D40: 729 | E40: =C40+D40 -> 27553 | G40: =E40/52.143/37 -> 14.281412 | H40: =E40/52.143/37*1.1381 -> 16.253675 | J40: ='April 24'!C40 -> 25992 | K40: =_xlfn.XLOOKUP(B40,'2025 Circular'!A:A,'2025 Circular'!D:D,"",0) -> 26824 | L40: =_xlfn.XLOOKUP(B40,'2025 Circular'!A:A,'2025 Circular'!E:E,"",0) -> 13.9 | M40: =EXACT(C40,K40) -> TRUE | N40: =(K40-J40)/J40 -> 0.032009849 | O40: =(G40-SUM(ROUND($J40+'April 24'!D40,2)/52.143)/37)/(SUM(ROUND($J40+'April 24'!D40,2)/52.143)/37) -> 0.032024871
B41: * includes local integrated allowance of 7.5%
A42: CAR ALLOWANCES
A44: All casual car users are paid same rate, irrespective of car cubic capacity.
A46: USER | B46: Miles per annum | D46: All cc's
D47: pence per mile
A49: Casual | B49: Up to | C49: 10000 | D49: 45
B50: Over | C50: 10000 | D50: 25
A53: MANAGEMENT GRADES 7 & 8 | B53: April 2025 | G53: With holiday allowance
A55: GRADE | B55: SPINAL | C55: TOTAL | D55: MONTHLY | E55: WEEKLY | F55: HOURLY
B56: POINT | C56: SALARY | D56: SALARY | E56: SALARY | F56: RATE | G56: +13.81%
C57: £ | D57: £ | E57: £ | F57: £ | G57: £
A58: 8 | B58: 1 | C58: 38316 | D58: =C58/12 -> 3193 | E58: =SUM(C58/52.143) -> 734.82538 | F58: =SUM(C58/52.143)/37 -> 19.860146 | G58: =SUM(C58*1.1381) -> 43607.44 | J58: ='April 24'!C58 -> 37128 | M58: =EXACT(C58,N58) -> FALSE | N58: =(C58-J58)/J58 -> 0.031997414 | O58: =ROUND(J58*(1+N58),0) -> 38316 | P58: =EXACT(C58,O58) -> TRUE
B59: 2 | C59: 39206 | D59: =C59/12 -> 3267.1667 | E59: =SUM(C59/52.143) -> 751.89383 | F59: =SUM(C59/52.143)/37 -> 20.321455 | G59: =SUM(C59*1.1381) -> 44620.349 | J59: ='April 24'!C59 -> 37990 | M59: =EXACT(C59,N59) -> FALSE | N59: =(C59-J59)/J59 -> 0.032008423 | O59: =ROUND(J59*(1+N59),0) -> 39206 | P59: =EXACT(C59,O59) -> TRUE
B60: 3 | C60: 40088 | D60: =C60/12 -> 3340.6667 | E60: =SUM(C60/52.143) -> 768.80885 | F60: =SUM(C60/52.143)/37 -> 20.778618 | G60: =SUM(C60*1.1381) -> 45624.153 | J60: ='April 24'!C60 -> 38845 | M60: =EXACT(C60,N60) -> FALSE | N60: =(C60-J60)/J60 -> 0.03199897 | O60: =ROUND(J60*(1+N60),0) -> 40088 | P60: =EXACT(C60,O60) -> TRUE
B61: 4 | C61: 41118 | D61: =C61/12 -> 3426.5 | E61: =SUM(C61/52.143) -> 788.56222 | F61: =SUM(C61/52.143)/37 -> 21.312493 | G61: =SUM(C61*1.1381) -> 46796.396 | J61: ='April 24'!C61 -> 39843 | M61: =EXACT(C61,N61) -> FALSE | N61: =(C61-J61)/J61 -> 0.032000602 | O61: =ROUND(J61*(1+N61),0) -> 41118 | P61: =EXACT(C61,O61) -> TRUE
B62: 5 | C62: 42152 | D62: =C62/12 -> 3512.6667 | E62: =SUM(C62/52.143) -> 808.39231 | F62: =SUM(C62/52.143)/37 -> 21.848441 | G62: =SUM(C62*1.1381) -> 47973.191 | J62: ='April 24'!C62 -> 40845 | M62: =EXACT(C62,N62) -> FALSE | N62: =(C62-J62)/J62 -> 0.031999021 | O62: =ROUND(J62*(1+N62),0) -> 42152 | P62: =EXACT(C62,O62) -> TRUE
A63: 7 | B63: 1 | C63: 42887 | D63: =C63/12 -> 3573.9167 | E63: =SUM(C63/52.143) -> 822.48816 | F63: =SUM(C63/52.143)/37 -> 22.22941 | G63: =SUM(C63*1.1381) -> 48809.695 | J63: ='April 24'!C63 -> 41557 | M63: =EXACT(C63,N63) -> FALSE | N63: =(C63-J63)/J63 -> 0.032004235 | O63: =ROUND(J63*(1+N63),0) -> 42887 | P63: =EXACT(C63,O63) -> TRUE
B64: 2 | C64: 43920 | D64: =C64/12 -> 3660 | E64: =SUM(C64/52.143) -> 842.29906 | F64: =SUM(C64/52.143)/37 -> 22.76484 | G64: =SUM(C64*1.1381) -> 49985.352 | J64: ='April 24'!C64 -> 42558 | M64: =EXACT(C64,N64) -> FALSE | N64: =(C64-J64)/J64 -> 0.032003384 | O64: =ROUND(J64*(1+N64),0) -> 43920 | P64: =EXACT(C64,O64) -> TRUE
B65: 3 | C65: 44952 | D65: =C65/12 -> 3746 | E65: =SUM(C65/52.143) -> 862.09079 | F65: =SUM(C65/52.143)/37 -> 23.299751 | G65: =SUM(C65*1.1381) -> 51159.871 | J65: ='April 24'!C65 -> 43558 | M65: =EXACT(C65,N65) -> FALSE | N65: =(C65-J65)/J65 -> 0.032003306 | O65: =ROUND(J65*(1+N65),0) -> 44952 | P65: =EXACT(C65,O65) -> TRUE
B66: 4 | C66: 45983 | D66: =C66/12 -> 3831.9167 | E66: =SUM(C66/52.143) -> 881.86334 | F66: =SUM(C66/52.143)/37 -> 23.834144 | G66: =SUM(C66*1.1381) -> 52333.252 | J66: ='April 24'!C66 -> 44557 | M66: =EXACT(C66,N66) -> FALSE | N66: =(C66-J66)/J66 -> 0.03200395 | O66: =ROUND(J66*(1+N66),0) -> 45983 | P66: =EXACT(C66,O66) -> TRUE
B67: 5 | C67: 46979 | D67: =C67/12 -> 3914.9167 | E67: =SUM(C67/52.143) -> 900.96465 | F67: =SUM(C67/52.143)/37 -> 24.350396 | G67: =SUM(C67*1.1381) -> 53466.8 | J67: ='April 24'!C67 -> 45522 | M67: =EXACT(C67,N67) -> FALSE | N67: =(C67-J67)/J67 -> 0.032006502 | O67: =ROUND(J67*(1+N67),0) -> 46979 | P67: =EXACT(C67,O67) -> TRUE
A73: MANAGEMENT GRADES | B73: April 2025
A75: Salary range
D76: Hourly Rate | E76: Hourly Rate
A77: GRADE | B77: MIN | C77: MAX | D77: MIN | E77: MAX
I78: MIN | J78: MAX | K78: MIN | L78: MAX
A79: M1+ | B79: 88709 | C79: 117571 | D79: =SUM(B79/52.143/37) -> 45.980104 | E79: =SUM(C79/52.143/37) -> 60.940003 | I79: ='April 24'!B79 -> 85958 | J79: ='April 24'!C79 -> 113925 | K79: =(B79-I79)/I79 -> 0.032004002 | L79: =(C79-J79)/J79 -> 0.032003511
A81: M1 | B81: 81497 | C81: 94480 | D81: =SUM(B81/52.143/37) -> 42.241943 | E81: =SUM(C81/52.143/37) -> 48.971358 | I81: ='April 24'!B81 -> 78970 | J81: ='April 24'!C81 -> 91550 | K81: =(B81-I81)/I81 -> 0.031999493 | L81: =(C81-J81)/J81 -> 0.032004369
A83: M2 | B83: 72941 | C83: 79654 | D83: =SUM(B83/52.143/37) -> 37.807153 | E83: =SUM(C83/52.143/37) -> 41.28667 | I83: ='April 24'!B83 -> 70679 | J83: ='April 24'!C83 -> 77184 | K83: =(B83-I83)/I83 -> 0.032003848 | L83: =(C83-J83)/J83 -> 0.032001451
A85: M3 | B85: 65421 | C85: 71239 | D85: =SUM(B85/52.143/37) -> 33.909348 | E85: =SUM(C85/52.143/37) -> 36.924964 | I85: ='April 24'!B85 -> 63392 | J85: ='April 24'!C85 -> 69030 | K85: =(B85-I85)/I85 -> 0.032007193 | L85: =(C85-J85)/J85 -> 0.032000579
A87: M4 | B87: 58386 | C87: 63653 | D87: =SUM(B87/52.143/37) -> 30.262931 | E87: =SUM(C87/52.143/37) -> 32.992949 | I87: ='April 24'!B87 -> 56576 | J87: ='April 24'!C87 -> 61679 | K87: =(B87-I87)/I87 -> 0.031992364 | L87: =(C87-J87)/J87 -> 0.03200441
A89: M5 | B89: 53498 | C89: 58199 | D89: =SUM(B89/52.143/37) -> 27.729358 | E89: =SUM(C89/52.143/37) -> 30.166004 | I89: ='April 24'!B89 -> 51839 | J89: ='April 24'!C89 -> 56394 | K89: =(B89-I89)/I89 -> 0.032002932 | L89: =(C89-J89)/J89 -> 0.032006951
A91: M6 | B91: 49285 | C91: 53342 | D91: =SUM(B91/52.143/37) -> 25.545654 | E91: =SUM(C91/52.143/37) -> 27.648499 | I91: ='April 24'!B91 -> 47757 | J91: ='April 24'!C91 -> 51688 | K91: =(B91-I91)/I91 -> 0.03199531 | L91: =(C91-J91)/J91 -> 0.03199969

Sheet 2025 Circular
A1: SCP | B1: 01-Apr-24 per annum | C1: 01-Apr-24 per hour | D1: 01-Apr-25 per annum | E1: 01-Apr-25 per hour
A2: 2 | B2: 23656 | C2: 12.26 | D2: 24413 | E2: 12.65
A3: 3 | B3: 24027 | C3: 12.45 | D3: 24796 | E3: 12.85
A4: 4 | B4: 24404 | C4: 12.65 | D4: 25185 | E4: 13.05
A5: 5 | B5: 24790 | C5: 12.85 | D5: 25583 | E5: 13.26
A6: 6 | B6: 25183 | C6: 13.05 | D6: 25989 | E6: 13.47
A7: 7 | B7: 25584 | C7: 13.26 | D7: 26403 | E7: 13.69
A8: 8 | B8: 25992 | C8: 13.47 | D8: 26824 | E8: 13.9
A9: 9 | B9: 26409 | C9: 13.69 | D9: 27254 | E9: 14.13
A10: 10 | B10: 26835 | C10: 13.91 | D10: 27694 | E10: 14.35
A11: 11 | B11: 27269 | C11: 14.13 | D11: 28142 | E11: 14.59
A12: 12 | B12: 27711 | C12: 14.36 | D12: 28598 | E12: 14.82
A13: 13 | B13: 28163 | C13: 14.6 | D13: 29064 | E13: 15.06
... A43: 43 | B43: 52805 | C43: 27.37 | D43: 54495 | E43: 28.25
